{"text_format":"1","workbook":"xlsx","n_sheets":7,"sheets":["利用方法","共通入力","氏名・出欠等","学習の記録・総合所見","調査書","推薦書","一斉印刷"],"not_rendered":{"charts":0,"images":0,"macros":1,"external_links":0,"defined_names":6,"comments":0,"pivot_tables":0},"unopened":[],"bounds":{"document_bytes":16777216,"sheet_cells":100000,"rows_first":2000,"rows_last":500,"rows_between":2000,"halvings":0,"cell_chars":16384,"cell_head_chars":4096},"cells_cut":0,"cells_raw":0,"read":"whole","date_system":"1900"}

{"sheet":"利用方法","index":0,"n_rows":70,"n_cols":36,"rows_kept":70,"cut":false,"hidden":false,"merged":[[1,0,1,24],[68,0,69,0],[57,0,58,0],[67,1,67,9],[54,0,55,0],[52,0,53,0],[3,2,3,23],[45,1,45,23],[63,0,64,0],[65,0,66,0]]}
[]
["パソコンによる「入学志願者 調査書」作成について"]
[]
[]
[null,"【１】　作成手順 （マクロを有効にして下さい）"]
[null,"　　　　・次の各シートに必要項目を入力すると「調査書」「推薦書」 が作成されます。"]
[null,"　　　　・クリックすると対応するシートに移動します。"]
[]
[]
[]
[]
[null,null,null,null,null,null,null,"この４つのシートにある番号は、出席番号でなくても構いません。"]
[]
[null,"【２】　印刷"]
[null,"　　　（お願い）　"]
[null,"　　　　　　※　「調査書」「推薦書」を 印刷する場合は「生徒募集要項」に綴じ込んである「調査書」「推薦書」用紙の裏側に"]
[null,null,null,"　お願いします。　又、印刷する際はプレビューで確認し、必要があれば保護を解除しポイント、改行等を調整 してください。"]
[null,null,"１）一人ひとり印刷 （推薦書はこの印刷方法でお願いします。）"]
[null,null,null,"シート\"調査書\"の「番号」に印刷したい生徒番号（シート\"氏名・出欠等\"の番号）を打ち込むと、その生徒の調査書データが"]
[null,null,null,"表示されます。　　",null,null,"ファイル　→　印刷　で印刷して下さい。"]
[]
[null,null,"２）一斉印刷"]
[null,null,"      シート\"一斉印刷\"で印刷範囲を指定し，「調査書 一斉印刷」をクリックすると指定した生徒全員の調査書を一斉に印刷します。 "]
[]
[]
[null,"【３】　作成にあたっての注意"]
[]
[null,"　　　１）　氏名の‘ふりがな’"]
[null,"　　　　　・　漢字で氏名を入力し確定すると自動的に入力されます。 入力どおりに表示されますので違っていたら直接入力して訂正してください。"]
[null,"　　　　　　　例）　津曲（つまがり）を‘つきょく’と入力してから漢字変換した場合は‘つきょく’と表示されます。"]
[null,"　　　　　・　直接入力すると関数が消去されますので、その欄は次から自動的には入力されなくなります。"]
[]
[null,"　　　２）　入力内容が同一である場合（試験会場・入学年月日・中学校名、卒業・卒業見込み年月日）"]
[null,"　　　　　・１番目の生徒（紫の欄）を入力するとすべての生徒分が同一内容で表示されます。　"]
[null,"　　　　　・　個別に入力する場合は、【４】の１）に従って入力して下さい。　 "]
[]
[null,"　 　 ３）　欠席等の記録"]
[null,"　　　　　・　欠席・遅刻の回数が０の場合入力する必要は有りません。調査書には入力しなくても０が表示されます。"]
[null,"        　 ・  欠席回数を入力するとその数字に置き換わります。"]
[]
[null," 　 　４）　卒業見込みについている○印　"]
[null,null,"　  　過年度卒業生については，シート\"調査書\"の「経歴」欄の 卒業見込み についている○をドラッグして 卒業 へ移動してください。"]
[]
[null,"【４】　‘調査書’シート"]
[null,"　　　１）　このシートはロックされています。　書式等変更出来ません。"]
[null,"　　 　・　書式等を変更する場合は‘ツール’→‘保護’をクリックして‘シート保護の解除’を実行してください。（パスワード不要）　\n　　 　　　※ 修正が終わりましたら保護を元に戻して次の作業に進んでください。　　　　　"]
[null,"　　　２）　内容の訂正をする場合は‘氏名・出欠等’、‘学習の記録・総合所見’等のシート上で訂正して下さい。調査書に訂正が反映されます。"]
[]
[null,"【５】　‘本校入学第一希望’について"]
[null,null,"　‘総合所見等’シートの最後に、入力する項目があります。本校第一希望の場合は、数字１を入力 してください。"]
[null,null," 　調査書に○印がつきます。  "]
[null,"鹿児島高校調査書",null,null,"     行の　挿入、削除はしないこと！！"]
["氏名\n出欠","番号","氏名","仮名","性別","学科","生年月日",null,null,"入学年月日中学校",null,null,null,"転入学年月日中学",null,null,null,"理由","卒業","年月日",null,"欠席",2,3,"備考",2,3,"遅刻",2,3,"早退",2,3,"備考",2,3]
[null,{"$f":"IF(ISBLANK(調査書!$Q$12),\"\",INDEX(氏名・出欠等!B6:B47,調査書!$Q$12))","v":""},{"$f":"IF(ISBLANK(調査書!$Q$12),\"\",INDEX(氏名・出欠等!C6:C47,調査書!$Q$12))","v":""},{"$f":"IF(ISBLANK(調査書!$Q$12),\"\",INDEX(氏名・出欠等!D6:D47,調査書!$Q$12))","v":""},{"$f":"IF(ISBLANK(調査書!$Q$12),\"\",INDEX(氏名・出欠等!F6:F47,調査書!$Q$12))","v":""},{"$f":"IF(ISBLANK(調査書!$Q$12),\"\",INDEX(氏名・出欠等!K6:K47,調査書!$Q$12))","v":""},{"$f":"IF(ISBLANK(調査書!$Q$12),\"\",INDEX(氏名・出欠等!L6:L47,調査書!$Q$12))","v":""},{"$f":"IF(ISBLANK(調査書!$Q$12),\"\",INDEX(氏名・出欠等!M6:M47,調査書!$Q$12))","v":""},{"$f":"IF(ISBLANK(調査書!$Q$12),\"\",INDEX(氏名・出欠等!N6:N47,調査書!$Q$12))","v":""},{"$f":"IF(ISBLANK(調査書!$Q$12),\"\",INDEX(氏名・出欠等!O6:O47,調査書!$Q$12))","v":""},{"$f":"IF(ISBLANK(調査書!$Q$12),\"\",INDEX(氏名・出欠等!P6:P47,調査書!$Q$12))","v":""},{"$f":"IF(ISBLANK(調査書!$Q$12),\"\",INDEX(氏名・出欠等!Q6:Q47,調査書!$Q$12))","v":""},{"$f":"IF(ISBLANK(調査書!$Q$12),\"\",INDEX(氏名・出欠等!R6:R47,調査書!$Q$12))","v":""},{"$f":"IF(ISBLANK(調査書!$Q$12),\"\",INDEX(氏名・出欠等!S6:S47,調査書!$Q$12))","v":""},{"$f":"IF(ISBLANK(調査書!$Q$12),\"\",INDEX(氏名・出欠等!T6:T47,調査書!$Q$12))","v":""},{"$f":"IF(ISBLANK(調査書!$Q$12),\"\",INDEX(氏名・出欠等!U6:U47,調査書!$Q$12))","v":""},{"$f":"IF(ISBLANK(調査書!$Q$12),\"\",INDEX(氏名・出欠等!V6:V47,調査書!$Q$12))","v":""},{"$f":"IF(ISBLANK(調査書!$Q$12),\"\",INDEX(氏名・出欠等!X6:X47,調査書!$Q$12))","v":""},{"$f":"IF(ISBLANK(調査書!$Q$12),\"\",INDEX(氏名・出欠等!Y6:Y47,調査書!$Q$12))","v":""},{"$f":"IF(ISBLANK(調査書!$Q$12),\"\",INDEX(氏名・出欠等!Z6:Z47,調査書!$Q$12))","v":""},{"$f":"IF(ISBLANK(調査書!$Q$12),\"\",INDEX(氏名・出欠等!AA6:AA47,調査書!$Q$12))","v":""},{"$f":"IF(ISBLANK(調査書!$Q$12),\"\",INDEX(氏名・出欠等!AB6:AB47,調査書!$Q$12))","v":""},{"$f":"IF(ISBLANK(調査書!$Q$12),\"\",INDEX(氏名・出欠等!AC6:AC47,調査書!$Q$12))","v":""},{"$f":"IF(ISBLANK(調査書!$Q$12),\"\",INDEX(氏名・出欠等!AD6:AD47,調査書!$Q$12))","v":""},{"$f":"IF(ISBLANK(調査書!$Q$12),\"\",INDEX(氏名・出欠等!AE6:AE47,調査書!$Q$12))","v":""},{"$f":"IF(ISBLANK(調査書!$Q$12),\"\",INDEX(氏名・出欠等!AF6:AF47,調査書!$Q$12))","v":""},{"$f":"IF(ISBLANK(調査書!$Q$12),\"\",INDEX(氏名・出欠等!AG6:AG47,調査書!$Q$12))","v":""},{"$f":"IF(ISBLANK(調査書!$Q$12),\"\",INDEX(氏名・出欠等!AH6:AH47,調査書!$Q$12))","v":""},{"$f":"IF(ISBLANK(調査書!$Q$12),\"\",INDEX(氏名・出欠等!AI6:AI47,調査書!$Q$12))","v":""},{"$f":"IF(ISBLANK(調査書!$Q$12),\"\",INDEX(氏名・出欠等!AJ6:AJ47,調査書!$Q$12))","v":""},{"$f":"IF(ISBLANK(調査書!$Q$12),\"\",INDEX(氏名・出欠等!AK6:AK47,調査書!$Q$12))","v":""},{"$f":"IF(ISBLANK(調査書!$Q$12),\"\",INDEX(氏名・出欠等!AL6:AL47,調査書!$Q$12))","v":""},{"$f":"IF(ISBLANK(調査書!$Q$12),\"\",INDEX(氏名・出欠等!AM6:AM47,調査書!$Q$12))","v":""},{"$f":"IF(ISBLANK(調査書!$Q$12),\"\",INDEX(氏名・出欠等!AN6:AN47,調査書!$Q$12))","v":""},{"$f":"IF(ISBLANK(調査書!$Q$12),\"\",INDEX(氏名・出欠等!AO6:AO47,調査書!$Q$12))","v":""},{"$f":"IF(ISBLANK(調査書!$Q$12),\"\",INDEX(氏名・出欠等!AP6:AP47,調査書!$Q$12))","v":""}]
["総合\n所見","総合","公私","私学",null,"会場"]
[null,{"$f":"IF(ISBLANK(調査書!$Q$12),\"\",INDEX(学習の記録・総合所見!V5:V46,調査書!$Q$12))","v":""},{"$f":"IF(ISBLANK(調査書!$Q$12),\"\",INDEX(学習の記録・総合所見!W5:W46,調査書!$Q$12))","v":""},{"$f":"IF(ISBLANK(調査書!$Q$12),\"\",INDEX(学習の記録・総合所見!X5:X46,調査書!$Q$12))","v":""},null,{"$f":"IF(ISBLANK(調査書!$Q$12),\"\",INDEX(氏名・出欠等!I6:I47,調査書!$Q$12))","v":""}]
[null,"学習の記録（必修）3年",null,null,null,null,null,null,null,null,"選択教科"]
[null,"国語","社会","数学","理科","外国","音楽","美術","保健","技術","国語","社会","数学","理科","音楽","美術","保健体育","技術家庭","外国語"]
[null,{"$f":"IF(ISBLANK(調査書!$Q$12),\"\",INDEX(学習の記録・総合所見!D5:D46,調査書!$Q$12))","v":""},{"$f":"IF(ISBLANK(調査書!$Q$12),\"\",INDEX(学習の記録・総合所見!E5:E46,調査書!$Q$12))","v":""},{"$f":"IF(ISBLANK(調査書!$Q$12),\"\",INDEX(学習の記録・総合所見!F5:F46,調査書!$Q$12))","v":""},{"$f":"IF(ISBLANK(調査書!$Q$12),\"\",INDEX(学習の記録・総合所見!G5:G46,調査書!$Q$12))","v":""},{"$f":"IF(ISBLANK(調査書!$Q$12),\"\",INDEX(学習の記録・総合所見!H5:H46,調査書!$Q$12))","v":""},{"$f":"IF(ISBLANK(調査書!$Q$12),\"\",INDEX(学習の記録・総合所見!I5:I46,調査書!$Q$12))","v":""},{"$f":"IF(ISBLANK(調査書!$Q$12),\"\",INDEX(学習の記録・総合所見!J5:J46,調査書!$Q$12))","v":""},{"$f":"IF(ISBLANK(調査書!$Q$12),\"\",INDEX(学習の記録・総合所見!K5:K46,調査書!$Q$12))","v":""},{"$f":"IF(ISBLANK(調査書!$Q$12),\"\",INDEX(学習の記録・総合所見!L5:L46,調査書!$Q$12))","v":""},{"$f":"IF(ISBLANK(調査書!$Q$12),\"\",INDEX(学習の記録・総合所見!M5:M46,調査書!$Q$12))","v":""},{"$f":"IF(ISBLANK(調査書!$Q$12),\"\",INDEX(学習の記録・総合所見!N5:N46,調査書!$Q$12))","v":""},{"$f":"IF(ISBLANK(調査書!$Q$12),\"\",INDEX(学習の記録・総合所見!O5:O46,調査書!$Q$12))","v":""},{"$f":"IF(ISBLANK(調査書!$Q$12),\"\",INDEX(学習の記録・総合所見!P5:P46,調査書!$Q$12))","v":""},{"$f":"IF(ISBLANK(調査書!$Q$12),\"\",INDEX(学習の記録・総合所見!Q5:Q46,調査書!$Q$12))","v":""},{"$f":"IF(ISBLANK(調査書!$Q$12),\"\",INDEX(学習の記録・総合所見!R5:R46,調査書!$Q$12))","v":""},{"$f":"IF(ISBLANK(調査書!$Q$12),\"\",INDEX(学習の記録・総合所見!S5:S46,調査書!$Q$12))","v":""},{"$f":"IF(ISBLANK(調査書!$Q$12),\"\",INDEX(学習の記録・総合所見!T5:T46,調査書!$Q$12))","v":""},{"$f":"IF(ISBLANK(調査書!$Q$12),\"\",INDEX(学習の記録・総合所見!U5:U46,調査書!$Q$12))","v":""}]
[]
[]
[]
["　","推薦書印刷"]
["氏名\n出欠","番号","氏名","仮名","性別","学科","生年月日",null,null,"入学年月日中学校",null,null,null,"転入学年月日中学",null,null,null,"理由","卒業","年月日",null,"欠席",2,3,"備考",2,3,"遅刻",2,3,"早退",2,3,"備考",2,3]
[null,{"$f":"IF(ISBLANK(推薦書!$Q$16),\"\",INDEX(氏名・出欠等!B6:B47,推薦書!$Q$16))","v":""},{"$f":"IF(ISBLANK(推薦書!$Q$16),\"\",INDEX(氏名・出欠等!C6:C47,推薦書!$Q$16))","v":""},{"$f":"IF(ISBLANK(推薦書!$Q$16),\"\",INDEX(氏名・出欠等!D6:D47,推薦書!$Q$16))","v":""},{"$f":"IF(ISBLANK(推薦書!$Q$16),\"\",INDEX(氏名・出欠等!F6:F47,推薦書!$Q$16))","v":""},{"$f":"IF(ISBLANK(推薦書!$Q$16),\"\",INDEX(氏名・出欠等!K6:K47,推薦書!$Q$16))","v":""},{"$f":"IF(ISBLANK(推薦書!$Q$16),\"\",INDEX(氏名・出欠等!L6:L47,推薦書!$Q$16))","v":""},{"$f":"IF(ISBLANK(推薦書!$Q$16),\"\",INDEX(氏名・出欠等!M6:M47,推薦書!$Q$16))","v":""},{"$f":"IF(ISBLANK(推薦書!$Q$16),\"\",INDEX(氏名・出欠等!N6:N47,推薦書!$Q$16))","v":""},{"$f":"IF(ISBLANK(推薦書!$Q$16),\"\",INDEX(氏名・出欠等!O6:O47,推薦書!$Q$16))","v":""},{"$f":"IF(ISBLANK(推薦書!$Q$16),\"\",INDEX(氏名・出欠等!P6:P47,推薦書!$Q$16))","v":""},{"$f":"IF(ISBLANK(推薦書!$Q$16),\"\",INDEX(氏名・出欠等!Q6:Q47,推薦書!$Q$16))","v":""},{"$f":"IF(ISBLANK(推薦書!$Q$16),\"\",INDEX(氏名・出欠等!R6:R47,推薦書!$Q$16))","v":""},{"$f":"IF(ISBLANK(推薦書!$Q$16),\"\",INDEX(氏名・出欠等!S6:S47,推薦書!$Q$16))","v":""},{"$f":"IF(ISBLANK(推薦書!$Q$16),\"\",INDEX(氏名・出欠等!T6:T47,推薦書!$Q$16))","v":""},{"$f":"IF(ISBLANK(推薦書!$Q$16),\"\",INDEX(氏名・出欠等!U6:U47,推薦書!$Q$16))","v":""},{"$f":"IF(ISBLANK(推薦書!$Q$16),\"\",INDEX(氏名・出欠等!V6:V47,推薦書!$Q$16))","v":""},{"$f":"IF(ISBLANK(推薦書!$Q$16),\"\",INDEX(氏名・出欠等!X6:X47,推薦書!$Q$16))","v":""},{"$f":"IF(ISBLANK(推薦書!$Q$16),\"\",INDEX(氏名・出欠等!Y6:Y47,推薦書!$Q$16))","v":""},{"$f":"IF(ISBLANK(推薦書!$Q$16),\"\",INDEX(氏名・出欠等!Z6:Z47,推薦書!$Q$16))","v":""},{"$f":"IF(ISBLANK(推薦書!$Q$16),\"\",INDEX(氏名・出欠等!AA6:AA47,推薦書!$Q$16))","v":""},{"$f":"IF(ISBLANK(推薦書!$Q$16),\"\",INDEX(氏名・出欠等!AB6:AB47,推薦書!$Q$16))","v":""},{"$f":"IF(ISBLANK(推薦書!$Q$16),\"\",INDEX(氏名・出欠等!AC6:AC47,推薦書!$Q$16))","v":""},{"$f":"IF(ISBLANK(推薦書!$Q$16),\"\",INDEX(氏名・出欠等!AD6:AD47,推薦書!$Q$16))","v":""},{"$f":"IF(ISBLANK(推薦書!$Q$16),\"\",INDEX(氏名・出欠等!AE6:AE47,推薦書!$Q$16))","v":""},{"$f":"IF(ISBLANK(推薦書!$Q$16),\"\",INDEX(氏名・出欠等!AF6:AF47,推薦書!$Q$16))","v":""},{"$f":"IF(ISBLANK(推薦書!$Q$16),\"\",INDEX(氏名・出欠等!AG6:AG47,推薦書!$Q$16))","v":""},{"$f":"IF(ISBLANK(推薦書!$Q$16),\"\",INDEX(氏名・出欠等!AH6:AH47,推薦書!$Q$16))","v":""},{"$f":"IF(ISBLANK(推薦書!$Q$16),\"\",INDEX(氏名・出欠等!AI6:AI47,推薦書!$Q$16))","v":""},{"$f":"IF(ISBLANK(推薦書!$Q$16),\"\",INDEX(氏名・出欠等!AJ6:AJ47,推薦書!$Q$16))","v":""},{"$f":"IF(ISBLANK(推薦書!$Q$16),\"\",INDEX(氏名・出欠等!AK6:AK47,推薦書!$Q$16))","v":""},{"$f":"IF(ISBLANK(推薦書!$Q$16),\"\",INDEX(氏名・出欠等!AL6:AL47,推薦書!$Q$16))","v":""},{"$f":"IF(ISBLANK(推薦書!$Q$16),\"\",INDEX(氏名・出欠等!AM6:AM47,推薦書!$Q$16))","v":""},{"$f":"IF(ISBLANK(推薦書!$Q$16),\"\",INDEX(氏名・出欠等!AN6:AN47,推薦書!$Q$16))","v":""},{"$f":"IF(ISBLANK(推薦書!$Q$16),\"\",INDEX(氏名・出欠等!AO6:AO47,推薦書!$Q$16))","v":""},{"$f":"IF(ISBLANK(推薦書!$Q$16),\"\",INDEX(氏名・出欠等!AP6:AP47,推薦書!$Q$16))","v":""}]
["総合\n所見","総合","試験"]
[null,{"$f":"IF(ISBLANK(推薦書!$Q$16),\"\",INDEX(学習の記録・総合所見!V5:V46,推薦書!$Q$16))","v":""},{"$f":"IF(ISBLANK(推薦書!$Q$16),\"\",INDEX(氏名・出欠等!G6:G47,推薦書!$Q$16))","v":""}]
[null,"学習の記録（必修）3年",null,null,null,null,null,null,null,null,"選択教科"]
[null,"国語","社会","数学","理科","外国","音楽","美術","保健","技術","国語","社会","数学","理科","音楽","美術","保健体育","技術家庭","外国語"]
[null,{"$f":"IF(ISBLANK(推薦書!$Q$16),\"\",INDEX(学習の記録・総合所見!D5:D47,推薦書!$Q$16))","v":""},{"$f":"IF(ISBLANK(推薦書!$Q$16),\"\",INDEX(学習の記録・総合所見!E5:E47,推薦書!$Q$16))","v":""},{"$f":"IF(ISBLANK(推薦書!$Q$16),\"\",INDEX(学習の記録・総合所見!F5:F47,推薦書!$Q$16))","v":""},{"$f":"IF(ISBLANK(推薦書!$Q$16),\"\",INDEX(学習の記録・総合所見!G5:G47,推薦書!$Q$16))","v":""},{"$f":"IF(ISBLANK(推薦書!$Q$16),\"\",INDEX(学習の記録・総合所見!H5:H47,推薦書!$Q$16))","v":""},{"$f":"IF(ISBLANK(推薦書!$Q$16),\"\",INDEX(学習の記録・総合所見!I5:I47,推薦書!$Q$16))","v":""},{"$f":"IF(ISBLANK(推薦書!$Q$16),\"\",INDEX(学習の記録・総合所見!J5:J47,推薦書!$Q$16))","v":""},{"$f":"IF(ISBLANK(推薦書!$Q$16),\"\",INDEX(学習の記録・総合所見!K5:K47,推薦書!$Q$16))","v":""},{"$f":"IF(ISBLANK(推薦書!$Q$16),\"\",INDEX(学習の記録・総合所見!L5:L47,推薦書!$Q$16))","v":""},{"$f":"IF(ISBLANK(推薦書!$Q$16),\"\",INDEX(学習の記録・総合所見!M5:M47,推薦書!$Q$16))","v":""},{"$f":"IF(ISBLANK(推薦書!$Q$16),\"\",INDEX(学習の記録・総合所見!N5:N47,推薦書!$Q$16))","v":""},{"$f":"IF(ISBLANK(推薦書!$Q$16),\"\",INDEX(学習の記録・総合所見!O5:O47,推薦書!$Q$16))","v":""},{"$f":"IF(ISBLANK(推薦書!$Q$16),\"\",INDEX(学習の記録・総合所見!P5:P47,推薦書!$Q$16))","v":""},{"$f":"IF(ISBLANK(推薦書!$Q$16),\"\",INDEX(学習の記録・総合所見!Q5:Q47,推薦書!$Q$16))","v":""},{"$f":"IF(ISBLANK(推薦書!$Q$16),\"\",INDEX(学習の記録・総合所見!R5:R47,推薦書!$Q$16))","v":""},{"$f":"IF(ISBLANK(推薦書!$Q$16),\"\",INDEX(学習の記録・総合所見!S5:S47,推薦書!$Q$16))","v":""},{"$f":"IF(ISBLANK(推薦書!$Q$16),\"\",INDEX(学習の記録・総合所見!T5:T47,推薦書!$Q$16))","v":""},{"$f":"IF(ISBLANK(推薦書!$Q$16),\"\",INDEX(学習の記録・総合所見!U5:U47,推薦書!$Q$16))","v":""}]

{"sheet":"共通入力","index":1,"n_rows":16,"n_cols":12,"rows_kept":16,"cut":false,"hidden":false,"merged":[[11,5,11,7],[9,5,9,7],[5,5,5,9]]}
[]
[null,"平成",30,"年度"]
[]
[null,null,"　《 共通項目を入力してください 》"]
[]
[null,null,"【１】　中学校名",null,null,"鹿児島市立　○○中学校"]
[]
[null,null,"【２】　組  ",null,null,"○","組"]
[]
[null,null,"【３】　担任(調査書記載者)氏名",null,null,"○○　○○"]
[]
[null,null,"【４】　校長氏名",null,null,"○○　○○○"]
[]
[null,null,"【５】　調査書証明日",null,null,"平成",30,"年",1,"月",6,"日"]
[]
[null,null,"【６】　鹿高推薦書記載日",null,null,"平成",30,"年",1,"月",6,"日"]

{"sheet":"氏名・出欠等","index":2,"n_rows":97,"n_cols":42,"rows_kept":97,"cut":false,"hidden":false,"merged":[[2,6,3,6],[2,7,3,7],[2,10,3,10],[2,8,3,8],[2,18,2,23],[2,11,2,13],[2,14,2,17],[2,24,2,26],[2,9,3,9],[1,33,1,41],[1,27,1,32],[2,36,2,38],[2,39,2,41],[2,30,2,32],[2,33,2,35],[2,27,2,29],[2,1,3,1],[2,3,3,3],[3,4,3,5],[2,4,2,5],[2,2,3,2]]}
[null,null,null,"の部分を入力してください。"]
[]
[null,"番号","氏　　名\nこちらに入力した\n通りにふりがな\nは出ます。","\n\nふりがな","性　別",null,"試験区分","試験会場","入学願書に記載されている\n試験会場コードを入力","受験\n学科\n番号","英数科特進コースは   １\n英数科英数コース は  ２\n普通科は   　３\n情ビ科は　 　４　を入力","生年月日",null,null,"入　　　　学",null,null,null,"転入学",null,null,null,null,null,"卒業・\n卒業見込み",null,null,"欠席日数",null,null,"備　考（欠席）",null,null,"遅刻の回数　",null,null,"早退の回数",null,null,"備　考（遅刻・早退）"]
[null,null,null,null,"男は１、\n女は２ を入力",null,null,null,null,null,null,"平成","月","日","平成","月","日","中学校名","平成","月","日","中学校名",null,"理由","平成","月","日","１年","２年","３年","１年","２年","３年","１年","２年","３年","１年","２年","３年","１年","２年","３年"]
[null,"例","津曲　花子","つまがり　はなこ",2,"女","一般推薦",1,"鹿児島高等学校",1,"英 数 科 特 進 コ ー ス",14,7,8,27,4,1,"鹿児島市立　○○中学校",null,null,null,null,"へ\n転入学",null,30,3,31,1,2,3,"風邪1","腹痛1\n風邪1","体調不良3",1,0,1,0,2,2,"体調不良1","風邪１\n腹痛１","発熱１、風邪１、腹痛１"]
[null,1,null,{"$f":"PHONETIC(C6)","v":""},null,{"$f":"IF(ISNUMBER(E6),VLOOKUP(E6,$E$61:$F$62,2,0),\"\")","v":""},null,null,{"$f":"IF(ISNUMBER(H6),VLOOKUP(H6,$E$75:$F$93,2),\"\")","v":""},null,{"$f":"IF(ISNUMBER(J6),VLOOKUP(J6,$E$64:$F$68,2,0),\"\")","v":""},null,null,null,null,null,null,null,null,null,null,null,"へ\n転入学"]
[null,2,null,{"$f":"PHONETIC(C7)","v":""},null,{"$f":"IF(ISNUMBER(E7),VLOOKUP(E7,$E$61:$F$62,2,0),\"\")","v":""},null,null,{"$f":"IF(ISNUMBER(H7),VLOOKUP(H7,$E$75:$F$93,2),\"\")","v":""},null,{"$f":"IF(ISNUMBER(J7),VLOOKUP(J7,$E$64:$F$68,2,0),\"\")","v":""},null,null,null,{"$f":"IF(ISBLANK($O$6),\"\",$O$6)","v":""},{"$f":"IF(ISBLANK($P$6),\"\",$P$6)","v":""},{"$f":"IF(ISBLANK($Q$6),\"\",$Q$6)","v":""},{"$f":"IF(ISBLANK($R$6),\"\",$R$6)","v":""},null,null,null,null,"へ\n転入学",null,{"$f":"IF(ISBLANK($Y$6),\"\",$Y$6)","v":""},{"$f":"IF(ISBLANK($Z$6),\"\",$Z$6)","v":""},{"$f":"IF(ISBLANK($AA$6),\"\",$AA$6)","v":""}]
[null,3,null,{"$f":"PHONETIC(C8)","v":""},null,"",null,null,"",null,"",null,null,null,{"$f":"IF(ISBLANK($O$6),\"\",$O$6)","v":""},{"$f":"IF(ISBLANK($P$6),\"\",$P$6)","v":""},{"$f":"IF(ISBLANK($Q$6),\"\",$Q$6)","v":""},{"$f":"IF(ISBLANK($R$6),\"\",$R$6)","v":""},null,null,null,null,"へ\n転入学",null,{"$f":"IF(ISBLANK($Y$6),\"\",$Y$6)","v":""},"",""]
[null,4,null,"",null,"",null,null,"",null,"",null,null,null,"","","","",null,null,null,null,"へ\n転入学",null,"","",""]
[null,5,null,"",null,"",null,null,"",null,"",null,null,null,"","","","",null,null,null,null,"へ\n転入学",null,"","",""]
[null,6,null,"",null,"",null,null,"",null,"",null,null,null,"","","","",null,null,null,null,"へ\n転入学",null,"","",""]
[null,7,null,"",null,"",null,null,"",null,"",null,null,null,"","","","",null,null,null,null,"へ\n転入学",null,"","",""]
[null,8,null,"",null,"",null,null,"",null,"",null,null,null,"","","","",null,null,null,null,"へ\n転入学",null,"","",""]
[null,9,null,"",null,"",null,null,"",null,"",null,null,null,"","","","",null,null,null,null,"へ\n転入学",null,"","",""]
[null,10,null,"",null,"",null,null,"",null,"",null,null,null,"","","","",null,null,null,null,"へ\n転入学",null,"","",""]
[null,11,null,"",null,"",null,null,"",null,"",null,null,null,"","","","",null,null,null,null,"へ\n転入学",null,"","",""]
[null,12,null,"",null,"",null,null,"",null,"",null,null,null,"","","","",null,null,null,null,"へ\n転入学",null,"","",""]
[null,13,null,"",null,"",null,null,"",null,"",null,null,null,"","","","",null,null,null,null,"へ\n転入学",null,"","",""]
[null,14,null,"",null,"",null,null,"",null,"",null,null,null,"","","","",null,null,null,null,"へ\n転入学",null,"","",""]
[null,15,null,"",null,"",null,null,"",null,"",null,null,null,"","","","",null,null,null,null,"へ\n転入学",null,"","",""]
[null,16,null,"",null,"",null,null,"",null,"",null,null,null,"","","","",null,null,null,null,"へ\n転入学",null,"","",""]
[null,17,null,"",null,"",null,null,"",null,"",null,null,null,"","","","",null,null,null,null,"へ\n転入学",null,"","",""]
[null,18,null,"",null,"",null,null,"",null,"",null,null,null,"","","","",null,null,null,null,"へ\n転入学",null,"","",""]
[null,19,null,"",null,"",null,null,"",null,"",null,null,null,"","","","",null,null,null,null,"へ\n転入学",null,"","",""]
[null,20,null,"",null,"",null,null,"",null,"",null,null,null,"","","","",null,null,null,null,"へ\n転入学",null,"","",""]
[null,21,null,"",null,"",null,null,"",null,"",null,null,null,"","","","",null,null,null,null,"へ\n転入学",null,"","",""]
[null,22,null,"",null,"",null,null,"",null,"",null,null,null,"","","","",null,null,null,null,"へ\n転入学",null,"","",""]
[null,23,null,"",null,"",null,null,"",null,"",null,null,null,"","","","",null,null,null,null,"へ\n転入学",null,"","",""]
[null,24,null,"",null,"",null,null,"",null,"",null,null,null,"","","","",null,null,null,null,"へ\n転入学",null,"","",""]
[null,25,null,"",null,"",null,null,"",null,"",null,null,null,"","","","",null,null,null,null,"へ\n転入学",null,"","",""]
[null,26,null,"",null,"",null,null,"",null,"",null,null,null,"","","","",null,null,null,null,"へ\n転入学",null,"","",""]
[null,27,null,"",null,"",null,null,"",null,"",null,null,null,"","","","",null,null,null,null,"へ\n転入学",null,"","",""]
[null,28,null,"",null,"",null,null,"",null,"",null,null,null,"","","","",null,null,null,null,"へ\n転入学",null,"","",""]
[null,29,null,"",null,"",null,null,"",null,"",null,null,null,"","","","",null,null,null,null,"へ\n転入学",null,"","",""]
[null,30,null,"",null,"",null,null,"",null,"",null,null,null,"","","","",null,null,null,null,"へ\n転入学",null,"","",""]
[null,31,null,"",null,"",null,null,"",null,"",null,null,null,"","","","",null,null,null,null,"へ\n転入学",null,"","",""]
[null,32,null,"",null,"",null,null,"",null,"",null,null,null,"","","","",null,null,null,null,"へ\n転入学",null,"","",""]
[null,33,null,"",null,"",null,null,"",null,"",null,null,null,"","","","",null,null,null,null,"へ\n転入学",null,"","",""]
[null,34,null,"",null,"",null,null,"",null,"",null,null,null,"","","","",null,null,null,null,"へ\n転入学",null,"","",""]
[null,35,null,"",null,"",null,null,"",null,"",null,null,null,"","","","",null,null,null,null,"へ\n転入学",null,"","",""]
[null,36,null,"",null,"",null,null,"",null,"",null,null,null,"","","","",null,null,null,null,"へ\n転入学",null,"","",""]
[null,37,null,"",null,"",null,null,"",null,"",null,null,null,"","","","",null,null,null,null,"へ\n転入学",null,"","",""]
[null,38,null,"",null,"",null,null,"",null,"",null,null,null,"","","","",null,null,null,null,"へ\n転入学",null,"","",""]
[null,39,null,"",null,"",null,null,"",null,"",null,null,null,"","","","",null,null,null,null,"へ\n転入学",null,"","",""]
[null,40,null,{"$f":"PHONETIC(C45)","v":""},null,"",null,null,"",null,"",null,null,null,"","","","",null,null,null,null,"へ\n転入学",null,"","",""]
[null,41,null,"",null,"",null,null,"",null,"",null,null,null,"","","","",null,null,null,null,"へ\n転入学",null,"","",""]
[null,42,null,{"$f":"PHONETIC(C47)","v":""},null,"",null,null,"",null,"",null,null,null,"","","","",null,null,null,null,"へ\n転入学",null,"","",""]
[]
[]
[]
[]
[]
[]
[]
[]
[]
[]
[]
[]
[]
[null,null,null,null,1,"男"]
[null,null,null,null,2,"女"]
[]
[null,null,null,null,1,"英 数 科 特 進 コ ー ス"]
[null,null,null,null,2,"英 数 科 英 数 コ ー ス"]
[null,null,null,null,3,"普通科"]
[null,null,null,null,4,"情 報 ビ ジ ネ ス 科"]
[]
[]
[]
[null,null,null,null,null,null,null,null,null,null,null,"生年月日",null,null,null,"入学",null,null,"転校"]
[null,"No","氏名","ふりがな",null,"男女",null,null,"受験学科",null,"受験学科",null,"平成","月","日","中学","平成","月","日","中学"]
[]
[]
[null,null,null,null,1,"鹿児島高等学校"]
[null,null,null,null,2,"鹿児島修学館"]
[null,null,null,null,3,"鹿児島国際大学"]
[null,null,null,null,4,"東市来"]
[null,null,null,null,5,"南さつま"]
[null,null,null,null,6,"薩摩川内"]
[null,null,null,null,7,"サン・あもり"]
[null,null,null,null,8,"天降川施設"]
[null,null,null,null,9,"加治木福祉"]
[null,null,null,null,10,"姶良"]
[null,null,null,null,11,"湧水"]
[null,null,null,null,12,"鹿屋"]
[null,null,null,null,13,"指宿"]
[null,null,null,null,14,"中種子"]
[null,null,null,null,15,"屋久島"]
[null,null,null,null,16,"奄美"]
[null,null,null,null,17,"徳之島"]
[null,null,null,null,18,"沖永良部"]
[]
[]
[null,null,null,null,"一般入試","一般入試"]
[null,null,null,null,"一般推薦","一般推薦"]
[null,null,null,null,"部活動，体育・文化活動推薦","部活動，体育・文化活動推薦"]

{"sheet":"学習の記録・総合所見","index":3,"n_rows":46,"n_cols":26,"rows_kept":46,"cut":false,"hidden":false,"merged":[[1,25,2,26],[1,2,2,2],[1,1,2,1],[1,22,1,23],[1,21,2,21]]}
[]
[null,"番号","\n氏　　名","学習の記録（評定）　　　　　　　　　　　　　　　　　　　　　　　　　　　　　　　　　　　　　　",null,null,null,null,null,null,null,null,"学習の記録（選択教科）",null,null,null,null,null,null,null,null,"総合所見及び指導上参考となる諸事項","本校第一希望\n数字の1を入力",null,null,"数字１を入力する\nと調査書に○印\n がつきます。"]
[null,null,null,"国語","社会","数学","理科","音楽","美術","保健\n体育","技術\n家庭","外国\n語","国語","社会","数学","理科","音楽","美術","保健\n体育","技術\n家庭","外国\n語",null,"公　私\n含めて","私立高校\nの 中 で"]
[null,"例","津曲　花子",2,3,4,5,2,3,4,5,2,null,null,null,5,null,3,null,null,null,"○○○部に所属し、主将として県大会優勝に貢献した。\nクラス○○委員として、その指導力を発揮しクラスをよくまとめてくれた。",1]
[null,1,{"$f":"IF(ISBLANK(氏名・出欠等!C6),\"\",氏名・出欠等!C6)","v":""}]
[null,2,{"$f":"IF(ISBLANK(氏名・出欠等!C7),\"\",氏名・出欠等!C7)","v":""}]
[null,3,{"$f":"IF(ISBLANK(氏名・出欠等!C8),\"\",氏名・出欠等!C8)","v":""}]
[null,4,{"$f":"IF(ISBLANK(氏名・出欠等!C9),\"\",氏名・出欠等!C9)","v":""}]
[null,5,{"$f":"IF(ISBLANK(氏名・出欠等!C10),\"\",氏名・出欠等!C10)","v":""}]
[null,6,{"$f":"IF(ISBLANK(氏名・出欠等!C11),\"\",氏名・出欠等!C11)","v":""}]
[null,7,{"$f":"IF(ISBLANK(氏名・出欠等!C12),\"\",氏名・出欠等!C12)","v":""}]
[null,8,{"$f":"IF(ISBLANK(氏名・出欠等!C13),\"\",氏名・出欠等!C13)","v":""}]
[null,9,{"$f":"IF(ISBLANK(氏名・出欠等!C14),\"\",氏名・出欠等!C14)","v":""}]
[null,10,{"$f":"IF(ISBLANK(氏名・出欠等!C15),\"\",氏名・出欠等!C15)","v":""}]
[null,11,{"$f":"IF(ISBLANK(氏名・出欠等!C16),\"\",氏名・出欠等!C16)","v":""}]
[null,12,{"$f":"IF(ISBLANK(氏名・出欠等!C17),\"\",氏名・出欠等!C17)","v":""}]
[null,13,{"$f":"IF(ISBLANK(氏名・出欠等!C18),\"\",氏名・出欠等!C18)","v":""}]
[null,14,{"$f":"IF(ISBLANK(氏名・出欠等!C19),\"\",氏名・出欠等!C19)","v":""}]
[null,15,{"$f":"IF(ISBLANK(氏名・出欠等!C20),\"\",氏名・出欠等!C20)","v":""}]
[null,16,{"$f":"IF(ISBLANK(氏名・出欠等!C21),\"\",氏名・出欠等!C21)","v":""}]
[null,17,{"$f":"IF(ISBLANK(氏名・出欠等!C22),\"\",氏名・出欠等!C22)","v":""}]
[null,18,{"$f":"IF(ISBLANK(氏名・出欠等!C23),\"\",氏名・出欠等!C23)","v":""}]
[null,19,{"$f":"IF(ISBLANK(氏名・出欠等!C24),\"\",氏名・出欠等!C24)","v":""}]
[null,20,{"$f":"IF(ISBLANK(氏名・出欠等!C25),\"\",氏名・出欠等!C25)","v":""}]
[null,21,{"$f":"IF(ISBLANK(氏名・出欠等!C26),\"\",氏名・出欠等!C26)","v":""}]
[null,22,{"$f":"IF(ISBLANK(氏名・出欠等!C27),\"\",氏名・出欠等!C27)","v":""}]
[null,23,{"$f":"IF(ISBLANK(氏名・出欠等!C28),\"\",氏名・出欠等!C28)","v":""}]
[null,24,{"$f":"IF(ISBLANK(氏名・出欠等!C29),\"\",氏名・出欠等!C29)","v":""}]
[null,25,{"$f":"IF(ISBLANK(氏名・出欠等!C30),\"\",氏名・出欠等!C30)","v":""}]
[null,26,{"$f":"IF(ISBLANK(氏名・出欠等!C31),\"\",氏名・出欠等!C31)","v":""}]
[null,27,{"$f":"IF(ISBLANK(氏名・出欠等!C32),\"\",氏名・出欠等!C32)","v":""}]
[null,28,{"$f":"IF(ISBLANK(氏名・出欠等!C33),\"\",氏名・出欠等!C33)","v":""}]
[null,29,{"$f":"IF(ISBLANK(氏名・出欠等!C34),\"\",氏名・出欠等!C34)","v":""}]
[null,30,{"$f":"IF(ISBLANK(氏名・出欠等!C35),\"\",氏名・出欠等!C35)","v":""}]
[null,31,{"$f":"IF(ISBLANK(氏名・出欠等!C36),\"\",氏名・出欠等!C36)","v":""}]
[null,32,{"$f":"IF(ISBLANK(氏名・出欠等!C37),\"\",氏名・出欠等!C37)","v":""}]
[null,33,{"$f":"IF(ISBLANK(氏名・出欠等!C38),\"\",氏名・出欠等!C38)","v":""}]
[null,34,{"$f":"IF(ISBLANK(氏名・出欠等!C39),\"\",氏名・出欠等!C39)","v":""}]
[null,35,{"$f":"IF(ISBLANK(氏名・出欠等!C40),\"\",氏名・出欠等!C40)","v":""}]
[null,36,{"$f":"IF(ISBLANK(氏名・出欠等!C41),\"\",氏名・出欠等!C41)","v":""}]
[null,37,{"$f":"IF(ISBLANK(氏名・出欠等!C42),\"\",氏名・出欠等!C42)","v":""}]
[null,38,{"$f":"IF(ISBLANK(氏名・出欠等!C43),\"\",氏名・出欠等!C43)","v":""}]
[null,39,{"$f":"IF(ISBLANK(氏名・出欠等!C44),\"\",氏名・出欠等!C44)","v":""}]
[null,40,{"$f":"IF(ISBLANK(氏名・出欠等!C45),\"\",氏名・出欠等!C45)","v":""}]
[null,41,{"$f":"IF(ISBLANK(氏名・出欠等!C46),\"\",氏名・出欠等!C46)","v":""}]
[null,42,{"$f":"IF(ISBLANK(氏名・出欠等!C47),\"\",氏名・出欠等!C47)","v":""}]

{"sheet":"調査書","index":4,"n_rows":43,"n_cols":30,"rows_kept":43,"cut":false,"hidden":false,"merged":[[2,22,3,23],[2,24,3,28],[2,29,8,30],[17,11,17,22],[17,23,17,24],[17,26,17,28],[16,11,16,24],[11,28,14,28],[9,23,10,24],[11,24,14,24],[6,8,7,22],[11,25,14,25],[11,26,14,26],[10,29,14,30],[9,13,10,15],[11,13,14,15],[22,5,22,6],[20,7,20,8],[20,1,24,1],[20,2,22,2],[2,0,3,21],[11,1,11,3],[9,1,10,3],[12,4,14,12],[16,1,18,2],[9,4,10,12],[16,3,18,3],[18,11,18,22],[11,16,14,19],[9,20,10,20],[11,20,14,20],[9,16,10,19],[11,21,14,22],[11,4,11,12],[12,1,14,3],[41,27,42,27],[31,23,31,28],[32,23,32,28],[29,18,29,20],[29,21,29,22],[35,12,35,20],[29,23,29,28],[30,21,30,22],[42,22,42,26],[30,23,30,28],[31,21,31,22],[32,21,32,22],[29,7,29,17],[42,8,42,20],[40,6,40,7],[37,3,38,20],[29,1,32,2],[24,5,24,6],[25,1,27,2],[30,7,30,17],[31,7,31,17],[32,7,32,17],[31,18,31,20],[23,5,23,6],[40,9,40,10],[9,28,10,28],[9,25,10,27],[9,21,10,22],[11,27,14,27],[11,23,14,23],[30,4,30,6],[31,4,31,6],[29,4,29,6],[25,3,27,21],[35,1,35,8],[35,21,35,27],[30,18,30,20],[35,9,35,10],[32,18,32,20],[23,16,23,19],[21,13,21,14],[20,22,24,28],[22,9,22,10],[32,4,32,6],[24,12,24,15],[24,16,24,19],[20,5,20,6],[24,7,24,8],[23,7,23,8],[23,12,23,15],[24,9,24,10],[22,7,22,8],[21,17,21,18],[20,9,20,10],[23,9,23,10],[27,22,27,25],[26,26,26,28],[27,26,27,28],[20,21,22,21],[20,20,22,20],[25,22,25,28],[26,22,26,25]]}
[]
[null,"平成30年度　鹿児島高等学校入学試験"]
["                    調　査　書",null,null,null,null,null,null,null,null,null,null,null,null,null,null,null,null,null,null,null,null,null,"試験会場",null,{"$f":"利用方法!F56","v":""},null,null,null,null,"一人ひとり印刷\nの場合\n印刷したい生徒の\n番号を番号の欄に\n入力して印刷して\nください。"]
[]
[]
[]
[null,null,null,null,null,null,null,null,{"$f":"利用方法!F54","v":""}]
[null,null,null,null,null,null,null,null,null,null,null,null,null,null,null,null,null,null,null,null,null,null,null,null,null,null,null,null,"※ の欄は記入しないでください。"]
[]
[null,"中学校名",null,null,{"$f":"IF(ISBLANK(共通入力!F6),\"\",共通入力!F6)","v":"鹿児島市立　○○中学校"},null,null,null,null,null,null,null,null,"組",null,null,"番号",null,null,null,"性別","受験番号",null,"※",null,null,null,null,"番"]
[null,null,null,null,null,null,null,null,null,null,null,null,null,null,null,null,null,null,null,null,null,null,null,null,null,null,null,null,null,"一斉印刷の場合\nシート\"一斉印刷\"\nをご覧ください。"]
[null,"ふ り が な",null,null,{"$f":"利用方法!D54","v":""},null,null,null,null,null,null,null,null,{"$f":"IF(ISBLANK(共通入力!F8),\"\",共通入力!F8)","v":"○"},null,null,null,null,null,null,{"$f":"利用方法!E54","v":""},"平　成",null,{"$f":"利用方法!G54","v":""},"年",{"$f":"利用方法!H54","v":""},"月",{"$f":"利用方法!I54","v":""},"日生"]
[null,"氏　　　　名",null,null,{"$f":"利用方法!C54","v":""}]
[]
[]
[]
[null,"経　歴",null,"中学校","平成",{"$f":"利用方法!J54","v":""},"年",{"$f":"利用方法!K54","v":""},"月",{"$f":"利用方法!L54","v":""},"日",{"$f":"利用方法!M54","v":""},null,null,null,null,null,null,null,null,null,null,null,null,null,"入学"]
[null,null,null,null,"平成",{"$f":"利用方法!N54","v":""},"年",{"$f":"利用方法!O54","v":""},"月",{"$f":"利用方法!P54","v":""},"日",{"$f":"利用方法!Q54","v":""},null,null,null,null,null,null,null,null,null,null,null,"へ転入学",null,"理由",{"$f":"利用方法!R54","v":""}]
[null,null,null,null,"平成",{"$f":"利用方法!S54","v":""},"年",{"$f":"利用方法!T54","v":""},"月",{"$f":"利用方法!U54","v":""},"日","卒業見込み  ・  卒業  "]
[]
[null,"学習の記録","教科","国","社","数",null,"理",null,"音",null,"美",null,"保","体",null,null,"技","家",null,"外国語",null,"　・ 評定は２学期末現在で記入\n　   （卒業生は学年末）\n"]
[null,null,null,null,null,null,null,null,null,null,null,null,null,null,null,null,null,"・"]
[null,null,null,"語","会","学",null,"科",null,"楽",null,"術",null,"健","育",null,null,"術","庭"]
[null,null,"必修",{"$f":"利用方法!B59","v":""},{"$f":"利用方法!C59","v":""},{"$f":"利用方法!D59","v":""},null,{"$f":"利用方法!E59","v":""},null,{"$f":"利用方法!F59","v":""},null,{"$f":"利用方法!G59","v":""},{"$f":"利用方法!H59","v":""},null,null,null,{"$f":"利用方法!I59","v":""},null,null,null,{"$f":"利用方法!J59","v":""}]
[null,null,"選択",{"$f":"利用方法!K59","v":""},{"$f":"利用方法!L59","v":""},{"$f":"利用方法!M59","v":""},null,{"$f":"利用方法!N59","v":""},null,{"$f":"利用方法!O59","v":""},null,{"$f":"利用方法!P59","v":""},{"$f":"利用方法!Q59","v":""},null,null,null,{"$f":"利用方法!R59","v":""},null,null,null,{"$f":"利用方法!S59","v":""}]
[null,"　参考となる諸事項\n　総合所見及び指導上",null,{"$f":"利用方法!B56","v":""},null,null,null,null,null,null,null,null,null,null,null,null,null,null,null,null,null,null,"鹿児島高校入学が第一希望の場合\n下欄に○印をつけてください。\n（入学を保証するものではありません）"]
[null,null,null,null,null,null,null,null,null,null,null,null,null,null,null,null,null,null,null,null,null,null,"公立・私立高校の中で\n鹿児島高校入学が\n第一希望",null,null,null,{"$f":"IF((利用方法!C56)=1,\"○\",\"\")","v":""}]
[null,null,null,null,null,null,null,null,null,null,null,null,null,null,null,null,null,null,null,null,null,null,"私立高校の中では\n鹿児島高校入学が\n第一希望",null,null,null,{"$f":"IF((利用方法!D56=1),\"○\",\"\")","v":""}]
[]
[null,"欠席等の記録",null,"学年","欠席日数",null,null,"欠　席　の　主　な　理　由",null,null,null,null,null,null,null,null,null,null,"遅刻の回数",null,null,"早退の回数",null,"遅刻  ・ 早退の主な理由"]
[null,null,null,1,{"$f":"利用方法!V54","v":""},null,null,{"$f":"利用方法!Y54","v":""},null,null,null,null,null,null,null,null,null,null,{"$f":"利用方法!AB54","v":""},null,null,{"$f":"利用方法!AE54","v":""},null,{"$f":"利用方法!AH54","v":""}]
[null,null,null,2,{"$f":"利用方法!W54","v":""},null,null,{"$f":"利用方法!Z54","v":""},null,null,null,null,null,null,null,null,null,null,{"$f":"利用方法!AC54","v":""},null,null,{"$f":"利用方法!AF54","v":""},null,{"$f":"利用方法!AI54","v":""}]
[null,null,null,3,{"$f":"利用方法!X54","v":""},null,null,{"$f":"利用方法!AA54","v":""},null,null,null,null,null,null,null,null,null,null,{"$f":"利用方法!AD54","v":""},null,null,{"$f":"利用方法!AG54","v":""},null,{"$f":"利用方法!AJ54","v":""}]
[]
[]
[null,"出願者の担任氏名",null,null,null,null,null,null,null,null,null,null,null,null,null,null,null,null,null,null,null,{"$f":"IF(ISBLANK(共通入力!$F$10),\"\",共通入力!$F$10)","v":"○○　○○"},null,null,null,null,null,null,"印"]
[]
[null,null,null,"上  記  の  と  お  り  証  明  す  る"]
[]
[]
[null,null,null,"平成",{"$f":"IF(ISBLANK(共通入力!G14),\"\",共通入力!G14)","v":30},"年",{"$f":"IF(ISBLANK(共通入力!I14),\"\",共通入力!I14)","v":1},null,"月",{"$f":"IF(ISBLANK(共通入力!K14),\"\",共通入力!K14)","v":6},null,"日"]
[null,null,null,null,null,null,null,null,null,null,null,null,null,null,null,null,null,null,null,null,null,null,null,null,null,null,null,"職印"]
[null,null,null,null,null,null,null,null,{"$f":"IF(ISBLANK(共通入力!F6),\"\",共通入力!F6)","v":"鹿児島市立　○○中学校"},null,null,null,null,null,null,null,null,null,null,null,null,"校長",{"$f":"IF(ISBLANK(共通入力!F12),\"\",共通入力!F12)","v":"○○　○○○"}]

{"sheet":"推薦書","index":5,"n_rows":40,"n_cols":30,"rows_kept":40,"cut":false,"hidden":false,"merged":[[20,1,22,3],[15,4,18,12],[15,20,18,20],[15,21,18,22],[13,1,14,3],[15,1,18,3],[22,17,22,24],[13,23,14,24],[20,11,20,24],[15,16,18,19],[15,13,18,15],[13,21,14,22],[13,13,14,15],[11,18,11,21],[11,1,11,3],[11,4,11,17],[11,22,11,28],[1,2,1,27],[3,1,3,5],[4,1,4,7],[6,23,6,27],[6,21,6,22],[2,21,2,22],[44,27,45,27],[45,8,45,21],[45,22,45,26],[39,24,39,27],[39,21,39,23],[40,3,41,20],[43,6,43,7],[43,9,43,10],[39,1,39,20],[27,7,27,8],[27,16,27,19],[35,7,35,17],[35,18,35,20],[35,21,35,22],[33,7,33,17],[33,18,33,20],[33,21,33,22],[28,16,28,19],[28,9,28,10],[28,12,28,15],[33,1,36,2],[35,4,35,6],[33,4,33,6],[36,4,36,6],[36,7,36,17],[36,18,36,20],[36,21,36,22],[25,17,25,18],[36,23,36,28],[24,5,24,6],[24,7,24,8],[26,5,26,6],[26,7,26,8],[35,23,35,28],[33,23,33,28],[34,4,34,6],[34,7,34,17],[34,18,34,20],[34,21,34,22],[28,5,28,6],[28,7,28,8],[27,5,27,6],[34,23,34,28],[13,28,14,28],[15,23,18,23],[29,1,31,2],[29,3,31,28],[27,9,27,10],[27,12,27,15],[24,1,28,1],[24,2,26,2],[24,9,24,10],[24,20,26,20],[24,21,26,21],[25,13,25,14],[26,9,26,10],[24,22,28,28],[2,29,4,30],[21,11,21,22],[21,23,21,24],[21,26,21,28],[15,25,18,25],[15,26,18,26],[15,27,18,27],[15,28,18,28],[7,4,7,25],[5,21,5,28],[15,24,18,24],[13,25,14,27],[13,16,14,18],[9,11,9,21],[13,4,14,12],[13,20,14,20]]}
[null,"平成30年度　鹿児島高等学校推薦入試"]
[null,null,"推　　薦　　書"]
[null,null,null,null,null,null,null,null,null,null,null,null,null,null,null,null,null,null,null,null,null,"平成",null,{"$f":"IF(ISBLANK(共通入力!G16),\"\",共通入力!G16)","v":30},"年",{"$f":"IF(ISBLANK(共通入力!I16),\"\",共通入力!I16)","v":1},"月",{"$f":"IF(ISBLANK(共通入力!K16),\"\",共通入力!K16)","v":6},"日","一人ひとり印刷\nのみです。\n印刷したい生徒の\n番号を入力して\n印刷してください。"]
[null,"鹿児島高等学校"]
[null,"　　校長　德丸　喜代志　殿"]
[null,null,null,null,null,null,null,null,null,null,null,null,null,null,null,null,null,null,null,null,null,{"$f":"IF(ISBLANK(共通入力!F6),\"\",共通入力!F6)","v":"鹿児島市立　○○中学校"}]
[null,null,null,null,null,null,null,null,null,null,null,null,null,null,null,null,null,null,null,null,null,"校長",null,{"$f":"IF(ISBLANK(共通入力!F12),\"\",共通入力!F12)","v":"○○　○○○"},null,null,null,null,"職印"]
[]
[null,"    下記記載に相違ないので、貴校への入学適格者として推薦します。"]
[null,null,null,null,null,null,null,null,null,null,null,"記",null,null,null,null,null,null,null,null,null,null,null,null,null,null,null,null,"※ の欄は記入しないでください。"]
[null,null,null,null,null,null,null,null,null,null,null,null,null,null,null,10]
[null,"試験区分",null,null,{"$f":"利用方法!C67","v":""},null,null,null,null,null,null,null,null,null,null,null,null,null,"受験学科",null,null,null,{"$f":"利用方法!F65","v":""}]
[]
[null,"ふりがな",null,null,{"$f":"利用方法!D65","v":""},null,null,null,null,null,null,null,null,"組",null,null,"番号",null,null,null,"性別","受験番号",null,"※",null,null,null,null,"番"]
[]
[null,"氏　　　　名",null,null,{"$f":"利用方法!C65","v":""},null,null,null,null,null,null,null,null,{"$f":"IF(ISBLANK(共通入力!F8),\"\",共通入力!F8)","v":"○"},null,null,null,null,null,null,{"$f":"利用方法!E65","v":""},"平　成",null,{"$f":"利用方法!G65","v":""},"年",{"$f":"利用方法!H65","v":""},"月",{"$f":"利用方法!I65","v":""},"日生"]
[]
[]
[]
[null,null,null,null,null,null,null,null,null,null,null,null,null,null,null,10]
[null,"経　歴",null,null,"平成",{"$f":"利用方法!J65","v":""},"年",{"$f":"利用方法!K65","v":""},"月",{"$f":"利用方法!L65","v":""},"月",{"$f":"利用方法!M65","v":""},null,null,null,null,null,null,null,null,null,null,null,null,null,"入学"]
[null,null,null,null,"平成",{"$f":"利用方法!N65","v":""},"年",{"$f":"利用方法!O65","v":""},"月",{"$f":"利用方法!P65","v":""},"日",{"$f":"利用方法!Q65","v":""},null,null,null,null,null,null,null,null,null,null,null,"へ転入学",null,"理由",{"$f":"利用方法!R65","v":""}]
[null,null,null,null,"平成",{"$f":"利用方法!S65","v":""},"年",{"$f":"利用方法!T65","v":""},"月",{"$f":"利用方法!U65","v":""},"日",null,null,null,null,null,null,"卒 業 見 込 み "]
[]
[null,"学習の記録","教科","国","社","数",null,"理",null,"音",null,"美",null,"保","体",null,null,"技","家",null,"外国語","評　定\n平均値\n(5教科)"," ・評定は２学期末現在で記入\n\n ・英数科受験の場合は評定平均値（5教科）\n 　も記入\n\n　　"]
[null,null,null,null,null,null,null,null,null,null,null,null,null,null,null,null,null,"・"]
[null,null,null,"語","会","学",null,"科",null,"楽",null,"術",null,"健","育",null,null,"術","庭"]
[null,null,"必修",{"$f":"利用方法!B70","v":""},{"$f":"利用方法!C70","v":""},{"$f":"利用方法!D70","v":""},null,{"$f":"利用方法!E70","v":""},null,{"$f":"利用方法!F70","v":""},null,{"$f":"利用方法!G70","v":""},{"$f":"利用方法!H70","v":""},null,null,null,{"$f":"利用方法!I70","v":""},null,null,null,{"$f":"利用方法!J70","v":""},{"$f":"IF(ISNUMBER(D28),(D28+E28+F28+H28+U28)/5,\"\")","v":""}]
[null,null,"選択",{"$f":"利用方法!K70","v":""},{"$f":"利用方法!L70","v":""},{"$f":"利用方法!M70","v":""},null,{"$f":"利用方法!N70","v":""},null,{"$f":"利用方法!O70","v":""},null,{"$f":"利用方法!P70","v":""},{"$f":"利用方法!Q70","v":""},null,null,null,{"$f":"利用方法!R70","v":""},null,null,null,{"$f":"利用方法!S70","v":""}]
[null,"参考となる諸事項\n総合所見及び指導上",null,{"$f":"利用方法!B67","v":""}]
[]
[]
[]
[null,"欠席等の記録",null,"学年","欠席日数",null,null,"欠　席　の　主　な　理　由",null,null,null,null,null,null,null,null,null,null,"遅刻の\n回  数",null,null,"早退の\n回  数",null,"遅刻  ・ 早退の主な理由"]
[null,null,null,1,{"$f":"利用方法!V65","v":""},null,null,{"$f":"利用方法!Y65","v":""},null,null,null,null,null,null,null,null,null,null,{"$f":"利用方法!AB65","v":""},null,null,{"$f":"利用方法!AE65","v":""},null,{"$f":"利用方法!AH65","v":""}]
[null,null,null,2,{"$f":"利用方法!W65","v":""},null,null,{"$f":"利用方法!Z65","v":""},null,null,null,null,null,null,null,null,null,null,{"$f":"利用方法!AC65","v":""},null,null,{"$f":"利用方法!AF65","v":""},null,{"$f":"利用方法!AI65","v":""}]
[null,null,null,3,{"$f":"利用方法!X65","v":""},null,null,{"$f":"利用方法!AA65","v":""},null,null,null,null,null,null,null,null,null,null,{"$f":"利用方法!AD65","v":""},null,null,{"$f":"利用方法!AG65","v":""},null,{"$f":"利用方法!AJ65","v":""}]
[]
[]
[null,"　　　　　　　　　　　　　　　　　　　　　　　　　　記　載　責　任　者",null,null,null,null,null,null,null,null,null,null,null,null,null,null,null,null,null,null,null,"担任氏名",null,null,{"$f":"IF(ISBLANK(共通入力!$F$10),\"\",共通入力!$F$10)","v":"○○　○○"},null,null,null,"印"]

{"sheet":"一斉印刷","index":6,"n_rows":23,"n_cols":8,"rows_kept":23,"cut":false,"hidden":false,"merged":[[9,1,9,3],[10,1,10,3],[11,1,11,23],[20,2,20,5],[21,7,23,12],[21,2,21,3],[21,4,21,5],[22,2,22,3],[22,4,22,5]]}
[]
[]
[]
[]
[]
[]
[]
[]
[]
[null,"印　刷"]
[null,"（お願い）　"]
[null,"　　　※　鹿高「入学志願者調査書」を印刷する場合は「生徒募集要項」に綴じ込んである「入学志願者調査書」の裏側 にお願いします。\n　　　※　印刷結果はプリンターで異なります。必ず、プレビューで確認し、必要があれば保護を解除しポイント、改行等を調整後、印刷を\n　　　　　始めてください。"]
[]
[null,null,null,null,null,null,null,"※　推薦書は‘一人ひとり印刷’で、推薦書用紙の裏に印刷をお願いします。"]
[null,null,null,"シート\"調査書\"の「番号」に印刷したい生徒番号（シート\"氏名・出欠等\"の番号）を打ち込むと、その生徒の調査書データが"]
[null,null,null,"表示されます。　　",null,null,"ファイル　→　印刷　で印刷して下さい。"]
[]
[]
[null,null,"　　　　印刷範囲で開始、終了の生徒番号を打ち込み，「調査書 一斉印刷」をクリックすると一斉に印刷します。"]
[]
[null,null,"印刷範囲"]
[null,null,"開始",null,"終了",null,null,"シート\"氏名・出欠等\"の番号を開始・\n終了それぞれに入力してください。両方入力されていないと印刷されません。"]
[null,null,1,null,3]