{"text_format":"1","workbook":"xlsx","n_sheets":9,"sheets":["利用方法","共通入力","氏名・出欠等","学習・行動の記録","総合所見等","鹿高調査書","推薦書","公立調査書","印刷"],"not_rendered":{"charts":0,"images":4,"macros":1,"external_links":0,"defined_names":3,"comments":0,"pivot_tables":0},"unopened":[],"bounds":{"document_bytes":16777216,"sheet_cells":100000,"rows_first":2000,"rows_last":500,"rows_between":2000,"halvings":0,"cell_chars":16384,"cell_head_chars":4096},"cells_cut":0,"cells_raw":0,"read":"whole","date_system":"1900"}

{"sheet":"利用方法","index":0,"n_rows":93,"n_cols":111,"rows_kept":93,"cut":false,"hidden":false,"merged":[[72,1,73,1],[86,1,87,1],[88,1,89,1],[91,1,92,1],[77,1,78,1],[79,1,80,1],[69,1,70,1],[67,1,68,1],[60,2,60,24],[1,2,1,23],[71,47,71,55],[71,65,71,73],[12,5,12,19],[3,2,3,24],[25,2,25,24],[90,47,90,55],[90,56,90,64],[90,65,90,73],[81,47,81,55],[81,56,81,64],[81,65,81,73],[71,56,71,64]]}
[]
[null,null,"パソコンによる「入学志願者 調査書」作成について"]
[]
[null,null,"※　この調査書作成システムは、必要事項を入力頂くと 「鹿児島高校調査書」だけでなく 「公立高校調査書」 作成も\n　 同時に終了するようになっています。中学校先生方の調査書作成労力緩和に少しでもお役に立てれば幸いです。"]
[null,null,"【１】　作成手順 （マクロを有効にして下さい）"]
[null,null,"　　　　・次の各シートに必要項目を入力すると「鹿高調査書」「鹿高推薦書」 及び 「公立高校調査書」が作成されます。"]
[null,null,"　　　　・クリックすると対応するシートに移動します。"]
[]
[]
[]
[]
[]
[null,null,null,null,null,"鹿高調査書・推薦書にある番号は、出席番号でなくても構いません。"]
[]
[null,null,"【２】　印刷"]
[null,null,"　　　（お願い）　"]
[null,null,null,null,"※　「鹿高調査書」「鹿高推薦書」を 印刷する場合は「生徒募集要項」に綴じ込んである「調査書」「推薦書」の裏側にお願いします。"]
[null,null,null,null,"※　印刷結果はプリンターで異なります。必ず、プレビューで確認し、必要があればポイント、改行等を調整してください。　"]
[null,null,null,"１）一人ひとり印刷 （鹿高推薦書はこの印刷方法でお願いします。）"]
[null,null,null,null,"シート”鹿高調査書”、”推薦書”の「番号」またはシート”公立調査書”の「在籍番号（学級成績一覧表番号）」に印刷したい"]
[null,null,null,null,"生徒番号を打ち込むと、その生徒の調査書データが表示されます。　　",null,null,null,null,null,null,null,null,null,null,null,null,"ファイル　→　印刷　で印刷して下さい。"]
[]
[null,null,null,"２）一斉印刷"]
[null,null,null,"      シート”印刷”にある次の「鹿高調査書 印刷」、「公立調査書 印刷」 をクリックすると"]
[null,null,null,"  　　表に在籍番号のある生徒全員の調査書を 一斉に印刷します。 印刷前に‘確認メッセージ’が出ます。　　　　"]
[null,null,"※ 印刷しない生徒の番号は消して下さい。　※ 印刷する番号の場所は変えないで下さい。（変えると印刷されません）"]
[null,null,null,null,null,null,null,null,null,null,null,null,null,"  "]
[null,null,null,1,null,null,null,5," クリック→印刷シートへ",null,null,null,10,null,null,null,null,15,null,null,null,null,20]
[null,null,null,1,2,3,4,5,6,7,8,9,10,11,12,13,14,15,16,17,18,19,20]
[null,null,null,21,22,23,24,25,26,27,28,29,30,31,32,33,34,35,36,37,38,39,40,41,42]
[null,null,null,21,null,null,null,25,null,null,null,null,30,null,null,null,null,35,null,null,null,null,40]
[]
[null,null,null,null,null,null,null,null," クリック→印刷シートへ"]
[null,null,null,1,null,null,null,5,null,null,null,null,10,null,null,null,null,15,null,null,null,null,20]
[null,null,null,1,2,3,4,5,6,7,8,9,10,11,12,13,14,15,16,17,18,19,20]
[null,null,null,21,22,23,24,25,26,27,28,29,30,31,32,33,34,35,36,37,38,39,40,41,42]
[null,null,null,21,null,null,null,25,null,null,null,null,30,null,null,null,null,35,null,null,null,null,40]
[]
[null,null,"【３】　作成にあたっての注意"]
[null,null,"　　　１）　※印のついているデータ入力項目"]
[null,null,null,"　   公立高校調査書作成に必要な項目です。"]
[]
[null,null,"　　　２）　氏名の‘ふりがな’"]
[null,null,"　　　　　・　漢字で氏名を入力し確定すると自動的に入力されます。 入力どおりに表示されますので違っていたら直接入力して訂正してください。"]
[null,null,"　　　　　　　例）　津曲（つまがり）を‘つきょく’と入力してから漢字変換した場合は‘つきょく’と表示されます。"]
[null,null,"　　　　　・　直接入力すると関数が消去されますので、次からは自動的には入力されなくなります。"]
[]
[null,null,"　　　３）　入力内容が同一である場合（試験会場・入学年月日・中学校名、卒業・卒業見込み年月日）"]
[null,null,"　　　　　・１番目の生徒を入力するとすべての生徒分が同一内容で表示されます。　"]
[null,null,"　　　　　・　個別に入力する場合は、【４】の１）に従って、それぞれ一人ひとり入力して下さい。　 "]
[]
[null,null,"　　　４）　卒業見込みについている　○　印"]
[null,null,null,"　　ドラッグして卒業に移動させることが出来ます。"]
[]
[null,null,"　　　５）　欠席等の記録"]
[null,null,"　　　　　・　欠席・遅刻の回数が０の場合入力する必要は有りません。調査書には入力しなくても０が表示されます。"]
[null,null,"          ・  欠席回数を入力するとその数字に置き換わります。"]
[]
[null,null,"【４】　シート”鹿高調査書”、”推薦書”、”公立調査書”"]
[null,null,"　　　１）　このシートはロックされています。　書式等変更出来ません。"]
[null,null,"　　 　・　書式等を変更する場合は‘ツール’→‘保護’をクリックして‘シート保護の解除’を実行してください。（パスワード不要）　\n　　  　　‘入学年月日、中学校名、卒業年月日、特に公立調査書の‘出欠備考欄’記載内容が多い生徒など’\n　　　　※ 修正が終わりましたら保護を元に戻して次の作業に進んでください。　　　　　"]
[null,null,"　　　２）　内容の訂正をする場合は‘氏名・出欠等’、‘学習・行動の記録’等のシート上で訂正して下さい。調査書に訂正が反映されます。"]
[]
[null,null,"【５】　‘本校入学第一希望’について"]
[null,null,"　　　１）　‘総合所見等’シートの最後に、入力する項目があります。本校第一希望の場合は、数字１を入力 してください。"]
[null,null,null,"　　　調査書には○印がつきます。  公立調査書の‘行動の記録’も数字1を入力すると調査書に○印がつきます。"]
[null,null,"鹿児島高校調査書",null,null,"     行の　挿入、削除はしないこと！！"]
[null,"氏名\n出欠","番号","氏名","仮名","性別","学科","生年月日",null,null,"入学年月日中学校",null,null,null,"転入学年月日中学",null,null,null,"理由","卒業","年月日",null,"欠席",2,3,"出席",2,3,"備考",2,3,"遅刻",2,3,"早退",2,3,"備考",2,3,"住所"]
[null,null,{"$f":"IF(ISBLANK(鹿高調査書!$P$12),\"\",INDEX(氏名・出欠等!B6:B47,鹿高調査書!$P$12))","v":""},{"$f":"IF(ISBLANK(鹿高調査書!$P$12),\"\",INDEX(氏名・出欠等!C6:C47,鹿高調査書!$P$12))","v":""},{"$f":"IF(ISBLANK(鹿高調査書!$P$12),\"\",INDEX(氏名・出欠等!D6:D47,鹿高調査書!$P$12))","v":""},{"$f":"IF(ISBLANK(鹿高調査書!$P$12),\"\",INDEX(氏名・出欠等!F6:F47,鹿高調査書!$P$12))","v":""},{"$f":"IF(ISBLANK(鹿高調査書!$P$12),\"\",INDEX(氏名・出欠等!K6:K47,鹿高調査書!$P$12))","v":""},{"$f":"IF(ISBLANK(鹿高調査書!$P$12),\"\",INDEX(氏名・出欠等!L6:L47,鹿高調査書!$P$12))","v":""},{"$f":"IF(ISBLANK(鹿高調査書!$P$12),\"\",INDEX(氏名・出欠等!M6:M47,鹿高調査書!$P$12))","v":""},{"$f":"IF(ISBLANK(鹿高調査書!$P$12),\"\",INDEX(氏名・出欠等!N6:N47,鹿高調査書!$P$12))","v":""},{"$f":"IF(ISBLANK(鹿高調査書!$P$12),\"\",INDEX(氏名・出欠等!O6:O47,鹿高調査書!$P$12))","v":""},{"$f":"IF(ISBLANK(鹿高調査書!$P$12),\"\",INDEX(氏名・出欠等!P6:P47,鹿高調査書!$P$12))","v":""},{"$f":"IF(ISBLANK(鹿高調査書!$P$12),\"\",INDEX(氏名・出欠等!Q6:Q47,鹿高調査書!$P$12))","v":""},{"$f":"IF(ISBLANK(鹿高調査書!$P$12),\"\",INDEX(氏名・出欠等!R6:R47,鹿高調査書!$P$12))","v":""},{"$f":"IF(ISBLANK(鹿高調査書!$P$12),\"\",INDEX(氏名・出欠等!S6:S47,鹿高調査書!$P$12))","v":""},{"$f":"IF(ISBLANK(鹿高調査書!$P$12),\"\",INDEX(氏名・出欠等!T6:T47,鹿高調査書!$P$12))","v":""},{"$f":"IF(ISBLANK(鹿高調査書!$P$12),\"\",INDEX(氏名・出欠等!U6:U47,鹿高調査書!$P$12))","v":""},{"$f":"IF(ISBLANK(鹿高調査書!$P$12),\"\",INDEX(氏名・出欠等!V6:V47,鹿高調査書!$P$12))","v":""},{"$f":"IF(ISBLANK(鹿高調査書!$P$12),\"\",INDEX(氏名・出欠等!X6:X47,鹿高調査書!$P$12))","v":""},{"$f":"IF(ISBLANK(鹿高調査書!$P$12),\"\",INDEX(氏名・出欠等!Y6:Y47,鹿高調査書!$P$12))","v":""},{"$f":"IF(ISBLANK(鹿高調査書!$P$12),\"\",INDEX(氏名・出欠等!Z6:Z47,鹿高調査書!$P$12))","v":""},{"$f":"IF(ISBLANK(鹿高調査書!$P$12),\"\",INDEX(氏名・出欠等!AA6:AA47,鹿高調査書!$P$12))","v":""},{"$f":"IF(ISBLANK(鹿高調査書!$P$12),\"\",INDEX(氏名・出欠等!AB6:AB47,鹿高調査書!$P$12))","v":""},{"$f":"IF(ISBLANK(鹿高調査書!$P$12),\"\",INDEX(氏名・出欠等!AC6:AC47,鹿高調査書!$P$12))","v":""},{"$f":"IF(ISBLANK(鹿高調査書!$P$12),\"\",INDEX(氏名・出欠等!AD6:AD47,鹿高調査書!$P$12))","v":""},{"$f":"IF(ISBLANK(鹿高調査書!$P$12),\"\",INDEX(氏名・出欠等!AE6:AE47,鹿高調査書!$P$12))","v":""},{"$f":"IF(ISBLANK(鹿高調査書!$P$12),\"\",INDEX(氏名・出欠等!AF6:AF47,鹿高調査書!$P$12))","v":""},{"$f":"IF(ISBLANK(鹿高調査書!$P$12),\"\",INDEX(氏名・出欠等!AG6:AG47,鹿高調査書!$P$12))","v":""},{"$f":"IF(ISBLANK(鹿高調査書!$P$12),\"\",INDEX(氏名・出欠等!AH6:AH47,鹿高調査書!$P$12))","v":""},{"$f":"IF(ISBLANK(鹿高調査書!$P$12),\"\",INDEX(氏名・出欠等!AI6:AI47,鹿高調査書!$P$12))","v":""},{"$f":"IF(ISBLANK(鹿高調査書!$P$12),\"\",INDEX(氏名・出欠等!AJ6:AJ47,鹿高調査書!$P$12))","v":""},{"$f":"IF(ISBLANK(鹿高調査書!$P$12),\"\",INDEX(氏名・出欠等!AK6:AK47,鹿高調査書!$P$12))","v":""},{"$f":"IF(ISBLANK(鹿高調査書!$P$12),\"\",INDEX(氏名・出欠等!AL6:AL47,鹿高調査書!$P$12))","v":""},{"$f":"IF(ISBLANK(鹿高調査書!$P$12),\"\",INDEX(氏名・出欠等!AM6:AM47,鹿高調査書!$P$12))","v":""},{"$f":"IF(ISBLANK(鹿高調査書!$P$12),\"\",INDEX(氏名・出欠等!AN6:AN47,鹿高調査書!$P$12))","v":""},{"$f":"IF(ISBLANK(鹿高調査書!$P$12),\"\",INDEX(氏名・出欠等!AO6:AO47,鹿高調査書!$P$12))","v":""},{"$f":"IF(ISBLANK(鹿高調査書!$P$12),\"\",INDEX(氏名・出欠等!AP6:AP47,鹿高調査書!$P$12))","v":""},{"$f":"IF(ISBLANK(鹿高調査書!$P$12),\"\",INDEX(氏名・出欠等!AQ6:AQ47,鹿高調査書!$P$12))","v":""},{"$f":"IF(ISBLANK(鹿高調査書!$P$12),\"\",INDEX(氏名・出欠等!AR6:AR47,鹿高調査書!$P$12))","v":""},{"$f":"IF(ISBLANK(鹿高調査書!$P$12),\"\",INDEX(氏名・出欠等!AS6:AS47,鹿高調査書!$P$12))","v":""},{"$f":"IF(ISBLANK(鹿高調査書!$P$12),\"\",INDEX(氏名・出欠等!AT6:AT47,鹿高調査書!$P$12))","v":""}]
[null,"総合\n所見","総合","1年","2年","3年","公私","私学",null,"受験会場"]
[null,null,{"$f":"IF(ISBLANK(鹿高調査書!$P$12),\"\",INDEX(総合所見等!D6:D47,鹿高調査書!$P$12))","v":""},{"$f":"IF(ISBLANK(鹿高調査書!$P$12),\"\",INDEX(総合所見等!E6:E47,鹿高調査書!$P$12))","v":""},{"$f":"IF(ISBLANK(鹿高調査書!$P$12),\"\",INDEX(総合所見等!F6:F47,鹿高調査書!$P$12))","v":""},{"$f":"IF(ISBLANK(鹿高調査書!$P$12),\"\",INDEX(総合所見等!G6:G47,鹿高調査書!$P$12))","v":""},{"$f":"IF(ISBLANK(鹿高調査書!$P$12),\"\",INDEX(総合所見等!H6:H47,鹿高調査書!$P$12))","v":""},{"$f":"IF(ISBLANK(鹿高調査書!$P$12),\"\",INDEX(総合所見等!I6:I47,鹿高調査書!$P$12))","v":""},null,{"$f":"IF(ISBLANK(鹿高調査書!$P$12),\"\",INDEX(氏名・出欠等!I6:I47,鹿高調査書!$P$12))","v":""}]
[null,null,"学習行動の記録(観点別）",null,null,null,null,null,null,null,null,null,null,null,null,null,null,null,null,null,null,null,null,null,null,null,null,null,null,null,null,null,null,null,null,null,null,null,null,null,null,null,null,null,null,null,null,"学習の記録（必修）　　　1年",null,null,null,null,null,null,null,null,"2年",null,null,null,null,null,null,null,null,"3年",null,null,null,null,null,null,null,null,"選択教科",null,null,null,null,null,null,null,null,null,null,null,null,null,null,null,null,null,null,null,null,null,null,null,null,null,null,"行動の記録"]
[null,null,"国語",2,3,4,5,"社会",2,3,4,5,"数学",2,3,4,5,"理科",2,3,4,5,"外国語",2,3,4,5,"音楽",2,3,4,5,"美術",2,3,4,5,"保健体育",2,3,4,5,"技術家庭",2,3,4,5,"国語","社会","数学","理科","外国","音楽","美術","保健","技術","国語","社会","数学","理科","外国","音楽","美術","保健","技術","国語","社会","数学","理科","外国","音楽","美術","保健","技術","国語",2,3,"社会",2,3,"数学",2,3,"理科",2,3,"音楽",2,3,"美術",2,3,"保健体育",2,3,"技術家庭",2,3,"外国語",2,3,"基本","健康","自主","責任","創意","思い","生命","勤労","公正","公共心"]
[null,null,{"$f":"IF(ISBLANK(鹿高調査書!$P$12),\"\",INDEX(学習・行動の記録!D6:D47,鹿高調査書!$P$12))","v":""},{"$f":"IF(ISBLANK(鹿高調査書!$P$12),\"\",INDEX(学習・行動の記録!E6:E47,鹿高調査書!$P$12))","v":""},{"$f":"IF(ISBLANK(鹿高調査書!$P$12),\"\",INDEX(学習・行動の記録!F6:F47,鹿高調査書!$P$12))","v":""},{"$f":"IF(ISBLANK(鹿高調査書!$P$12),\"\",INDEX(学習・行動の記録!G6:G47,鹿高調査書!$P$12))","v":""},{"$f":"IF(ISBLANK(鹿高調査書!$P$12),\"\",INDEX(学習・行動の記録!H6:H47,鹿高調査書!$P$12))","v":""},{"$f":"IF(ISBLANK(鹿高調査書!$P$12),\"\",INDEX(学習・行動の記録!I6:I47,鹿高調査書!$P$12))","v":""},{"$f":"IF(ISBLANK(鹿高調査書!$P$12),\"\",INDEX(学習・行動の記録!J6:J47,鹿高調査書!$P$12))","v":""},{"$f":"IF(ISBLANK(鹿高調査書!$P$12),\"\",INDEX(学習・行動の記録!K6:K47,鹿高調査書!$P$12))","v":""},{"$f":"IF(ISBLANK(鹿高調査書!$P$12),\"\",INDEX(学習・行動の記録!L6:L47,鹿高調査書!$P$12))","v":""},{"$f":"IF(ISBLANK(鹿高調査書!$P$12),\"\",INDEX(学習・行動の記録!M6:M47,鹿高調査書!$P$12))","v":""},{"$f":"IF(ISBLANK(鹿高調査書!$P$12),\"\",INDEX(学習・行動の記録!N6:N47,鹿高調査書!$P$12))","v":""},{"$f":"IF(ISBLANK(鹿高調査書!$P$12),\"\",INDEX(学習・行動の記録!O6:O47,鹿高調査書!$P$12))","v":""},{"$f":"IF(ISBLANK(鹿高調査書!$P$12),\"\",INDEX(学習・行動の記録!P6:P47,鹿高調査書!$P$12))","v":""},{"$f":"IF(ISBLANK(鹿高調査書!$P$12),\"\",INDEX(学習・行動の記録!Q6:Q47,鹿高調査書!$P$12))","v":""},{"$f":"IF(ISBLANK(鹿高調査書!$P$12),\"\",INDEX(学習・行動の記録!R6:R47,鹿高調査書!$P$12))","v":""},{"$f":"IF(ISBLANK(鹿高調査書!$P$12),\"\",INDEX(学習・行動の記録!S6:S47,鹿高調査書!$P$12))","v":""},{"$f":"IF(ISBLANK(鹿高調査書!$P$12),\"\",INDEX(学習・行動の記録!T6:T47,鹿高調査書!$P$12))","v":""},{"$f":"IF(ISBLANK(鹿高調査書!$P$12),\"\",INDEX(学習・行動の記録!U6:U47,鹿高調査書!$P$12))","v":""},{"$f":"IF(ISBLANK(鹿高調査書!$P$12),\"\",INDEX(学習・行動の記録!V6:V47,鹿高調査書!$P$12))","v":""},{"$f":"IF(ISBLANK(鹿高調査書!$P$12),\"\",INDEX(学習・行動の記録!W6:W47,鹿高調査書!$P$12))","v":""},{"$f":"IF(ISBLANK(鹿高調査書!$P$12),\"\",INDEX(学習・行動の記録!X6:X47,鹿高調査書!$P$12))","v":""},{"$f":"IF(ISBLANK(鹿高調査書!$P$12),\"\",INDEX(学習・行動の記録!Y6:Y47,鹿高調査書!$P$12))","v":""},{"$f":"IF(ISBLANK(鹿高調査書!$P$12),\"\",INDEX(学習・行動の記録!Z6:Z47,鹿高調査書!$P$12))","v":""},{"$f":"IF(ISBLANK(鹿高調査書!$P$12),\"\",INDEX(学習・行動の記録!AA6:AA47,鹿高調査書!$P$12))","v":""},{"$f":"IF(ISBLANK(鹿高調査書!$P$12),\"\",INDEX(学習・行動の記録!AB6:AB47,鹿高調査書!$P$12))","v":""},{"$f":"IF(ISBLANK(鹿高調査書!$P$12),\"\",INDEX(学習・行動の記録!AC6:AC47,鹿高調査書!$P$12))","v":""},{"$f":"IF(ISBLANK(鹿高調査書!$P$12),\"\",INDEX(学習・行動の記録!AD6:AD47,鹿高調査書!$P$12))","v":""},{"$f":"IF(ISBLANK(鹿高調査書!$P$12),\"\",INDEX(学習・行動の記録!AE6:AE47,鹿高調査書!$P$12))","v":""},{"$f":"IF(ISBLANK(鹿高調査書!$P$12),\"\",INDEX(学習・行動の記録!AF6:AF47,鹿高調査書!$P$12))","v":""},{"$f":"IF(ISBLANK(鹿高調査書!$P$12),\"\",INDEX(学習・行動の記録!AG6:AG47,鹿高調査書!$P$12))","v":""},{"$f":"IF(ISBLANK(鹿高調査書!$P$12),\"\",INDEX(学習・行動の記録!AH6:AH47,鹿高調査書!$P$12))","v":""},{"$f":"IF(ISBLANK(鹿高調査書!$P$12),\"\",INDEX(学習・行動の記録!AI6:AI47,鹿高調査書!$P$12))","v":""},{"$f":"IF(ISBLANK(鹿高調査書!$P$12),\"\",INDEX(学習・行動の記録!AJ6:AJ47,鹿高調査書!$P$12))","v":""},{"$f":"IF(ISBLANK(鹿高調査書!$P$12),\"\",INDEX(学習・行動の記録!AK6:AK47,鹿高調査書!$P$12))","v":""},{"$f":"IF(ISBLANK(鹿高調査書!$P$12),\"\",INDEX(学習・行動の記録!AL6:AL47,鹿高調査書!$P$12))","v":""},{"$f":"IF(ISBLANK(鹿高調査書!$P$12),\"\",INDEX(学習・行動の記録!AM6:AM47,鹿高調査書!$P$12))","v":""},{"$f":"IF(ISBLANK(鹿高調査書!$P$12),\"\",INDEX(学習・行動の記録!AN6:AN47,鹿高調査書!$P$12))","v":""},{"$f":"IF(ISBLANK(鹿高調査書!$P$12),\"\",INDEX(学習・行動の記録!AO6:AO47,鹿高調査書!$P$12))","v":""},{"$f":"IF(ISBLANK(鹿高調査書!$P$12),\"\",INDEX(学習・行動の記録!AP6:AP47,鹿高調査書!$P$12))","v":""},{"$f":"IF(ISBLANK(鹿高調査書!$P$12),\"\",INDEX(学習・行動の記録!AQ6:AQ47,鹿高調査書!$P$12))","v":""},{"$f":"IF(ISBLANK(鹿高調査書!$P$12),\"\",INDEX(学習・行動の記録!AR6:AR47,鹿高調査書!$P$12))","v":""},{"$f":"IF(ISBLANK(鹿高調査書!$P$12),\"\",INDEX(学習・行動の記録!AS6:AS47,鹿高調査書!$P$12))","v":""},{"$f":"IF(ISBLANK(鹿高調査書!$P$12),\"\",INDEX(学習・行動の記録!AT6:AT47,鹿高調査書!$P$12))","v":""},{"$f":"IF(ISBLANK(鹿高調査書!$P$12),\"\",INDEX(学習・行動の記録!AU6:AU47,鹿高調査書!$P$12))","v":""},{"$f":"IF(ISBLANK(鹿高調査書!$P$12),\"\",INDEX(学習・行動の記録!AV6:AV47,鹿高調査書!$P$12))","v":""},{"$f":"IF(ISBLANK(鹿高調査書!$P$12),\"\",INDEX(学習・行動の記録!AW6:AW47,鹿高調査書!$P$12))","v":""},{"$f":"IF(ISBLANK(鹿高調査書!$P$12),\"\",INDEX(学習・行動の記録!AX6:AX47,鹿高調査書!$P$12))","v":""},{"$f":"IF(ISBLANK(鹿高調査書!$P$12),\"\",INDEX(学習・行動の記録!AY6:AY47,鹿高調査書!$P$12))","v":""},{"$f":"IF(ISBLANK(鹿高調査書!$P$12),\"\",INDEX(学習・行動の記録!AZ6:AZ47,鹿高調査書!$P$12))","v":""},{"$f":"IF(ISBLANK(鹿高調査書!$P$12),\"\",INDEX(学習・行動の記録!BA6:BA47,鹿高調査書!$P$12))","v":""},{"$f":"IF(ISBLANK(鹿高調査書!$P$12),\"\",INDEX(学習・行動の記録!BB6:BB47,鹿高調査書!$P$12))","v":""},{"$f":"IF(ISBLANK(鹿高調査書!$P$12),\"\",INDEX(学習・行動の記録!BC6:BC47,鹿高調査書!$P$12))","v":""},{"$f":"IF(ISBLANK(鹿高調査書!$P$12),\"\",INDEX(学習・行動の記録!BD6:BD47,鹿高調査書!$P$12))","v":""},{"$f":"IF(ISBLANK(鹿高調査書!$P$12),\"\",INDEX(学習・行動の記録!BE6:BE47,鹿高調査書!$P$12))","v":""},{"$f":"IF(ISBLANK(鹿高調査書!$P$12),\"\",INDEX(学習・行動の記録!BF6:BF47,鹿高調査書!$P$12))","v":""},{"$f":"IF(ISBLANK(鹿高調査書!$P$12),\"\",INDEX(学習・行動の記録!BG6:BG47,鹿高調査書!$P$12))","v":""},{"$f":"IF(ISBLANK(鹿高調査書!$P$12),\"\",INDEX(学習・行動の記録!BH6:BH47,鹿高調査書!$P$12))","v":""},{"$f":"IF(ISBLANK(鹿高調査書!$P$12),\"\",INDEX(学習・行動の記録!BI6:BI47,鹿高調査書!$P$12))","v":""},{"$f":"IF(ISBLANK(鹿高調査書!$P$12),\"\",INDEX(学習・行動の記録!BJ6:BJ47,鹿高調査書!$P$12))","v":""},{"$f":"IF(ISBLANK(鹿高調査書!$P$12),\"\",INDEX(学習・行動の記録!BK6:BK47,鹿高調査書!$P$12))","v":""},{"$f":"IF(ISBLANK(鹿高調査書!$P$12),\"\",INDEX(学習・行動の記録!BL6:BL47,鹿高調査書!$P$12))","v":""},{"$f":"IF(ISBLANK(鹿高調査書!$P$12),\"\",INDEX(学習・行動の記録!BM6:BM47,鹿高調査書!$P$12))","v":""},{"$f":"IF(ISBLANK(鹿高調査書!$P$12),\"\",INDEX(学習・行動の記録!BN6:BN47,鹿高調査書!$P$12))","v":""},{"$f":"IF(ISBLANK(鹿高調査書!$P$12),\"\",INDEX(学習・行動の記録!BO6:BO47,鹿高調査書!$P$12))","v":""},{"$f":"IF(ISBLANK(鹿高調査書!$P$12),\"\",INDEX(学習・行動の記録!BP6:BP47,鹿高調査書!$P$12))","v":""},{"$f":"IF(ISBLANK(鹿高調査書!$P$12),\"\",INDEX(学習・行動の記録!BQ6:BQ47,鹿高調査書!$P$12))","v":""},{"$f":"IF(ISBLANK(鹿高調査書!$P$12),\"\",INDEX(学習・行動の記録!BR6:BR47,鹿高調査書!$P$12))","v":""},{"$f":"IF(ISBLANK(鹿高調査書!$P$12),\"\",INDEX(学習・行動の記録!BS6:BS47,鹿高調査書!$P$12))","v":""},{"$f":"IF(ISBLANK(鹿高調査書!$P$12),\"\",INDEX(学習・行動の記録!BT6:BT47,鹿高調査書!$P$12))","v":""},{"$f":"IF(ISBLANK(鹿高調査書!$P$12),\"\",INDEX(学習・行動の記録!BU6:BU47,鹿高調査書!$P$12))","v":""},{"$f":"IF(ISBLANK(鹿高調査書!$P$12),\"\",INDEX(学習・行動の記録!BV6:BV47,鹿高調査書!$P$12))","v":""},{"$f":"IF(ISBLANK(鹿高調査書!$P$12),\"\",INDEX(学習・行動の記録!BW6:BW47,鹿高調査書!$P$12))","v":""},{"$f":"IF(ISBLANK(鹿高調査書!$P$12),\"\",INDEX(学習・行動の記録!BX6:BX47,鹿高調査書!$P$12))","v":""},{"$f":"IF(ISBLANK(鹿高調査書!$P$12),\"\",INDEX(学習・行動の記録!BY6:BY47,鹿高調査書!$P$12))","v":""},{"$f":"IF(ISBLANK(鹿高調査書!$P$12),\"\",INDEX(学習・行動の記録!BZ6:BZ47,鹿高調査書!$P$12))","v":""},{"$f":"IF(ISBLANK(鹿高調査書!$P$12),\"\",INDEX(学習・行動の記録!CA6:CA47,鹿高調査書!$P$12))","v":""},{"$f":"IF(ISBLANK(鹿高調査書!$P$12),\"\",INDEX(学習・行動の記録!CB6:CB47,鹿高調査書!$P$12))","v":""},{"$f":"IF(ISBLANK(鹿高調査書!$P$12),\"\",INDEX(学習・行動の記録!CC6:CC47,鹿高調査書!$P$12))","v":""},{"$f":"IF(ISBLANK(鹿高調査書!$P$12),\"\",INDEX(学習・行動の記録!CD6:CD47,鹿高調査書!$P$12))","v":""},{"$f":"IF(ISBLANK(鹿高調査書!$P$12),\"\",INDEX(学習・行動の記録!CE6:CE47,鹿高調査書!$P$12))","v":""},{"$f":"IF(ISBLANK(鹿高調査書!$P$12),\"\",INDEX(学習・行動の記録!CF6:CF47,鹿高調査書!$P$12))","v":""},{"$f":"IF(ISBLANK(鹿高調査書!$P$12),\"\",INDEX(学習・行動の記録!CG6:CG47,鹿高調査書!$P$12))","v":""},{"$f":"IF(ISBLANK(鹿高調査書!$P$12),\"\",INDEX(学習・行動の記録!CH6:CH47,鹿高調査書!$P$12))","v":""},{"$f":"IF(ISBLANK(鹿高調査書!$P$12),\"\",INDEX(学習・行動の記録!CI6:CI47,鹿高調査書!$P$12))","v":""},{"$f":"IF(ISBLANK(鹿高調査書!$P$12),\"\",INDEX(学習・行動の記録!CJ6:CJ47,鹿高調査書!$P$12))","v":""},{"$f":"IF(ISBLANK(鹿高調査書!$P$12),\"\",INDEX(学習・行動の記録!CK6:CK47,鹿高調査書!$P$12))","v":""},{"$f":"IF(ISBLANK(鹿高調査書!$P$12),\"\",INDEX(学習・行動の記録!CL6:CL47,鹿高調査書!$P$12))","v":""},{"$f":"IF(ISBLANK(鹿高調査書!$P$12),\"\",INDEX(学習・行動の記録!CM6:CM47,鹿高調査書!$P$12))","v":""},{"$f":"IF(ISBLANK(鹿高調査書!$P$12),\"\",INDEX(学習・行動の記録!CN6:CN47,鹿高調査書!$P$12))","v":""},{"$f":"IF(ISBLANK(鹿高調査書!$P$12),\"\",INDEX(学習・行動の記録!CO6:CO47,鹿高調査書!$P$12))","v":""},{"$f":"IF(ISBLANK(鹿高調査書!$P$12),\"\",INDEX(学習・行動の記録!CP6:CP47,鹿高調査書!$P$12))","v":""},{"$f":"IF(ISBLANK(鹿高調査書!$P$12),\"\",INDEX(学習・行動の記録!CQ6:CQ47,鹿高調査書!$P$12))","v":""},{"$f":"IF(ISBLANK(鹿高調査書!$P$12),\"\",INDEX(学習・行動の記録!CR6:CR47,鹿高調査書!$P$12))","v":""},{"$f":"IF(ISBLANK(鹿高調査書!$P$12),\"\",INDEX(学習・行動の記録!CS6:CS47,鹿高調査書!$P$12))","v":""},{"$f":"IF(ISBLANK(鹿高調査書!$P$12),\"\",INDEX(学習・行動の記録!CT6:CT47,鹿高調査書!$P$12))","v":""},{"$f":"IF(ISBLANK(鹿高調査書!$P$12),\"\",INDEX(学習・行動の記録!CU6:CU47,鹿高調査書!$P$12))","v":""},{"$f":"IF(ISBLANK(鹿高調査書!$P$12),\"\",INDEX(学習・行動の記録!CV6:CV47,鹿高調査書!$P$12))","v":""},{"$f":"IF(ISBLANK(鹿高調査書!$P$12),\"\",INDEX(学習・行動の記録!CW6:CW47,鹿高調査書!$P$12))","v":""},{"$f":"IF(ISBLANK(鹿高調査書!$P$12),\"\",INDEX(学習・行動の記録!CX6:CX47,鹿高調査書!$P$12))","v":""},{"$f":"IF(ISBLANK(鹿高調査書!$P$12),\"\",INDEX(学習・行動の記録!CY6:CY47,鹿高調査書!$P$12))","v":""},{"$f":"IF(ISBLANK(鹿高調査書!$P$12),\"\",INDEX(学習・行動の記録!CZ6:CZ47,鹿高調査書!$P$12))","v":""},{"$f":"IF(ISBLANK(鹿高調査書!$P$12),\"\",INDEX(学習・行動の記録!DA6:DA47,鹿高調査書!$P$12))","v":""},{"$f":"IF(ISBLANK(鹿高調査書!$P$12),\"\",INDEX(学習・行動の記録!DB6:DB47,鹿高調査書!$P$12))","v":""},{"$f":"IF(ISBLANK(鹿高調査書!$P$12),\"\",INDEX(学習・行動の記録!DC6:DC47,鹿高調査書!$P$12))","v":""},{"$f":"IF(ISBLANK(鹿高調査書!$P$12),\"\",INDEX(学習・行動の記録!DD6:DD47,鹿高調査書!$P$12))","v":""},{"$f":"IF(ISBLANK(鹿高調査書!$P$12),\"\",INDEX(学習・行動の記録!DE6:DE47,鹿高調査書!$P$12))","v":""},{"$f":"IF(ISBLANK(鹿高調査書!$P$12),\"\",INDEX(学習・行動の記録!DF6:DF47,鹿高調査書!$P$12))","v":""},{"$f":"IF(ISBLANK(鹿高調査書!$P$12),\"\",INDEX(学習・行動の記録!DG6:DG47,鹿高調査書!$P$12))","v":""},{"$f":"IF(ISBLANK(鹿高調査書!$P$12),\"\",INDEX(学習・行動の記録!DH6:DH47,鹿高調査書!$P$12))","v":""}]
[]
[]
[null,null,"公立高校調査書"]
[null,"氏名\n出欠","番号","氏名","仮名","性別","学科","生年月日",null,null,"入学年月日中学校",null,null,null,"転入学年月日中学",null,null,null,"理由","卒業","年月日",null,"欠席",2,3,"出席",2,3,"備考",2,3,"遅刻",2,3,"早退",2,3,"備考",2,3,"住所"]
[null,null,{"$f":"IF(ISBLANK(公立調査書!$AK$6),\"\",INDEX(氏名・出欠等!B6:B47,公立調査書!$AK$6))","v":1},{"$f":"IF(ISBLANK(公立調査書!$AK$6),\"\",INDEX(氏名・出欠等!C6:C47,公立調査書!$AK$6))","v":0},{"$f":"IF(ISBLANK(公立調査書!$AK$6),\"\",INDEX(氏名・出欠等!D6:D47,公立調査書!$AK$6))","v":""},{"$f":"IF(ISBLANK(公立調査書!$AK$6),\"\",INDEX(氏名・出欠等!F6:F47,公立調査書!$AK$6))","v":""},{"$f":"IF(ISBLANK(公立調査書!$AK$6),\"\",INDEX(氏名・出欠等!K6:K47,公立調査書!$AK$6))","v":""},{"$f":"IF(ISBLANK(公立調査書!$AK$6),\"\",INDEX(氏名・出欠等!L6:L47,公立調査書!$AK$6))","v":0},{"$f":"IF(ISBLANK(公立調査書!$AK$6),\"\",INDEX(氏名・出欠等!M6:M47,公立調査書!$AK$6))","v":0},{"$f":"IF(ISBLANK(公立調査書!$AK$6),\"\",INDEX(氏名・出欠等!N6:N47,公立調査書!$AK$6))","v":0},{"$f":"IF(ISBLANK(公立調査書!$AK$6),\"\",INDEX(氏名・出欠等!O6:O47,公立調査書!$AK$6))","v":0},{"$f":"IF(ISBLANK(公立調査書!$AK$6),\"\",INDEX(氏名・出欠等!P6:P47,公立調査書!$AK$6))","v":0},{"$f":"IF(ISBLANK(公立調査書!$AK$6),\"\",INDEX(氏名・出欠等!Q6:Q47,公立調査書!$AK$6))","v":0},{"$f":"IF(ISBLANK(公立調査書!$AK$6),\"\",INDEX(氏名・出欠等!R6:R47,公立調査書!$AK$6))","v":0},{"$f":"IF(ISBLANK(公立調査書!$AK$6),\"\",INDEX(氏名・出欠等!S6:S47,公立調査書!$AK$6))","v":0},{"$f":"IF(ISBLANK(公立調査書!$AK$6),\"\",INDEX(氏名・出欠等!T6:T47,公立調査書!$AK$6))","v":0},{"$f":"IF(ISBLANK(公立調査書!$AK$6),\"\",INDEX(氏名・出欠等!U6:U47,公立調査書!$AK$6))","v":0},{"$f":"IF(ISBLANK(公立調査書!$AK$6),\"\",INDEX(氏名・出欠等!V6:V47,公立調査書!$AK$6))","v":0},{"$f":"IF(ISBLANK(公立調査書!$AK$6),\"\",INDEX(氏名・出欠等!X6:X47,公立調査書!$AK$6))","v":0},{"$f":"IF(ISBLANK(公立調査書!$AK$6),\"\",INDEX(氏名・出欠等!Y6:Y47,公立調査書!$AK$6))","v":0},{"$f":"IF(ISBLANK(公立調査書!$AK$6),\"\",INDEX(氏名・出欠等!Z6:Z47,公立調査書!$AK$6))","v":0},{"$f":"IF(ISBLANK(公立調査書!$AK$6),\"\",INDEX(氏名・出欠等!AA6:AA47,公立調査書!$AK$6))","v":0},{"$f":"IF(ISBLANK(公立調査書!$AK$6),\"\",INDEX(氏名・出欠等!AB6:AB47,公立調査書!$AK$6))","v":0},{"$f":"IF(ISBLANK(公立調査書!$AK$6),\"\",INDEX(氏名・出欠等!AC6:AC47,公立調査書!$AK$6))","v":0},{"$f":"IF(ISBLANK(公立調査書!$AK$6),\"\",INDEX(氏名・出欠等!AD6:AD47,公立調査書!$AK$6))","v":0},{"$f":"IF(ISBLANK(公立調査書!$AK$6),\"\",INDEX(氏名・出欠等!AE6:AE47,公立調査書!$AK$6))","v":0},{"$f":"IF(ISBLANK(公立調査書!$AK$6),\"\",INDEX(氏名・出欠等!AF6:AF47,公立調査書!$AK$6))","v":0},{"$f":"IF(ISBLANK(公立調査書!$AK$6),\"\",INDEX(氏名・出欠等!AG6:AG47,公立調査書!$AK$6))","v":0},{"$f":"IF(ISBLANK(公立調査書!$AK$6),\"\",INDEX(氏名・出欠等!AH6:AH47,公立調査書!$AK$6))","v":0},{"$f":"IF(ISBLANK(公立調査書!$AK$6),\"\",INDEX(氏名・出欠等!AI6:AI47,公立調査書!$AK$6))","v":0},{"$f":"IF(ISBLANK(公立調査書!$AK$6),\"\",INDEX(氏名・出欠等!AJ6:AJ47,公立調査書!$AK$6))","v":0},{"$f":"IF(ISBLANK(公立調査書!$AK$6),\"\",INDEX(氏名・出欠等!AK6:AK47,公立調査書!$AK$6))","v":0},{"$f":"IF(ISBLANK(公立調査書!$AK$6),\"\",INDEX(氏名・出欠等!AL6:AL47,公立調査書!$AK$6))","v":0},{"$f":"IF(ISBLANK(公立調査書!$AK$6),\"\",INDEX(氏名・出欠等!AM6:AM47,公立調査書!$AK$6))","v":0},{"$f":"IF(ISBLANK(公立調査書!$AK$6),\"\",INDEX(氏名・出欠等!AN6:AN47,公立調査書!$AK$6))","v":0},{"$f":"IF(ISBLANK(公立調査書!$AK$6),\"\",INDEX(氏名・出欠等!AO6:AO47,公立調査書!$AK$6))","v":0},{"$f":"IF(ISBLANK(公立調査書!$AK$6),\"\",INDEX(氏名・出欠等!AP6:AP47,公立調査書!$AK$6))","v":0},{"$f":"IF(ISBLANK(公立調査書!$AK$6),\"\",INDEX(氏名・出欠等!AQ6:AQ47,公立調査書!$AK$6))","v":0},{"$f":"IF(ISBLANK(公立調査書!$AK$6),\"\",INDEX(氏名・出欠等!AR6:AR47,公立調査書!$AK$6))","v":0},{"$f":"IF(ISBLANK(公立調査書!$AK$6),\"\",INDEX(氏名・出欠等!AS6:AS47,公立調査書!$AK$6))","v":0},{"$f":"IF(ISBLANK(公立調査書!$AK$6),\"\",INDEX(氏名・出欠等!AT6:AT47,公立調査書!$AK$6))","v":0}]
[null,"総合\n所見","総合","1年","2年","3年"]
[null,null,{"$f":"IF(ISBLANK(公立調査書!$AK$6),\"\",INDEX(総合所見等!D6:D47,公立調査書!$AK$6))","v":0},{"$f":"IF(ISBLANK(公立調査書!$AK$6),\"\",INDEX(総合所見等!E6:E47,公立調査書!$AK$6))","v":0},{"$f":"IF(ISBLANK(公立調査書!$AK$6),\"\",INDEX(総合所見等!F6:F47,公立調査書!$AK$6))","v":0},{"$f":"IF(ISBLANK(公立調査書!$AK$6),\"\",INDEX(総合所見等!G6:G47,公立調査書!$AK$6))","v":0}]
[null,null,"学習の記録（観点別）",null,null,null,null,null,null,null,null,null,null,null,null,null,null,null,null,null,null,null,null,null,null,null,null,null,null,null,null,null,null,null,null,null,null,null,null,null,null,null,null,null,null,null,null,"学習の記録（必修）　　　1年",null,null,null,null,null,null,null,null,"2年",null,null,null,null,null,null,null,null,"3年",null,null,null,null,null,null,null,null,"選択教科",null,null,null,null,null,null,null,null,null,null,null,null,null,null,null,null,null,null,null,null,null,null,null,null,null,null,"行動の記録"]
[null,null,"国語",2,3,4,5,"社会",2,3,4,5,"数学",2,3,4,5,"理科",2,3,4,5,"外国語",2,3,4,5,"音楽",2,3,4,5,"美術",2,3,4,5,"保健体育",2,3,4,5,"技術家庭",2,3,4,5,"国語","社会","数学","理科","外国","音楽","美術","保健","技術","国語","社会","数学","理科","外国","音楽","美術","保健","技術","国語","社会","数学","理科","外国","音楽","美術","保健","技術","国語",2,3,"社会",2,3,"数学",2,3,"理科",2,3,"音楽",2,3,"美術",2,3,"保健体育",2,3,"技術家庭",2,3,"外国語",2,3,"基本","健康","自主","責任","創意","思い","生命","勤労","公正","公共心"]
[null,null,{"$f":"IF(ISBLANK(公立調査書!$AK$6),\"\",INDEX(学習・行動の記録!D6:D47,公立調査書!$AK$6))","v":0},{"$f":"IF(ISBLANK(公立調査書!$AK$6),\"\",INDEX(学習・行動の記録!E6:E47,公立調査書!$AK$6))","v":0},{"$f":"IF(ISBLANK(公立調査書!$AK$6),\"\",INDEX(学習・行動の記録!F6:F47,公立調査書!$AK$6))","v":0},{"$f":"IF(ISBLANK(公立調査書!$AK$6),\"\",INDEX(学習・行動の記録!G6:G47,公立調査書!$AK$6))","v":0},{"$f":"IF(ISBLANK(公立調査書!$AK$6),\"\",INDEX(学習・行動の記録!H6:H47,公立調査書!$AK$6))","v":0},{"$f":"IF(ISBLANK(公立調査書!$AK$6),\"\",INDEX(学習・行動の記録!I6:I47,公立調査書!$AK$6))","v":0},{"$f":"IF(ISBLANK(公立調査書!$AK$6),\"\",INDEX(学習・行動の記録!J6:J47,公立調査書!$AK$6))","v":0},{"$f":"IF(ISBLANK(公立調査書!$AK$6),\"\",INDEX(学習・行動の記録!K6:K47,公立調査書!$AK$6))","v":0},{"$f":"IF(ISBLANK(公立調査書!$AK$6),\"\",INDEX(学習・行動の記録!L6:L47,公立調査書!$AK$6))","v":0},{"$f":"IF(ISBLANK(公立調査書!$AK$6),\"\",INDEX(学習・行動の記録!M6:M47,公立調査書!$AK$6))","v":0},{"$f":"IF(ISBLANK(公立調査書!$AK$6),\"\",INDEX(学習・行動の記録!N6:N47,公立調査書!$AK$6))","v":0},{"$f":"IF(ISBLANK(公立調査書!$AK$6),\"\",INDEX(学習・行動の記録!O6:O47,公立調査書!$AK$6))","v":0},{"$f":"IF(ISBLANK(公立調査書!$AK$6),\"\",INDEX(学習・行動の記録!P6:P47,公立調査書!$AK$6))","v":0},{"$f":"IF(ISBLANK(公立調査書!$AK$6),\"\",INDEX(学習・行動の記録!Q6:Q47,公立調査書!$AK$6))","v":0},{"$f":"IF(ISBLANK(公立調査書!$AK$6),\"\",INDEX(学習・行動の記録!R6:R47,公立調査書!$AK$6))","v":0},{"$f":"IF(ISBLANK(公立調査書!$AK$6),\"\",INDEX(学習・行動の記録!S6:S47,公立調査書!$AK$6))","v":0},{"$f":"IF(ISBLANK(公立調査書!$AK$6),\"\",INDEX(学習・行動の記録!T6:T47,公立調査書!$AK$6))","v":0},{"$f":"IF(ISBLANK(公立調査書!$AK$6),\"\",INDEX(学習・行動の記録!U6:U47,公立調査書!$AK$6))","v":0},{"$f":"IF(ISBLANK(公立調査書!$AK$6),\"\",INDEX(学習・行動の記録!V6:V47,公立調査書!$AK$6))","v":0},{"$f":"IF(ISBLANK(公立調査書!$AK$6),\"\",INDEX(学習・行動の記録!W6:W47,公立調査書!$AK$6))","v":0},{"$f":"IF(ISBLANK(公立調査書!$AK$6),\"\",INDEX(学習・行動の記録!X6:X47,公立調査書!$AK$6))","v":0},{"$f":"IF(ISBLANK(公立調査書!$AK$6),\"\",INDEX(学習・行動の記録!Y6:Y47,公立調査書!$AK$6))","v":0},{"$f":"IF(ISBLANK(公立調査書!$AK$6),\"\",INDEX(学習・行動の記録!Z6:Z47,公立調査書!$AK$6))","v":0},{"$f":"IF(ISBLANK(公立調査書!$AK$6),\"\",INDEX(学習・行動の記録!AA6:AA47,公立調査書!$AK$6))","v":0},{"$f":"IF(ISBLANK(公立調査書!$AK$6),\"\",INDEX(学習・行動の記録!AB6:AB47,公立調査書!$AK$6))","v":0},{"$f":"IF(ISBLANK(公立調査書!$AK$6),\"\",INDEX(学習・行動の記録!AC6:AC47,公立調査書!$AK$6))","v":0},{"$f":"IF(ISBLANK(公立調査書!$AK$6),\"\",INDEX(学習・行動の記録!AD6:AD47,公立調査書!$AK$6))","v":0},{"$f":"IF(ISBLANK(公立調査書!$AK$6),\"\",INDEX(学習・行動の記録!AE6:AE47,公立調査書!$AK$6))","v":0},{"$f":"IF(ISBLANK(公立調査書!$AK$6),\"\",INDEX(学習・行動の記録!AF6:AF47,公立調査書!$AK$6))","v":0},{"$f":"IF(ISBLANK(公立調査書!$AK$6),\"\",INDEX(学習・行動の記録!AG6:AG47,公立調査書!$AK$6))","v":0},{"$f":"IF(ISBLANK(公立調査書!$AK$6),\"\",INDEX(学習・行動の記録!AH6:AH47,公立調査書!$AK$6))","v":0},{"$f":"IF(ISBLANK(公立調査書!$AK$6),\"\",INDEX(学習・行動の記録!AI6:AI47,公立調査書!$AK$6))","v":0},{"$f":"IF(ISBLANK(公立調査書!$AK$6),\"\",INDEX(学習・行動の記録!AJ6:AJ47,公立調査書!$AK$6))","v":0},{"$f":"IF(ISBLANK(公立調査書!$AK$6),\"\",INDEX(学習・行動の記録!AK6:AK47,公立調査書!$AK$6))","v":0},{"$f":"IF(ISBLANK(公立調査書!$AK$6),\"\",INDEX(学習・行動の記録!AL6:AL47,公立調査書!$AK$6))","v":0},{"$f":"IF(ISBLANK(公立調査書!$AK$6),\"\",INDEX(学習・行動の記録!AM6:AM47,公立調査書!$AK$6))","v":0},{"$f":"IF(ISBLANK(公立調査書!$AK$6),\"\",INDEX(学習・行動の記録!AN6:AN47,公立調査書!$AK$6))","v":0},{"$f":"IF(ISBLANK(公立調査書!$AK$6),\"\",INDEX(学習・行動の記録!AO6:AO47,公立調査書!$AK$6))","v":0},{"$f":"IF(ISBLANK(公立調査書!$AK$6),\"\",INDEX(学習・行動の記録!AP6:AP47,公立調査書!$AK$6))","v":0},{"$f":"IF(ISBLANK(公立調査書!$AK$6),\"\",INDEX(学習・行動の記録!AQ6:AQ47,公立調査書!$AK$6))","v":0},{"$f":"IF(ISBLANK(公立調査書!$AK$6),\"\",INDEX(学習・行動の記録!AR6:AR47,公立調査書!$AK$6))","v":0},{"$f":"IF(ISBLANK(公立調査書!$AK$6),\"\",INDEX(学習・行動の記録!AS6:AS47,公立調査書!$AK$6))","v":0},{"$f":"IF(ISBLANK(公立調査書!$AK$6),\"\",INDEX(学習・行動の記録!AT6:AT47,公立調査書!$AK$6))","v":0},{"$f":"IF(ISBLANK(公立調査書!$AK$6),\"\",INDEX(学習・行動の記録!AU6:AU47,公立調査書!$AK$6))","v":0},{"$f":"IF(ISBLANK(公立調査書!$AK$6),\"\",INDEX(学習・行動の記録!AV6:AV47,公立調査書!$AK$6))","v":0},{"$f":"IF(ISBLANK(公立調査書!$AK$6),\"\",INDEX(学習・行動の記録!AW6:AW47,公立調査書!$AK$6))","v":0},{"$f":"IF(ISBLANK(公立調査書!$AK$6),\"\",INDEX(学習・行動の記録!AX6:AX47,公立調査書!$AK$6))","v":0},{"$f":"IF(ISBLANK(公立調査書!$AK$6),\"\",INDEX(学習・行動の記録!AY6:AY47,公立調査書!$AK$6))","v":0},{"$f":"IF(ISBLANK(公立調査書!$AK$6),\"\",INDEX(学習・行動の記録!AZ6:AZ47,公立調査書!$AK$6))","v":0},{"$f":"IF(ISBLANK(公立調査書!$AK$6),\"\",INDEX(学習・行動の記録!BA6:BA47,公立調査書!$AK$6))","v":0},{"$f":"IF(ISBLANK(公立調査書!$AK$6),\"\",INDEX(学習・行動の記録!BB6:BB47,公立調査書!$AK$6))","v":0},{"$f":"IF(ISBLANK(公立調査書!$AK$6),\"\",INDEX(学習・行動の記録!BC6:BC47,公立調査書!$AK$6))","v":0},{"$f":"IF(ISBLANK(公立調査書!$AK$6),\"\",INDEX(学習・行動の記録!BD6:BD47,公立調査書!$AK$6))","v":0},{"$f":"IF(ISBLANK(公立調査書!$AK$6),\"\",INDEX(学習・行動の記録!BE6:BE47,公立調査書!$AK$6))","v":0},{"$f":"IF(ISBLANK(公立調査書!$AK$6),\"\",INDEX(学習・行動の記録!BF6:BF47,公立調査書!$AK$6))","v":0},{"$f":"IF(ISBLANK(公立調査書!$AK$6),\"\",INDEX(学習・行動の記録!BG6:BG47,公立調査書!$AK$6))","v":0},{"$f":"IF(ISBLANK(公立調査書!$AK$6),\"\",INDEX(学習・行動の記録!BH6:BH47,公立調査書!$AK$6))","v":0},{"$f":"IF(ISBLANK(公立調査書!$AK$6),\"\",INDEX(学習・行動の記録!BI6:BI47,公立調査書!$AK$6))","v":0},{"$f":"IF(ISBLANK(公立調査書!$AK$6),\"\",INDEX(学習・行動の記録!BJ6:BJ47,公立調査書!$AK$6))","v":0},{"$f":"IF(ISBLANK(公立調査書!$AK$6),\"\",INDEX(学習・行動の記録!BK6:BK47,公立調査書!$AK$6))","v":0},{"$f":"IF(ISBLANK(公立調査書!$AK$6),\"\",INDEX(学習・行動の記録!BL6:BL47,公立調査書!$AK$6))","v":0},{"$f":"IF(ISBLANK(公立調査書!$AK$6),\"\",INDEX(学習・行動の記録!BM6:BM47,公立調査書!$AK$6))","v":0},{"$f":"IF(ISBLANK(公立調査書!$AK$6),\"\",INDEX(学習・行動の記録!BN6:BN47,公立調査書!$AK$6))","v":0},{"$f":"IF(ISBLANK(公立調査書!$AK$6),\"\",INDEX(学習・行動の記録!BO6:BO47,公立調査書!$AK$6))","v":0},{"$f":"IF(ISBLANK(公立調査書!$AK$6),\"\",INDEX(学習・行動の記録!BP6:BP47,公立調査書!$AK$6))","v":0},{"$f":"IF(ISBLANK(公立調査書!$AK$6),\"\",INDEX(学習・行動の記録!BQ6:BQ47,公立調査書!$AK$6))","v":0},{"$f":"IF(ISBLANK(公立調査書!$AK$6),\"\",INDEX(学習・行動の記録!BR6:BR47,公立調査書!$AK$6))","v":0},{"$f":"IF(ISBLANK(公立調査書!$AK$6),\"\",INDEX(学習・行動の記録!BS6:BS47,公立調査書!$AK$6))","v":0},{"$f":"IF(ISBLANK(公立調査書!$AK$6),\"\",INDEX(学習・行動の記録!BT6:BT47,公立調査書!$AK$6))","v":0},{"$f":"IF(ISBLANK(公立調査書!$AK$6),\"\",INDEX(学習・行動の記録!BU6:BU47,公立調査書!$AK$6))","v":0},{"$f":"IF(ISBLANK(公立調査書!$AK$6),\"\",INDEX(学習・行動の記録!BV6:BV47,公立調査書!$AK$6))","v":0},{"$f":"IF(ISBLANK(公立調査書!$AK$6),\"\",INDEX(学習・行動の記録!BW6:BW47,公立調査書!$AK$6))","v":0},{"$f":"IF(ISBLANK(公立調査書!$AK$6),\"\",INDEX(学習・行動の記録!BX6:BX47,公立調査書!$AK$6))","v":0},{"$f":"IF(ISBLANK(公立調査書!$AK$6),\"\",INDEX(学習・行動の記録!BY6:BY47,公立調査書!$AK$6))","v":0},{"$f":"IF(ISBLANK(公立調査書!$AK$6),\"\",INDEX(学習・行動の記録!BZ6:BZ47,公立調査書!$AK$6))","v":0},{"$f":"IF(ISBLANK(公立調査書!$AK$6),\"\",INDEX(学習・行動の記録!CA6:CA47,公立調査書!$AK$6))","v":0},{"$f":"IF(ISBLANK(公立調査書!$AK$6),\"\",INDEX(学習・行動の記録!CB6:CB47,公立調査書!$AK$6))","v":0},{"$f":"IF(ISBLANK(公立調査書!$AK$6),\"\",INDEX(学習・行動の記録!CC6:CC47,公立調査書!$AK$6))","v":0},{"$f":"IF(ISBLANK(公立調査書!$AK$6),\"\",INDEX(学習・行動の記録!CD6:CD47,公立調査書!$AK$6))","v":0},{"$f":"IF(ISBLANK(公立調査書!$AK$6),\"\",INDEX(学習・行動の記録!CE6:CE47,公立調査書!$AK$6))","v":0},{"$f":"IF(ISBLANK(公立調査書!$AK$6),\"\",INDEX(学習・行動の記録!CF6:CF47,公立調査書!$AK$6))","v":0},{"$f":"IF(ISBLANK(公立調査書!$AK$6),\"\",INDEX(学習・行動の記録!CG6:CG47,公立調査書!$AK$6))","v":0},{"$f":"IF(ISBLANK(公立調査書!$AK$6),\"\",INDEX(学習・行動の記録!CH6:CH47,公立調査書!$AK$6))","v":0},{"$f":"IF(ISBLANK(公立調査書!$AK$6),\"\",INDEX(学習・行動の記録!CI6:CI47,公立調査書!$AK$6))","v":0},{"$f":"IF(ISBLANK(公立調査書!$AK$6),\"\",INDEX(学習・行動の記録!CJ6:CJ47,公立調査書!$AK$6))","v":0},{"$f":"IF(ISBLANK(公立調査書!$AK$6),\"\",INDEX(学習・行動の記録!CK6:CK47,公立調査書!$AK$6))","v":0},{"$f":"IF(ISBLANK(公立調査書!$AK$6),\"\",INDEX(学習・行動の記録!CL6:CL47,公立調査書!$AK$6))","v":0},{"$f":"IF(ISBLANK(公立調査書!$AK$6),\"\",INDEX(学習・行動の記録!CM6:CM47,公立調査書!$AK$6))","v":0},{"$f":"IF(ISBLANK(公立調査書!$AK$6),\"\",INDEX(学習・行動の記録!CN6:CN47,公立調査書!$AK$6))","v":0},{"$f":"IF(ISBLANK(公立調査書!$AK$6),\"\",INDEX(学習・行動の記録!CO6:CO47,公立調査書!$AK$6))","v":0},{"$f":"IF(ISBLANK(公立調査書!$AK$6),\"\",INDEX(学習・行動の記録!CP6:CP47,公立調査書!$AK$6))","v":0},{"$f":"IF(ISBLANK(公立調査書!$AK$6),\"\",INDEX(学習・行動の記録!CQ6:CQ47,公立調査書!$AK$6))","v":0},{"$f":"IF(ISBLANK(公立調査書!$AK$6),\"\",INDEX(学習・行動の記録!CR6:CR47,公立調査書!$AK$6))","v":0},{"$f":"IF(ISBLANK(公立調査書!$AK$6),\"\",INDEX(学習・行動の記録!CS6:CS47,公立調査書!$AK$6))","v":0},{"$f":"IF(ISBLANK(公立調査書!$AK$6),\"\",INDEX(学習・行動の記録!CT6:CT47,公立調査書!$AK$6))","v":0},{"$f":"IF(ISBLANK(公立調査書!$AK$6),\"\",INDEX(学習・行動の記録!CU6:CU47,公立調査書!$AK$6))","v":0},{"$f":"IF(ISBLANK(公立調査書!$AK$6),\"\",INDEX(学習・行動の記録!CV6:CV47,公立調査書!$AK$6))","v":0},{"$f":"IF(ISBLANK(公立調査書!$AK$6),\"\",INDEX(学習・行動の記録!CW6:CW47,公立調査書!$AK$6))","v":0},{"$f":"IF(ISBLANK(公立調査書!$AK$6),\"\",INDEX(学習・行動の記録!CX6:CX47,公立調査書!$AK$6))","v":0},{"$f":"IF(ISBLANK(公立調査書!$AK$6),\"\",INDEX(学習・行動の記録!CY6:CY47,公立調査書!$AK$6))","v":0},{"$f":"IF(ISBLANK(公立調査書!$AK$6),\"\",INDEX(学習・行動の記録!CZ6:CZ47,公立調査書!$AK$6))","v":0},{"$f":"IF(ISBLANK(公立調査書!$AK$6),\"\",INDEX(学習・行動の記録!DA6:DA47,公立調査書!$AK$6))","v":0},{"$f":"IF(ISBLANK(公立調査書!$AK$6),\"\",INDEX(学習・行動の記録!DB6:DB47,公立調査書!$AK$6))","v":0},{"$f":"IF(ISBLANK(公立調査書!$AK$6),\"\",INDEX(学習・行動の記録!DC6:DC47,公立調査書!$AK$6))","v":0},{"$f":"IF(ISBLANK(公立調査書!$AK$6),\"\",INDEX(学習・行動の記録!DD6:DD47,公立調査書!$AK$6))","v":0},{"$f":"IF(ISBLANK(公立調査書!$AK$6),\"\",INDEX(学習・行動の記録!DE6:DE47,公立調査書!$AK$6))","v":0},{"$f":"IF(ISBLANK(公立調査書!$AK$6),\"\",INDEX(学習・行動の記録!DF6:DF47,公立調査書!$AK$6))","v":0},{"$f":"IF(ISBLANK(公立調査書!$AK$6),\"\",INDEX(学習・行動の記録!DG6:DG47,公立調査書!$AK$6))","v":0},{"$f":"IF(ISBLANK(公立調査書!$AK$6),\"\",INDEX(学習・行動の記録!DH6:DH47,公立調査書!$AK$6))","v":0}]
[]
[null,"　","推薦書印刷"]
[null,"氏名\n出欠","番号","氏名","仮名","性別","学科","生年月日",null,null,"入学年月日中学校",null,null,null,"転入学年月日中学",null,null,null,"理由","卒業","年月日",null,"欠席",2,3,"出席",2,3,"備考",2,3,"遅刻",2,3,"早退",2,3,"備考",2,3,"住所"]
[null,null,{"$f":"IF(ISBLANK(推薦書!$P$15),\"\",INDEX(氏名・出欠等!B6:B47,推薦書!$P$15))","v":""},{"$f":"IF(ISBLANK(推薦書!$P$15),\"\",INDEX(氏名・出欠等!C6:C47,推薦書!$P$15))","v":""},{"$f":"IF(ISBLANK(推薦書!$P$15),\"\",INDEX(氏名・出欠等!D6:D47,推薦書!$P$15))","v":""},{"$f":"IF(ISBLANK(推薦書!$P$15),\"\",INDEX(氏名・出欠等!F6:F47,推薦書!$P$15))","v":""},{"$f":"IF(ISBLANK(推薦書!$P$15),\"\",INDEX(氏名・出欠等!K6:K47,推薦書!$P$15))","v":""},{"$f":"IF(ISBLANK(推薦書!$P$15),\"\",INDEX(氏名・出欠等!L6:L47,推薦書!$P$15))","v":""},{"$f":"IF(ISBLANK(推薦書!$P$15),\"\",INDEX(氏名・出欠等!M6:M47,推薦書!$P$15))","v":""},{"$f":"IF(ISBLANK(推薦書!$P$15),\"\",INDEX(氏名・出欠等!N6:N47,推薦書!$P$15))","v":""},{"$f":"IF(ISBLANK(推薦書!$P$15),\"\",INDEX(氏名・出欠等!O6:O47,推薦書!$P$15))","v":""},{"$f":"IF(ISBLANK(推薦書!$P$15),\"\",INDEX(氏名・出欠等!P6:P47,推薦書!$P$15))","v":""},{"$f":"IF(ISBLANK(推薦書!$P$15),\"\",INDEX(氏名・出欠等!Q6:Q47,推薦書!$P$15))","v":""},{"$f":"IF(ISBLANK(推薦書!$P$15),\"\",INDEX(氏名・出欠等!R6:R47,推薦書!$P$15))","v":""},{"$f":"IF(ISBLANK(推薦書!$P$15),\"\",INDEX(氏名・出欠等!S6:S47,推薦書!$P$15))","v":""},{"$f":"IF(ISBLANK(推薦書!$P$15),\"\",INDEX(氏名・出欠等!T6:T47,推薦書!$P$15))","v":""},{"$f":"IF(ISBLANK(推薦書!$P$15),\"\",INDEX(氏名・出欠等!U6:U47,推薦書!$P$15))","v":""},{"$f":"IF(ISBLANK(推薦書!$P$15),\"\",INDEX(氏名・出欠等!V6:V47,推薦書!$P$15))","v":""},{"$f":"IF(ISBLANK(推薦書!$P$15),\"\",INDEX(氏名・出欠等!X6:X47,推薦書!$P$15))","v":""},{"$f":"IF(ISBLANK(推薦書!$P$15),\"\",INDEX(氏名・出欠等!Y6:Y47,推薦書!$P$15))","v":""},{"$f":"IF(ISBLANK(推薦書!$P$15),\"\",INDEX(氏名・出欠等!Z6:Z47,推薦書!$P$15))","v":""},{"$f":"IF(ISBLANK(推薦書!$P$15),\"\",INDEX(氏名・出欠等!AA6:AA47,推薦書!$P$15))","v":""},{"$f":"IF(ISBLANK(推薦書!$P$15),\"\",INDEX(氏名・出欠等!AB6:AB47,推薦書!$P$15))","v":""},{"$f":"IF(ISBLANK(推薦書!$P$15),\"\",INDEX(氏名・出欠等!AC6:AC47,推薦書!$P$15))","v":""},{"$f":"IF(ISBLANK(推薦書!$P$15),\"\",INDEX(氏名・出欠等!AD6:AD47,推薦書!$P$15))","v":""},{"$f":"IF(ISBLANK(推薦書!$P$15),\"\",INDEX(氏名・出欠等!AE6:AE47,推薦書!$P$15))","v":""},{"$f":"IF(ISBLANK(推薦書!$P$15),\"\",INDEX(氏名・出欠等!AF6:AF47,推薦書!$P$15))","v":""},{"$f":"IF(ISBLANK(推薦書!$P$15),\"\",INDEX(氏名・出欠等!AG6:AG47,推薦書!$P$15))","v":""},{"$f":"IF(ISBLANK(推薦書!$P$15),\"\",INDEX(氏名・出欠等!AH6:AH47,推薦書!$P$15))","v":""},{"$f":"IF(ISBLANK(推薦書!$P$15),\"\",INDEX(氏名・出欠等!AI6:AI47,推薦書!$P$15))","v":""},{"$f":"IF(ISBLANK(推薦書!$P$15),\"\",INDEX(氏名・出欠等!AJ6:AJ47,推薦書!$P$15))","v":""},{"$f":"IF(ISBLANK(推薦書!$P$15),\"\",INDEX(氏名・出欠等!AK6:AK47,推薦書!$P$15))","v":""},{"$f":"IF(ISBLANK(推薦書!$P$15),\"\",INDEX(氏名・出欠等!AL6:AL47,推薦書!$P$15))","v":""},{"$f":"IF(ISBLANK(推薦書!$P$15),\"\",INDEX(氏名・出欠等!AM6:AM47,推薦書!$P$15))","v":""},{"$f":"IF(ISBLANK(推薦書!$P$15),\"\",INDEX(氏名・出欠等!AN6:AN47,推薦書!$P$15))","v":""},{"$f":"IF(ISBLANK(推薦書!$P$15),\"\",INDEX(氏名・出欠等!AO6:AO47,推薦書!$P$15))","v":""},{"$f":"IF(ISBLANK(推薦書!$P$15),\"\",INDEX(氏名・出欠等!AP6:AP47,推薦書!$P$15))","v":""},{"$f":"IF(ISBLANK(推薦書!$P$15),\"\",INDEX(氏名・出欠等!AQ6:AQ47,推薦書!$P$15))","v":""},{"$f":"IF(ISBLANK(推薦書!$P$15),\"\",INDEX(氏名・出欠等!AR6:AR47,推薦書!$P$15))","v":""},{"$f":"IF(ISBLANK(推薦書!$P$15),\"\",INDEX(氏名・出欠等!AS6:AS47,推薦書!$P$15))","v":""},{"$f":"IF(ISBLANK(推薦書!$P$15),\"\",INDEX(氏名・出欠等!AT6:AT47,推薦書!$P$15))","v":""}]
[null,"総合\n所見","総合","1年","2年","3年","試験"]
[null,null,{"$f":"IF(ISBLANK(推薦書!$P$15),\"\",INDEX(総合所見等!D6:D47,推薦書!$P$15))","v":""},{"$f":"IF(ISBLANK(推薦書!$P$15),\"\",INDEX(総合所見等!E6:E47,推薦書!$P$15))","v":""},{"$f":"IF(ISBLANK(推薦書!$P$15),\"\",INDEX(総合所見等!F6:F47,推薦書!$P$15))","v":""},{"$f":"IF(ISBLANK(推薦書!$P$15),\"\",INDEX(総合所見等!G6:G47,推薦書!$P$15))","v":""},{"$f":"IF(ISBLANK(推薦書!$P$15),\"\",INDEX(氏名・出欠等!G6:G49,推薦書!$P$15))","v":""}]
[null,null,"学習行動の記録(観点別）",null,null,null,null,null,null,null,null,null,null,null,null,null,null,null,null,null,null,null,null,null,null,null,null,null,null,null,null,null,null,null,null,null,null,null,null,null,null,null,null,null,null,null,null,"学習の記録（必修）　　　1年",null,null,null,null,null,null,null,null,"2年",null,null,null,null,null,null,null,null,"3年",null,null,null,null,null,null,null,null,"選択教科",null,null,null,null,null,null,null,null,null,null,null,null,null,null,null,null,null,null,null,null,null,null,null,null,null,null,"行動の記録"]
[null,null,"国語",2,3,4,5,"社会",2,3,4,5,"数学",2,3,4,5,"理科",2,3,4,5,"外国語",2,3,4,5,"音楽",2,3,4,5,"美術",2,3,4,5,"保健体育",2,3,4,5,"技術家庭",2,3,4,5,"国語","社会","数学","理科","外国","音楽","美術","保健","技術","国語","社会","数学","理科","外国","音楽","美術","保健","技術","国語","社会","数学","理科","外国","音楽","美術","保健","技術","国語",2,3,"社会",2,3,"数学",2,3,"理科",2,3,"音楽",2,3,"美術",2,3,"保健体育",2,3,"技術家庭",2,3,"外国語",2,3,"基本","健康","自主","責任","創意","思い","生命","勤労","公正","公共心"]
[null,null,{"$f":"IF(ISBLANK(推薦書!$P$15),\"\",INDEX(学習・行動の記録!D6:D47,推薦書!$P$15))","v":""},{"$f":"IF(ISBLANK(推薦書!$P$15),\"\",INDEX(学習・行動の記録!E6:E47,推薦書!$P$15))","v":""},{"$f":"IF(ISBLANK(推薦書!$P$15),\"\",INDEX(学習・行動の記録!F6:F47,推薦書!$P$15))","v":""},{"$f":"IF(ISBLANK(推薦書!$P$15),\"\",INDEX(学習・行動の記録!G6:G47,推薦書!$P$15))","v":""},{"$f":"IF(ISBLANK(推薦書!$P$15),\"\",INDEX(学習・行動の記録!H6:H47,推薦書!$P$15))","v":""},{"$f":"IF(ISBLANK(推薦書!$P$15),\"\",INDEX(学習・行動の記録!I6:I47,推薦書!$P$15))","v":""},{"$f":"IF(ISBLANK(推薦書!$P$15),\"\",INDEX(学習・行動の記録!J6:J47,推薦書!$P$15))","v":""},{"$f":"IF(ISBLANK(推薦書!$P$15),\"\",INDEX(学習・行動の記録!K6:K47,推薦書!$P$15))","v":""},{"$f":"IF(ISBLANK(推薦書!$P$15),\"\",INDEX(学習・行動の記録!L6:L47,推薦書!$P$15))","v":""},{"$f":"IF(ISBLANK(推薦書!$P$15),\"\",INDEX(学習・行動の記録!M6:M47,推薦書!$P$15))","v":""},{"$f":"IF(ISBLANK(推薦書!$P$15),\"\",INDEX(学習・行動の記録!N6:N47,推薦書!$P$15))","v":""},{"$f":"IF(ISBLANK(推薦書!$P$15),\"\",INDEX(学習・行動の記録!O6:O47,推薦書!$P$15))","v":""},{"$f":"IF(ISBLANK(推薦書!$P$15),\"\",INDEX(学習・行動の記録!P6:P47,推薦書!$P$15))","v":""},{"$f":"IF(ISBLANK(推薦書!$P$15),\"\",INDEX(学習・行動の記録!Q6:Q47,推薦書!$P$15))","v":""},{"$f":"IF(ISBLANK(推薦書!$P$15),\"\",INDEX(学習・行動の記録!R6:R47,推薦書!$P$15))","v":""},{"$f":"IF(ISBLANK(推薦書!$P$15),\"\",INDEX(学習・行動の記録!S6:S47,推薦書!$P$15))","v":""},{"$f":"IF(ISBLANK(推薦書!$P$15),\"\",INDEX(学習・行動の記録!T6:T47,推薦書!$P$15))","v":""},{"$f":"IF(ISBLANK(推薦書!$P$15),\"\",INDEX(学習・行動の記録!U6:U47,推薦書!$P$15))","v":""},{"$f":"IF(ISBLANK(推薦書!$P$15),\"\",INDEX(学習・行動の記録!V6:V47,推薦書!$P$15))","v":""},{"$f":"IF(ISBLANK(推薦書!$P$15),\"\",INDEX(学習・行動の記録!W6:W47,推薦書!$P$15))","v":""},{"$f":"IF(ISBLANK(推薦書!$P$15),\"\",INDEX(学習・行動の記録!X6:X47,推薦書!$P$15))","v":""},{"$f":"IF(ISBLANK(推薦書!$P$15),\"\",INDEX(学習・行動の記録!Y6:Y47,推薦書!$P$15))","v":""},{"$f":"IF(ISBLANK(推薦書!$P$15),\"\",INDEX(学習・行動の記録!Z6:Z47,推薦書!$P$15))","v":""},{"$f":"IF(ISBLANK(推薦書!$P$15),\"\",INDEX(学習・行動の記録!AA6:AA47,推薦書!$P$15))","v":""},{"$f":"IF(ISBLANK(推薦書!$P$15),\"\",INDEX(学習・行動の記録!AB6:AB47,推薦書!$P$15))","v":""},{"$f":"IF(ISBLANK(推薦書!$P$15),\"\",INDEX(学習・行動の記録!AC6:AC47,推薦書!$P$15))","v":""},{"$f":"IF(ISBLANK(推薦書!$P$15),\"\",INDEX(学習・行動の記録!AD6:AD47,推薦書!$P$15))","v":""},{"$f":"IF(ISBLANK(推薦書!$P$15),\"\",INDEX(学習・行動の記録!AE6:AE47,推薦書!$P$15))","v":""},{"$f":"IF(ISBLANK(推薦書!$P$15),\"\",INDEX(学習・行動の記録!AF6:AF47,推薦書!$P$15))","v":""},{"$f":"IF(ISBLANK(推薦書!$P$15),\"\",INDEX(学習・行動の記録!AG6:AG47,推薦書!$P$15))","v":""},{"$f":"IF(ISBLANK(推薦書!$P$15),\"\",INDEX(学習・行動の記録!AH6:AH47,推薦書!$P$15))","v":""},{"$f":"IF(ISBLANK(推薦書!$P$15),\"\",INDEX(学習・行動の記録!AI6:AI47,推薦書!$P$15))","v":""},{"$f":"IF(ISBLANK(推薦書!$P$15),\"\",INDEX(学習・行動の記録!AJ6:AJ47,推薦書!$P$15))","v":""},{"$f":"IF(ISBLANK(推薦書!$P$15),\"\",INDEX(学習・行動の記録!AK6:AK47,推薦書!$P$15))","v":""},{"$f":"IF(ISBLANK(推薦書!$P$15),\"\",INDEX(学習・行動の記録!AL6:AL47,推薦書!$P$15))","v":""},{"$f":"IF(ISBLANK(推薦書!$P$15),\"\",INDEX(学習・行動の記録!AM6:AM47,推薦書!$P$15))","v":""},{"$f":"IF(ISBLANK(推薦書!$P$15),\"\",INDEX(学習・行動の記録!AN6:AN47,推薦書!$P$15))","v":""},{"$f":"IF(ISBLANK(推薦書!$P$15),\"\",INDEX(学習・行動の記録!AO6:AO47,推薦書!$P$15))","v":""},{"$f":"IF(ISBLANK(推薦書!$P$15),\"\",INDEX(学習・行動の記録!AP6:AP47,推薦書!$P$15))","v":""},{"$f":"IF(ISBLANK(推薦書!$P$15),\"\",INDEX(学習・行動の記録!AQ6:AQ47,推薦書!$P$15))","v":""},{"$f":"IF(ISBLANK(推薦書!$P$15),\"\",INDEX(学習・行動の記録!AR6:AR47,推薦書!$P$15))","v":""},{"$f":"IF(ISBLANK(推薦書!$P$15),\"\",INDEX(学習・行動の記録!AS6:AS47,推薦書!$P$15))","v":""},{"$f":"IF(ISBLANK(推薦書!$P$15),\"\",INDEX(学習・行動の記録!AT6:AT47,推薦書!$P$15))","v":""},{"$f":"IF(ISBLANK(推薦書!$P$15),\"\",INDEX(学習・行動の記録!AU6:AU47,推薦書!$P$15))","v":""},{"$f":"IF(ISBLANK(推薦書!$P$15),\"\",INDEX(学習・行動の記録!AV6:AV47,推薦書!$P$15))","v":""},{"$f":"IF(ISBLANK(推薦書!$P$15),\"\",INDEX(学習・行動の記録!AW6:AW47,推薦書!$P$15))","v":""},{"$f":"IF(ISBLANK(推薦書!$P$15),\"\",INDEX(学習・行動の記録!AX6:AX47,推薦書!$P$15))","v":""},{"$f":"IF(ISBLANK(推薦書!$P$15),\"\",INDEX(学習・行動の記録!AY6:AY47,推薦書!$P$15))","v":""},{"$f":"IF(ISBLANK(推薦書!$P$15),\"\",INDEX(学習・行動の記録!AZ6:AZ47,推薦書!$P$15))","v":""},{"$f":"IF(ISBLANK(推薦書!$P$15),\"\",INDEX(学習・行動の記録!BA6:BA47,推薦書!$P$15))","v":""},{"$f":"IF(ISBLANK(推薦書!$P$15),\"\",INDEX(学習・行動の記録!BB6:BB47,推薦書!$P$15))","v":""},{"$f":"IF(ISBLANK(推薦書!$P$15),\"\",INDEX(学習・行動の記録!BC6:BC47,推薦書!$P$15))","v":""},{"$f":"IF(ISBLANK(推薦書!$P$15),\"\",INDEX(学習・行動の記録!BD6:BD47,推薦書!$P$15))","v":""},{"$f":"IF(ISBLANK(推薦書!$P$15),\"\",INDEX(学習・行動の記録!BE6:BE47,推薦書!$P$15))","v":""},{"$f":"IF(ISBLANK(推薦書!$P$15),\"\",INDEX(学習・行動の記録!BF6:BF47,推薦書!$P$15))","v":""},{"$f":"IF(ISBLANK(推薦書!$P$15),\"\",INDEX(学習・行動の記録!BG6:BG47,推薦書!$P$15))","v":""},{"$f":"IF(ISBLANK(推薦書!$P$15),\"\",INDEX(学習・行動の記録!BH6:BH47,推薦書!$P$15))","v":""},{"$f":"IF(ISBLANK(推薦書!$P$15),\"\",INDEX(学習・行動の記録!BI6:BI47,推薦書!$P$15))","v":""},{"$f":"IF(ISBLANK(推薦書!$P$15),\"\",INDEX(学習・行動の記録!BJ6:BJ47,推薦書!$P$15))","v":""},{"$f":"IF(ISBLANK(推薦書!$P$15),\"\",INDEX(学習・行動の記録!BK6:BK47,推薦書!$P$15))","v":""},{"$f":"IF(ISBLANK(推薦書!$P$15),\"\",INDEX(学習・行動の記録!BL6:BL47,推薦書!$P$15))","v":""},{"$f":"IF(ISBLANK(推薦書!$P$15),\"\",INDEX(学習・行動の記録!BM6:BM47,推薦書!$P$15))","v":""},{"$f":"IF(ISBLANK(推薦書!$P$15),\"\",INDEX(学習・行動の記録!BN6:BN47,推薦書!$P$15))","v":""},{"$f":"IF(ISBLANK(推薦書!$P$15),\"\",INDEX(学習・行動の記録!BO6:BO47,推薦書!$P$15))","v":""},{"$f":"IF(ISBLANK(推薦書!$P$15),\"\",INDEX(学習・行動の記録!BP6:BP47,推薦書!$P$15))","v":""},{"$f":"IF(ISBLANK(推薦書!$P$15),\"\",INDEX(学習・行動の記録!BQ6:BQ47,推薦書!$P$15))","v":""},{"$f":"IF(ISBLANK(推薦書!$P$15),\"\",INDEX(学習・行動の記録!BR6:BR47,推薦書!$P$15))","v":""},{"$f":"IF(ISBLANK(推薦書!$P$15),\"\",INDEX(学習・行動の記録!BS6:BS47,推薦書!$P$15))","v":""},{"$f":"IF(ISBLANK(推薦書!$P$15),\"\",INDEX(学習・行動の記録!BT6:BT47,推薦書!$P$15))","v":""},{"$f":"IF(ISBLANK(推薦書!$P$15),\"\",INDEX(学習・行動の記録!BU6:BU47,推薦書!$P$15))","v":""},{"$f":"IF(ISBLANK(推薦書!$P$15),\"\",INDEX(学習・行動の記録!BV6:BV47,推薦書!$P$15))","v":""},{"$f":"IF(ISBLANK(推薦書!$P$15),\"\",INDEX(学習・行動の記録!BW6:BW47,推薦書!$P$15))","v":""},{"$f":"IF(ISBLANK(推薦書!$P$15),\"\",INDEX(学習・行動の記録!BX6:BX47,推薦書!$P$15))","v":""},{"$f":"IF(ISBLANK(推薦書!$P$15),\"\",INDEX(学習・行動の記録!BY6:BY47,推薦書!$P$15))","v":""},{"$f":"IF(ISBLANK(推薦書!$P$15),\"\",INDEX(学習・行動の記録!BZ6:BZ47,推薦書!$P$15))","v":""},{"$f":"IF(ISBLANK(推薦書!$P$15),\"\",INDEX(学習・行動の記録!CA6:CA47,推薦書!$P$15))","v":""},{"$f":"IF(ISBLANK(推薦書!$P$15),\"\",INDEX(学習・行動の記録!CB6:CB47,推薦書!$P$15))","v":""},{"$f":"IF(ISBLANK(推薦書!$P$15),\"\",INDEX(学習・行動の記録!CC6:CC47,推薦書!$P$15))","v":""},{"$f":"IF(ISBLANK(推薦書!$P$15),\"\",INDEX(学習・行動の記録!CD6:CD47,推薦書!$P$15))","v":""},{"$f":"IF(ISBLANK(推薦書!$P$15),\"\",INDEX(学習・行動の記録!CE6:CE47,推薦書!$P$15))","v":""},{"$f":"IF(ISBLANK(推薦書!$P$15),\"\",INDEX(学習・行動の記録!CF6:CF47,推薦書!$P$15))","v":""},{"$f":"IF(ISBLANK(推薦書!$P$15),\"\",INDEX(学習・行動の記録!CG6:CG47,推薦書!$P$15))","v":""},{"$f":"IF(ISBLANK(推薦書!$P$15),\"\",INDEX(学習・行動の記録!CH6:CH47,推薦書!$P$15))","v":""},{"$f":"IF(ISBLANK(推薦書!$P$15),\"\",INDEX(学習・行動の記録!CI6:CI47,推薦書!$P$15))","v":""},{"$f":"IF(ISBLANK(推薦書!$P$15),\"\",INDEX(学習・行動の記録!CJ6:CJ47,推薦書!$P$15))","v":""},{"$f":"IF(ISBLANK(推薦書!$P$15),\"\",INDEX(学習・行動の記録!CK6:CK47,推薦書!$P$15))","v":""},{"$f":"IF(ISBLANK(推薦書!$P$15),\"\",INDEX(学習・行動の記録!CL6:CL47,推薦書!$P$15))","v":""},{"$f":"IF(ISBLANK(推薦書!$P$15),\"\",INDEX(学習・行動の記録!CM6:CM47,推薦書!$P$15))","v":""},{"$f":"IF(ISBLANK(推薦書!$P$15),\"\",INDEX(学習・行動の記録!CN6:CN47,推薦書!$P$15))","v":""},{"$f":"IF(ISBLANK(推薦書!$P$15),\"\",INDEX(学習・行動の記録!CO6:CO47,推薦書!$P$15))","v":""},{"$f":"IF(ISBLANK(推薦書!$P$15),\"\",INDEX(学習・行動の記録!CP6:CP47,推薦書!$P$15))","v":""},{"$f":"IF(ISBLANK(推薦書!$P$15),\"\",INDEX(学習・行動の記録!CQ6:CQ47,推薦書!$P$15))","v":""},{"$f":"IF(ISBLANK(推薦書!$P$15),\"\",INDEX(学習・行動の記録!CR6:CR47,推薦書!$P$15))","v":""},{"$f":"IF(ISBLANK(推薦書!$P$15),\"\",INDEX(学習・行動の記録!CS6:CS47,推薦書!$P$15))","v":""},{"$f":"IF(ISBLANK(推薦書!$P$15),\"\",INDEX(学習・行動の記録!CT6:CT47,推薦書!$P$15))","v":""},{"$f":"IF(ISBLANK(推薦書!$P$15),\"\",INDEX(学習・行動の記録!CU6:CU47,推薦書!$P$15))","v":""},{"$f":"IF(ISBLANK(推薦書!$P$15),\"\",INDEX(学習・行動の記録!CV6:CV47,推薦書!$P$15))","v":""},{"$f":"IF(ISBLANK(推薦書!$P$15),\"\",INDEX(学習・行動の記録!CW6:CW47,推薦書!$P$15))","v":""},{"$f":"IF(ISBLANK(推薦書!$P$15),\"\",INDEX(学習・行動の記録!CX6:CX47,推薦書!$P$15))","v":""}]

{"sheet":"共通入力","index":1,"n_rows":16,"n_cols":12,"rows_kept":16,"cut":false,"hidden":false,"merged":[[11,5,11,7],[9,5,9,7],[5,5,5,9]]}
[]
[null,"平成",30,"年度"]
[]
[null,null,"　《 共通項目を入力してください 》"]
[]
[null,null,"【１】　中学校名",null,null,"鹿児島市立　○○中学校"]
[]
[null,null,"【２】　組  ",null,null,"○","組"]
[]
[null,null,"【３】　担任(調査書記載者)氏名",null,null,"○○　○○"]
[]
[null,null,"【４】　校長氏名",null,null,"○○　○○○"]
[]
[null,null,"【５】　調査書証明日",null,null,"平成",30,"年",1,"月",6,"日"]
[null,null,null,null,null,"　　　　　※ 公立高校証明日は、再入力をお願いします。"]
[null,null,"【６】　鹿高推薦書記載日",null,null,"平成",30,"年",1,"月",6,"日"]

{"sheet":"氏名・出欠等","index":2,"n_rows":98,"n_cols":46,"rows_kept":98,"cut":false,"hidden":false,"merged":[[1,36,1,44],[1,27,1,35],[2,39,2,41],[2,42,2,44],[2,33,2,35],[2,30,2,32],[2,36,2,38],[2,27,2,29],[2,10,3,10],[2,18,2,23],[2,11,2,13],[2,14,2,17],[2,24,2,26],[2,1,3,1],[2,3,3,3],[3,4,3,5],[2,4,2,5],[2,9,3,9],[2,2,3,2],[2,7,3,7],[2,8,3,8],[2,6,3,6]]}
[]
[null,null,"は鹿児島高校の調査書に必要な部分です。"]
[null,"番号","\n\n氏　　名","\n\nふりがな","性　別",null,"試験区分","試験会場","入学願書に記載されている\n試験会場コードを入力","受験\n学科\n番号","英数科特進コースは   １\n英数科英数コース は  ２\n普通科は   　３\n情ビ科は　 　４　を入力","生年月日",null,null,"入　　　　学",null,null,null,"転入学",null,null,null,null,null,"卒業・\n卒業見込み",null,null,"欠席日数",null,null,"出席日数\n※",null,null,"備　考（欠席）",null,null,"遅刻の回数　",null,null,"早退の回数",null,null,"備　考（遅刻・早退）",null,null,"　　※印欄は公立高校調査書用です。"]
[null,null,null,null,"男は１、\n女は２ を入力",null,null,null,null,null,null,"平成","月","日","平成","月","日","中学校名","平成","月","日","中学校名",null,"理由","平成","月","日","１年","２年","３年","１年","２年","３年","１年","２年","３年","１年","２年","３年","１年","２年","３年","１年","２年","３年","現　住　所　※"]
[null,"例","津曲　花子","つまがり　はなこ",1,"男","一般推薦",1,"鹿児島高等学校",1,"英 数 科 特 進 コ ー ス",14,4,24,27,4,7,"鹿児島市立　○○中学校",null,null,null,null,"へ\n転入学",null,30,3,31,1,2,3,201,202,203,"風邪１","腹痛１\n風邪１","体調不良３",1,0,2,0,2,1,"体調不良１","風邪１\n腹痛１","発熱１、風邪１、腹痛１","鹿児島市薬師一丁目２１－９"]
[null,1,null,{"$f":"PHONETIC(C6)","v":""},null,{"$f":"IF(ISNUMBER(E6),VLOOKUP(E6,$E$61:$F$62,2,0),\"\")","v":""},null,null,{"$f":"IF(ISNUMBER(H6),VLOOKUP(H6,$E$75:$F$93,2,0),\"\")","v":""},null,{"$f":"IF(ISNUMBER(J6),VLOOKUP(J6,$E$64:$F$68,2,0),\"\")","v":""},null,null,null,null,null,null,null,null,null,null,null,"へ\n転入学"]
[null,2,null,{"$f":"PHONETIC(C7)","v":""},null,{"$f":"IF(ISNUMBER(E7),VLOOKUP(E7,$E$61:$F$62,2,0),\"\")","v":""},null,null,{"$f":"IF(ISNUMBER(H7),VLOOKUP(H7,$E$75:$F$93,2,0),\"\")","v":""},null,{"$f":"IF(ISNUMBER(J7),VLOOKUP(J7,$E$64:$F$68,2,0),\"\")","v":""},null,null,null,{"$f":"IF(ISBLANK($O$6),\"\",$O$6)","v":""},{"$f":"IF(ISBLANK($P$6),\"\",$P$6)","v":""},{"$f":"IF(ISBLANK($Q$6),\"\",$Q$6)","v":""},{"$f":"IF(ISBLANK($R$6),\"\",$R$6)","v":""},null,null,null,null,"へ\n転入学",null,{"$f":"IF(ISBLANK($Y$6),\"\",$Y$6)","v":""},{"$f":"IF(ISBLANK($Z$6),\"\",$Z$6)","v":""},{"$f":"IF(ISBLANK($AA$6),\"\",$AA$6)","v":""}]
[null,3,null,{"$f":"PHONETIC(C8)","v":""},null,"",null,null,"",null,"",null,null,null,{"$f":"IF(ISBLANK($O$6),\"\",$O$6)","v":""},{"$f":"IF(ISBLANK($P$6),\"\",$P$6)","v":""},{"$f":"IF(ISBLANK($Q$6),\"\",$Q$6)","v":""},{"$f":"IF(ISBLANK($R$6),\"\",$R$6)","v":""},null,null,null,null,"へ\n転入学",null,{"$f":"IF(ISBLANK($Y$6),\"\",$Y$6)","v":""},"",""]
[null,4,null,"",null,"",null,null,"",null,"",null,null,null,"","","","",null,null,null,null,"へ\n転入学",null,"","",""]
[null,5,null,"",null,"",null,null,"",null,"",null,null,null,"","","","",null,null,null,null,"へ\n転入学",null,"","",""]
[null,6,null,"",null,"",null,null,"",null,"",null,null,null,"","","","",null,null,null,null,"へ\n転入学",null,"","",""]
[null,7,null,"",null,"",null,null,"",null,"",null,null,null,"","","","",null,null,null,null,"へ\n転入学",null,"","",""]
[null,8,null,"",null,"",null,null,"",null,"",null,null,null,"","","","",null,null,null,null,"へ\n転入学",null,"","",""]
[null,9,null,"",null,"",null,null,"",null,"",null,null,null,"","","","",null,null,null,null,"へ\n転入学",null,"","",""]
[null,10,null,"",null,"",null,null,"",null,"",null,null,null,"","","","",null,null,null,null,"へ\n転入学",null,"","",""]
[null,11,null,"",null,"",null,null,"",null,"",null,null,null,"","","","",null,null,null,null,"へ\n転入学",null,"","",""]
[null,12,null,"",null,"",null,null,"",null,"",null,null,null,"","","","",null,null,null,null,"へ\n転入学",null,"","",""]
[null,13,null,"",null,"",null,null,"",null,"",null,null,null,"","","","",null,null,null,null,"へ\n転入学",null,"","",""]
[null,14,null,"",null,"",null,null,"",null,"",null,null,null,"","","","",null,null,null,null,"へ\n転入学",null,"","",""]
[null,15,null,"",null,"",null,null,"",null,"",null,null,null,"","","","",null,null,null,null,"へ\n転入学",null,"","",""]
[null,16,null,"",null,"",null,null,"",null,"",null,null,null,"","","","",null,null,null,null,"へ\n転入学",null,"","",""]
[null,17,null,"",null,"",null,null,"",null,"",null,null,null,"","","","",null,null,null,null,"へ\n転入学",null,"","",""]
[null,18,null,"",null,"",null,null,"",null,"",null,null,null,"","","","",null,null,null,null,"へ\n転入学",null,"","",""]
[null,19,null,"",null,"",null,null,"",null,"",null,null,null,"","","","",null,null,null,null,"へ\n転入学",null,"","",""]
[null,20,null,"",null,"",null,null,"",null,"",null,null,null,"","","","",null,null,null,null,"へ\n転入学",null,"","",""]
[null,21,null,"",null,"",null,null,"",null,"",null,null,null,"","","","",null,null,null,null,"へ\n転入学",null,"","",""]
[null,22,null,"",null,"",null,null,"",null,"",null,null,null,"","","","",null,null,null,null,"へ\n転入学",null,"","",""]
[null,23,null,"",null,"",null,null,"",null,"",null,null,null,"","","","",null,null,null,null,"へ\n転入学",null,"","",""]
[null,24,null,"",null,"",null,null,"",null,"",null,null,null,"","","","",null,null,null,null,"へ\n転入学",null,"","",""]
[null,25,null,"",null,"",null,null,"",null,"",null,null,null,"","","","",null,null,null,null,"へ\n転入学",null,"","",""]
[null,26,null,"",null,"",null,null,"",null,"",null,null,null,"","","","",null,null,null,null,"へ\n転入学",null,"","",""]
[null,27,null,"",null,"",null,null,"",null,"",null,null,null,"","","","",null,null,null,null,"へ\n転入学",null,"","",""]
[null,28,null,"",null,"",null,null,"",null,"",null,null,null,"","","","",null,null,null,null,"へ\n転入学",null,"","",""]
[null,29,null,"",null,"",null,null,"",null,"",null,null,null,"","","","",null,null,null,null,"へ\n転入学",null,"","",""]
[null,30,null,"",null,"",null,null,"",null,"",null,null,null,"","","","",null,null,null,null,"へ\n転入学",null,"","",""]
[null,31,null,"",null,"",null,null,"",null,"",null,null,null,"","","","",null,null,null,null,"へ\n転入学",null,"","",""]
[null,32,null,"",null,"",null,null,"",null,"",null,null,null,"","","","",null,null,null,null,"へ\n転入学",null,"","",""]
[null,33,null,"",null,"",null,null,"",null,"",null,null,null,"","","","",null,null,null,null,"へ\n転入学",null,"","",""]
[null,34,null,"",null,"",null,null,"",null,"",null,null,null,"","","","",null,null,null,null,"へ\n転入学",null,"","",""]
[null,35,null,"",null,"",null,null,"",null,"",null,null,null,"","","","",null,null,null,null,"へ\n転入学",null,"","",""]
[null,36,null,"",null,"",null,null,"",null,"",null,null,null,"","","","",null,null,null,null,"へ\n転入学",null,"","",""]
[null,37,null,"",null,"",null,null,"",null,"",null,null,null,"","","","",null,null,null,null,"へ\n転入学",null,"","",""]
[null,38,null,"",null,"",null,null,"",null,"",null,null,null,"","","","",null,null,null,null,"へ\n転入学",null,"","",""]
[null,39,null,"",null,"",null,null,"",null,"",null,null,null,"","","","",null,null,null,null,"へ\n転入学",null,"","",""]
[null,40,null,{"$f":"PHONETIC(C45)","v":""},null,"",null,null,"",null,"",null,null,null,"","","","",null,null,null,null,"へ\n転入学",null,"","",""]
[null,41,null,"",null,"",null,null,"",null,"",null,null,null,"","","","",null,null,null,null,"へ\n転入学",null,"","",""]
[null,42,null,{"$f":"PHONETIC(C47)","v":""},null,"",null,null,"",null,"",null,null,null,"","","","",null,null,null,null,"へ\n転入学",null,"","",""]
[]
[]
[]
[]
[]
[]
[]
[]
[]
[]
[]
[]
[]
[null,null,null,null,1,"男"]
[null,null,null,null,2,"女"]
[]
[null,null,null,null,1,"英 数 科 特 進 コ ー ス"]
[null,null,null,null,2,"英 数 科 英 数 コ ー ス"]
[null,null,null,null,3,"普通科"]
[null,null,null,null,4,"情 報 ビ ジ ネ ス 科"]
[]
[]
[]
[null,null,null,null,null,null,null,null,null,null,null,"生年月日",null,null,null,"入学",null,null,"転校"]
[null,"No","氏名","ふりがな",null,"男女",null,null,"受験学科",null,"受験学科",null,"平成","月","日","中学","平成","月","日","中学"]
[]
[]
[null,null,null,null,1,"鹿児島高等学校"]
[null,null,null,null,2,"鹿児島修学館"]
[null,null,null,null,3,"鹿児島国際大学"]
[null,null,null,null,4,"東市来"]
[null,null,null,null,5,"南さつま"]
[null,null,null,null,6,"薩摩川内"]
[null,null,null,null,7,"サン・あもり"]
[null,null,null,null,8,"天降川施設"]
[null,null,null,null,9,"加治木福祉"]
[null,null,null,null,10,"姶良"]
[null,null,null,null,11,"湧水"]
[null,null,null,null,12,"鹿屋"]
[null,null,null,null,13,"指宿"]
[null,null,null,null,14,"中種子"]
[null,null,null,null,15,"屋久島"]
[null,null,null,null,16,"奄美"]
[null,null,null,null,17,"徳之島"]
[null,null,null,null,18,"沖永良部"]
[]
[]
[]
[null,null,null,null,"一般入試"]
[null,null,null,null,"一般推薦"]
[null,null,null,null,"部活動，体育・文化活動推薦"]

{"sheet":"学習・行動の記録","index":3,"n_rows":47,"n_cols":114,"rows_kept":47,"cut":false,"hidden":false,"merged":[[1,113,3,114],[1,2,3,2],[1,1,3,1],[1,3,1,47],[2,3,2,7],[2,8,2,12],[2,13,2,17],[2,38,2,42],[2,43,2,47],[2,18,2,22],[2,23,2,27],[2,28,2,32],[2,33,2,37],[2,48,2,56],[1,103,3,103],[1,66,1,74],[1,57,1,65],[2,66,2,74],[2,57,2,65],[2,93,2,95],[2,96,2,98],[1,75,1,101],[2,75,2,77],[2,99,2,101],[2,78,2,80],[2,81,2,83],[2,90,2,92],[2,84,2,86],[2,87,2,89],[0,102,0,111],[1,107,3,107],[1,108,3,108],[1,104,3,104],[1,105,3,105],[1,109,3,109],[1,110,3,110],[1,111,3,111],[1,106,3,106],[1,102,3,102]]}
[null,null,"は鹿児島高校の調査書に必要な部分です。",null,null,null,null,null,null,null,null,null,null,null,null,null,"※欄は公立高校調査書用です。",null,null,null,null,null,null,null,null,null,null,null,null,null,null,null,null,null,null,null,null,null,null,null,null,null,null,null,null,null,null,null,"※欄は、公立高校調査書用です。",null,null,null,null,null,null,null,null,null,null,null,null,null,null,null,null,null,null,null,null,null,null,null,null,null,null,"※欄は、公立高校調査書用です。",null,null,null,null,null,null,null,null,null,null,null,null,null,null,null,null,null,null,null,null,null,null,null,null,null,null,"行動の記録　 ※公立調査書用"]
[null,"NO","\n氏　　名","学習の記録（観点別学習状況）　※",null,null,null,null,null,null,null,null,null,null,null,null,null,null,null,null,null,null,null,null,null,null,null,null,null,null,null,null,null,null,null,null,null,null,null,null,null,null,null,null,null,null,null,null,"学習の記録（評定）　　　　※　　　　　　　　　　　　　　　　　　　　　　　　　　　　　　　　　　　　　　　　　　　　　　　　",null,null,null,null,null,null,null,null,"※",null,null,null,null,null,null,null,null," 鹿児島高校は3年生分のみ必要です。",null,null,null,null,null,null,null,null,"学習の記録（選択教科）　※ 鹿児島高校は3年生分のみ必要です。",null,null,null,null,null,null,null,null,null,null,null,null,null,null,null,null,null,null,null,null,null,null,null,null,null,null,"基本的な生活","健康・体力","自主・自律","責任感","創意工夫","思いやり","生命尊重","勤労・奉仕","公正・公平","公共心",null,"数 字 １ を\n入力すると\n調査書に\n○印が\nつきます。"]
[null,null,null,"国語",null,null,null,null,"社会",null,null,null,null,"数学",null,null,null,null,"理科",null,null,null,null,"外国語",null,null,null,null,"音楽",null,null,null,null,"美術",null,null,null,null,"保健体育",null,null,null,null,"技術・家庭",null,null,null,null,"1　学　年　",null,null,null,null,null,null,null,null,"２　学　年",null,null,null,null,null,null,null,null,"３　学　年",null,null,null,null,null,null,null,null,"国語",null,null,"社会",null,null,"数学",null,null,"理科",null,null,"音楽",null,null,"美術",null,null,"保健体育",null,null,"技術家庭",null,null,"外国語"]
[null,null,null,"(1)","(2)","(3)","(4)","(5)","(1)","(2)","(3)","(4)","(5)","(1)","(2)","(3)","(4)","(5)","(1)","(2)","(3)","(4)","(5)","(1)","(2)","(3)","(4)","(5)","(1)","(2)","(3)","(4)","(5)","(1)","(2)","(3)","(4)","(5)","(1)","(2)","(3)","(4)","(5)","(1)","(2)","(3)","(4)","(5)","国語","社会","数学","理科","外国\n語","音楽","美術","保健\n体育","技術\n家庭","国語","社会","数学","理科","外国\n語","音楽","美術","保健\n体育","技術\n家庭","国語","社会","数学","理科","外国\n語","音楽","美術","保健\n体育","技術\n家庭",1,2,3,1,2,3,1,2,3,1,2,3,1,2,3,1,2,3,1,2,3,1,2,3,1,2,3]
[null,"例","津曲　花子","A","A","B","B","A","A","B","B","A",null,"A","B","B","A",null,"A","B","B","A",null,"A","B","B","A",null,"A","B","B","A",null,"A","B","B","A",null,"A","B","B","A",null,"A","B","B","A",null,3,4,5,3,4,5,3,4,5,3,4,5,3,4,5,3,4,5,3,4,5,3,4,5,3,4,5,null,null,null,null,null,null,null,null,null,null,null,null,null,null,null,null,null,null,null,null,null,null,null,null,null,null,null,1,null,null,1,null,null,1,null,1]
[null,1,{"$f":"IF(ISBLANK(氏名・出欠等!C6),\"\",氏名・出欠等!C6)","v":""}]
[null,2,{"$f":"IF(ISBLANK(氏名・出欠等!C7),\"\",氏名・出欠等!C7)","v":""}]
[null,3,{"$f":"IF(ISBLANK(氏名・出欠等!C8),\"\",氏名・出欠等!C8)","v":""}]
[null,4,{"$f":"IF(ISBLANK(氏名・出欠等!C9),\"\",氏名・出欠等!C9)","v":""}]
[null,5,{"$f":"IF(ISBLANK(氏名・出欠等!C10),\"\",氏名・出欠等!C10)","v":""}]
[null,6,{"$f":"IF(ISBLANK(氏名・出欠等!C11),\"\",氏名・出欠等!C11)","v":""}]
[null,7,{"$f":"IF(ISBLANK(氏名・出欠等!C12),\"\",氏名・出欠等!C12)","v":""}]
[null,8,{"$f":"IF(ISBLANK(氏名・出欠等!C13),\"\",氏名・出欠等!C13)","v":""}]
[null,9,{"$f":"IF(ISBLANK(氏名・出欠等!C14),\"\",氏名・出欠等!C14)","v":""}]
[null,10,{"$f":"IF(ISBLANK(氏名・出欠等!C15),\"\",氏名・出欠等!C15)","v":""}]
[null,11,{"$f":"IF(ISBLANK(氏名・出欠等!C16),\"\",氏名・出欠等!C16)","v":""}]
[null,12,{"$f":"IF(ISBLANK(氏名・出欠等!C17),\"\",氏名・出欠等!C17)","v":""}]
[null,13,{"$f":"IF(ISBLANK(氏名・出欠等!C18),\"\",氏名・出欠等!C18)","v":""}]
[null,14,{"$f":"IF(ISBLANK(氏名・出欠等!C19),\"\",氏名・出欠等!C19)","v":""}]
[null,15,{"$f":"IF(ISBLANK(氏名・出欠等!C20),\"\",氏名・出欠等!C20)","v":""}]
[null,16,{"$f":"IF(ISBLANK(氏名・出欠等!C21),\"\",氏名・出欠等!C21)","v":""}]
[null,17,{"$f":"IF(ISBLANK(氏名・出欠等!C22),\"\",氏名・出欠等!C22)","v":""}]
[null,18,{"$f":"IF(ISBLANK(氏名・出欠等!C23),\"\",氏名・出欠等!C23)","v":""}]
[null,19,{"$f":"IF(ISBLANK(氏名・出欠等!C24),\"\",氏名・出欠等!C24)","v":""}]
[null,20,{"$f":"IF(ISBLANK(氏名・出欠等!C25),\"\",氏名・出欠等!C25)","v":""}]
[null,21,{"$f":"IF(ISBLANK(氏名・出欠等!C26),\"\",氏名・出欠等!C26)","v":""}]
[null,22,{"$f":"IF(ISBLANK(氏名・出欠等!C27),\"\",氏名・出欠等!C27)","v":""}]
[null,23,{"$f":"IF(ISBLANK(氏名・出欠等!C28),\"\",氏名・出欠等!C28)","v":""}]
[null,24,{"$f":"IF(ISBLANK(氏名・出欠等!C29),\"\",氏名・出欠等!C29)","v":""}]
[null,25,{"$f":"IF(ISBLANK(氏名・出欠等!C30),\"\",氏名・出欠等!C30)","v":""}]
[null,26,{"$f":"IF(ISBLANK(氏名・出欠等!C31),\"\",氏名・出欠等!C31)","v":""}]
[null,27,{"$f":"IF(ISBLANK(氏名・出欠等!C32),\"\",氏名・出欠等!C32)","v":""}]
[null,28,{"$f":"IF(ISBLANK(氏名・出欠等!C33),\"\",氏名・出欠等!C33)","v":""}]
[null,29,{"$f":"IF(ISBLANK(氏名・出欠等!C34),\"\",氏名・出欠等!C34)","v":""}]
[null,30,{"$f":"IF(ISBLANK(氏名・出欠等!C35),\"\",氏名・出欠等!C35)","v":""}]
[null,31,{"$f":"IF(ISBLANK(氏名・出欠等!C36),\"\",氏名・出欠等!C36)","v":""}]
[null,32,{"$f":"IF(ISBLANK(氏名・出欠等!C37),\"\",氏名・出欠等!C37)","v":""}]
[null,33,{"$f":"IF(ISBLANK(氏名・出欠等!C38),\"\",氏名・出欠等!C38)","v":""}]
[null,34,{"$f":"IF(ISBLANK(氏名・出欠等!C39),\"\",氏名・出欠等!C39)","v":""}]
[null,35,{"$f":"IF(ISBLANK(氏名・出欠等!C40),\"\",氏名・出欠等!C40)","v":""}]
[null,36,{"$f":"IF(ISBLANK(氏名・出欠等!C41),\"\",氏名・出欠等!C41)","v":""}]
[null,37,{"$f":"IF(ISBLANK(氏名・出欠等!C42),\"\",氏名・出欠等!C42)","v":""}]
[null,38,{"$f":"IF(ISBLANK(氏名・出欠等!C43),\"\",氏名・出欠等!C43)","v":""}]
[null,39,{"$f":"IF(ISBLANK(氏名・出欠等!C44),\"\",氏名・出欠等!C44)","v":""}]
[null,40,{"$f":"IF(ISBLANK(氏名・出欠等!C45),\"\",氏名・出欠等!C45)","v":""}]
[null,41,{"$f":"IF(ISBLANK(氏名・出欠等!C46),\"\",氏名・出欠等!C46)","v":""}]
[null,42,{"$f":"IF(ISBLANK(氏名・出欠等!C47),\"\",氏名・出欠等!C47)","v":""}]

{"sheet":"総合所見等","index":4,"n_rows":47,"n_cols":11,"rows_kept":47,"cut":false,"hidden":false,"merged":[[1,10,3,12],[2,1,3,1],[2,3,3,3],[2,2,3,2],[2,7,2,8],[1,4,1,6]]}
[]
[null,null,"は鹿児島高校の調査書に必要な部分です。第一希望を入力する欄はこのシートの一番右",null,"※ 公立高校調査書用です。",null,null,null,null,null,"数字１を入力すると\n調　査　書　に\n○ 印 がつきます。"]
[null,"NO"," 氏 名","総合所見及び指導上参考となる諸事項","総合的な学習の時間の記録","総合的な学習の時間の記録 ","総合的な学習の時間の記録  ","本校第一希望"]
[null,null,null,null,"第１学年","第２学年","第３学年","公立私立\n含めて","私立高校\nの 中 で"]
[null,"例","津曲　花子","○○○部の主将として、部全体をよくまとめた。",null,null,null,1]
[null,1,{"$f":"IF(ISBLANK(氏名・出欠等!C6),\"\",氏名・出欠等!C6)","v":""}]
[null,2,{"$f":"IF(ISBLANK(氏名・出欠等!C7),\"\",氏名・出欠等!C7)","v":""}]
[null,3,{"$f":"IF(ISBLANK(氏名・出欠等!C8),\"\",氏名・出欠等!C8)","v":""}]
[null,4,{"$f":"IF(ISBLANK(氏名・出欠等!C9),\"\",氏名・出欠等!C9)","v":""}]
[null,5,{"$f":"IF(ISBLANK(氏名・出欠等!C10),\"\",氏名・出欠等!C10)","v":""}]
[null,6,{"$f":"IF(ISBLANK(氏名・出欠等!C11),\"\",氏名・出欠等!C11)","v":""}]
[null,7,{"$f":"IF(ISBLANK(氏名・出欠等!C12),\"\",氏名・出欠等!C12)","v":""}]
[null,8,{"$f":"IF(ISBLANK(氏名・出欠等!C13),\"\",氏名・出欠等!C13)","v":""}]
[null,9,{"$f":"IF(ISBLANK(氏名・出欠等!C14),\"\",氏名・出欠等!C14)","v":""}]
[null,10,{"$f":"IF(ISBLANK(氏名・出欠等!C15),\"\",氏名・出欠等!C15)","v":""}]
[null,11,{"$f":"IF(ISBLANK(氏名・出欠等!C16),\"\",氏名・出欠等!C16)","v":""}]
[null,12,{"$f":"IF(ISBLANK(氏名・出欠等!C17),\"\",氏名・出欠等!C17)","v":""}]
[null,13,{"$f":"IF(ISBLANK(氏名・出欠等!C18),\"\",氏名・出欠等!C18)","v":""}]
[null,14,{"$f":"IF(ISBLANK(氏名・出欠等!C19),\"\",氏名・出欠等!C19)","v":""}]
[null,15,{"$f":"IF(ISBLANK(氏名・出欠等!C20),\"\",氏名・出欠等!C20)","v":""}]
[null,16,{"$f":"IF(ISBLANK(氏名・出欠等!C21),\"\",氏名・出欠等!C21)","v":""}]
[null,17,{"$f":"IF(ISBLANK(氏名・出欠等!C22),\"\",氏名・出欠等!C22)","v":""}]
[null,18,{"$f":"IF(ISBLANK(氏名・出欠等!C23),\"\",氏名・出欠等!C23)","v":""}]
[null,19,{"$f":"IF(ISBLANK(氏名・出欠等!C24),\"\",氏名・出欠等!C24)","v":""}]
[null,20,{"$f":"IF(ISBLANK(氏名・出欠等!C25),\"\",氏名・出欠等!C25)","v":""}]
[null,21,{"$f":"IF(ISBLANK(氏名・出欠等!C26),\"\",氏名・出欠等!C26)","v":""}]
[null,22,{"$f":"IF(ISBLANK(氏名・出欠等!C27),\"\",氏名・出欠等!C27)","v":""}]
[null,23,{"$f":"IF(ISBLANK(氏名・出欠等!C28),\"\",氏名・出欠等!C28)","v":""}]
[null,24,{"$f":"IF(ISBLANK(氏名・出欠等!C29),\"\",氏名・出欠等!C29)","v":""}]
[null,25,{"$f":"IF(ISBLANK(氏名・出欠等!C30),\"\",氏名・出欠等!C30)","v":""}]
[null,26,{"$f":"IF(ISBLANK(氏名・出欠等!C31),\"\",氏名・出欠等!C31)","v":""}]
[null,27,{"$f":"IF(ISBLANK(氏名・出欠等!C32),\"\",氏名・出欠等!C32)","v":""}]
[null,28,{"$f":"IF(ISBLANK(氏名・出欠等!C33),\"\",氏名・出欠等!C33)","v":""}]
[null,29,{"$f":"IF(ISBLANK(氏名・出欠等!C34),\"\",氏名・出欠等!C34)","v":""}]
[null,30,{"$f":"IF(ISBLANK(氏名・出欠等!C35),\"\",氏名・出欠等!C35)","v":""}]
[null,31,{"$f":"IF(ISBLANK(氏名・出欠等!C36),\"\",氏名・出欠等!C36)","v":""}]
[null,32,{"$f":"IF(ISBLANK(氏名・出欠等!C37),\"\",氏名・出欠等!C37)","v":""}]
[null,33,{"$f":"IF(ISBLANK(氏名・出欠等!C38),\"\",氏名・出欠等!C38)","v":""}]
[null,34,{"$f":"IF(ISBLANK(氏名・出欠等!C39),\"\",氏名・出欠等!C39)","v":""}]
[null,35,{"$f":"IF(ISBLANK(氏名・出欠等!C40),\"\",氏名・出欠等!C40)","v":""}]
[null,36,{"$f":"IF(ISBLANK(氏名・出欠等!C41),\"\",氏名・出欠等!C41)","v":""}]
[null,37,{"$f":"IF(ISBLANK(氏名・出欠等!C42),\"\",氏名・出欠等!C42)","v":""}]
[null,38,{"$f":"IF(ISBLANK(氏名・出欠等!C43),\"\",氏名・出欠等!C43)","v":""}]
[null,39,{"$f":"IF(ISBLANK(氏名・出欠等!C44),\"\",氏名・出欠等!C44)","v":""}]
[null,40,{"$f":"IF(ISBLANK(氏名・出欠等!C45),\"\",氏名・出欠等!C45)","v":""}]
[null,41,{"$f":"IF(ISBLANK(氏名・出欠等!C46),\"\",氏名・出欠等!C46)","v":""}]
[null,42,{"$f":"IF(ISBLANK(氏名・出欠等!C47),\"\",氏名・出欠等!C47)","v":""}]

{"sheet":"鹿高調査書","index":5,"n_rows":43,"n_cols":30,"rows_kept":43,"cut":false,"hidden":false,"merged":[[7,23,7,28],[16,3,17,3],[16,1,18,2],[16,12,16,14],[16,15,16,26],[17,11,17,22],[17,23,17,24],[17,26,17,28],[11,1,11,3],[12,1,14,3],[9,20,10,20],[11,20,14,20],[9,1,10,3],[11,4,11,12],[12,4,14,12],[11,13,14,14],[26,26,26,28],[27,26,27,28],[27,22,27,25],[26,22,26,25],[9,13,10,14],[23,12,23,15],[9,28,10,28],[9,25,10,27],[9,21,10,22],[11,27,14,27],[20,21,22,21],[18,12,18,22],[21,17,21,18],[11,28,14,28],[11,26,14,26],[11,25,14,25],[31,23,31,28],[32,23,32,28],[29,18,29,20],[29,23,29,28],[30,21,30,22],[31,21,31,22],[32,21,32,22],[20,1,24,1],[20,2,22,2],[20,5,20,6],[30,4,30,6],[20,7,20,8],[22,7,22,8],[11,15,14,19],[31,4,31,6],[29,4,29,6],[25,3,27,21],[24,5,24,6],[23,5,23,6],[41,27,42,27],[42,22,42,26],[25,1,27,2],[40,6,40,7],[37,3,38,20],[30,18,30,20],[30,23,30,28],[35,9,35,10],[35,12,35,20],[29,21,29,22],[30,7,30,17],[31,7,31,17],[29,7,29,17],[35,1,35,8],[35,21,35,27],[29,1,32,2],[2,29,8,30],[10,29,14,30],[25,22,25,28],[6,8,7,22],[24,12,24,15],[24,16,24,19],[24,7,24,8],[11,23,14,23],[9,23,10,24],[9,16,10,18],[24,9,24,10],[11,24,14,24],[20,22,24,28],[11,21,14,22],[23,9,23,10],[23,16,23,19],[2,23,3,24],[2,25,3,28],[2,2,3,22],[42,8,42,20],[9,4,10,12],[23,7,23,8],[21,13,21,14],[22,9,22,10],[22,5,22,6],[32,18,32,20],[32,7,32,17],[31,18,31,20],[40,9,40,10],[32,4,32,6],[20,9,20,10],[20,20,22,20]]}
[]
[null,"平成30年度　鹿児島高等学校入学試験"]
[null,null,"　　　　　　　　調　査　書",null,null,null,null,null,null,null,null,null,null,null,null,null,null,null,null,null,null,null,null,"試験会場",null,{"$f":"利用方法!J71","v":""},null,null,null,"一人ひとり印刷\nの場合\n印刷したい生徒の\n番号を番号の欄に\n入力して印刷して\nください。"]
[]
[]
[]
[null,null,null,null,null,null,null,null,{"$f":"利用方法!G69","v":""}]
[null,null,null,null,null,null,null,null,null,null,null,null,null,null,null,null,null,null,null,null,null,null,null,"※ の欄は記入しないでください。"]
[]
[null,"中学校名",null,null,{"$f":"IF(ISBLANK(共通入力!F6),\"\",共通入力!F6)","v":"鹿児島市立　○○中学校"},null,null,null,null,null,null,null,null,"組",null,null,"番号",null,null,null,"性別","受　験\n番　号",null,"※",null,null,null,null,"番"]
[null,null,null,null,null,null,null,null,null,null,null,null,null,null,null,null,null,null,null,null,null,null,null,null,null,null,null,null,null,"一斉印刷の場合\nシート\"一斉印刷\"\nをご覧ください。"]
[null,"ふ り が な",null,null,{"$f":"利用方法!E69","v":""},null,null,null,null,null,null,null,null,{"$f":"IF(ISBLANK(共通入力!F8),\"\",共通入力!F8)","v":"○"},null,null,null,null,null,null,{"$f":"利用方法!F69","v":""},"平　成",null,{"$f":"利用方法!H69","v":""},"年",{"$f":"利用方法!I69","v":""},"月",{"$f":"利用方法!J69","v":""},"日生"]
[null,"氏　　　　名",null,null,{"$f":"利用方法!D69","v":""}]
[]
[]
[]
[null,"経　歴",null,"中学校","平成",{"$f":"利用方法!K69","v":""},"年",{"$f":"利用方法!L69","v":""},"月",{"$f":"利用方法!M69","v":""},"日",null,null,null,null,{"$f":"利用方法!N69","v":""},null,null,null,null,null,null,null,null,null,null,null,"入学"]
[null,null,null,null,"平成",{"$f":"利用方法!O69","v":""},"年",{"$f":"利用方法!P69","v":""},"月",{"$f":"利用方法!Q69","v":""},"日",{"$f":"利用方法!R69","v":""},null,null,null,null,null,null,null,null,null,null,null,"へ転入学",null,"理由",{"$f":"利用方法!S69","v":""}]
[null,null,null,null,"平成",{"$f":"利用方法!T69","v":""},"年",{"$f":"利用方法!U69","v":""},"月",{"$f":"利用方法!V69","v":""},"日",null,"卒業見込み  ・  卒業  "]
[]
[null,"学習の記録","教科","国","社","数",null,"理",null,"音",null,"美",null,"保","体",null,null,"技","家",null,"外国語",null,"　・ 評定は２学期末現在で記入\n　   （卒業生は学年末）\n"]
[null,null,null,null,null,null,null,null,null,null,null,null,null,null,null,null,null,"・"]
[null,null,null,"語","会","学",null,"科",null,"楽",null,"術",null,"健","育",null,null,"術","庭"]
[null,null,"必修",{"$f":"利用方法!BN74","v":""},{"$f":"利用方法!BO74","v":""},{"$f":"利用方法!BP74","v":""},null,{"$f":"利用方法!BQ74","v":""},null,{"$f":"利用方法!BS74","v":""},null,{"$f":"利用方法!BT74","v":""},{"$f":"利用方法!BU74","v":""},null,null,null,{"$f":"利用方法!BV74","v":""},null,null,null,{"$f":"利用方法!BR74","v":""}]
[null,null,"選択",{"$f":"利用方法!BY74","v":""},{"$f":"利用方法!CB74","v":""},{"$f":"利用方法!CE74","v":""},null,{"$f":"利用方法!CH74","v":""},null,{"$f":"利用方法!CK74","v":""},null,{"$f":"利用方法!CN74","v":""},{"$f":"利用方法!CQ74","v":""},null,null,null,{"$f":"利用方法!CT74","v":""},null,null,null,{"$f":"利用方法!CW74","v":""}]
[null,"　参考となる諸事項\n　総合所見及び指導上",null,{"$f":"利用方法!C71","v":""},null,null,null,null,null,null,null,null,null,null,null,null,null,null,null,null,null,null,"鹿児島高校入学が第一希望の場合\n下欄に○印をつけてください。\n（入学を保証するものではありません）"]
[null,null,null,null,null,null,null,null,null,null,null,null,null,null,null,null,null,null,null,null,null,null,"公立・私立両高校の\n中で鹿児島高校入学が\n第一希望",null,null,null,{"$f":"IF((利用方法!G71)=1,\"○\",\"\")","v":""}]
[null,null,null,null,null,null,null,null,null,null,null,null,null,null,null,null,null,null,null,null,null,null,"私立高校の中では\n鹿児島高校入学が\n第一希望",null,null,null,{"$f":"IF((利用方法!H71=1),\"○\",\"\")","v":""}]
[]
[null,"欠席等の記録",null,"学年","欠席日数",null,null,"欠　席　の　主　な　理　由",null,null,null,null,null,null,null,null,null,null,"遅刻の回数",null,null,"早退の回数",null,"遅刻  ・ 早退の主な理由"]
[null,null,null,1,{"$f":"利用方法!W69","v":""},null,null,{"$f":"利用方法!AC69","v":""},null,null,null,null,null,null,null,null,null,null,{"$f":"利用方法!AF69","v":""},null,null,{"$f":"利用方法!AI69","v":""},null,{"$f":"利用方法!AL69","v":""}]
[null,null,null,2,{"$f":"利用方法!X69","v":""},null,null,{"$f":"利用方法!AD69","v":""},null,null,null,null,null,null,null,null,null,null,{"$f":"利用方法!AG69","v":""},null,null,{"$f":"利用方法!AJ69","v":""},null,{"$f":"利用方法!AM69","v":""}]
[null,null,null,3,{"$f":"利用方法!Y69","v":""},null,null,{"$f":"利用方法!AE69","v":""},null,null,null,null,null,null,null,null,null,null,{"$f":"利用方法!AH69","v":""},null,null,{"$f":"利用方法!AK69","v":""},null,{"$f":"利用方法!AN69","v":""}]
[]
[]
[null,"出願者の担任氏名",null,null,null,null,null,null,null,null,null,null,null,null,null,null,null,null,null,null,null,{"$f":"IF(ISBLANK(共通入力!$F$10),\"\",共通入力!$F$10)","v":"○○　○○"},null,null,null,null,null,null,"印"]
[]
[null,null,null,"上  記  の  と  お  り  証  明  す  る"]
[]
[]
[null,null,null,"平成",{"$f":"IF(ISBLANK(共通入力!G14),\"\",共通入力!G14)","v":30},"年",{"$f":"IF(ISBLANK(共通入力!I14),\"\",共通入力!I14)","v":1},null,"月",{"$f":"IF(ISBLANK(共通入力!K14),\"\",共通入力!K14)","v":6},null,"日"]
[null,null,null,null,null,null,null,null,null,null,null,null,null,null,null,null,null,null,null,null,null,null,null,null,null,null,null,"職印"]
[null,null,null,null,null,null,null,null,{"$f":"IF(ISBLANK(共通入力!F6),\"\",共通入力!F6)","v":"鹿児島市立　○○中学校"},null,null,null,null,null,null,null,null,null,null,null,null,"校長",{"$f":"IF(ISBLANK(共通入力!F12),\"\",共通入力!F12)","v":"○○　○○○"}]

{"sheet":"推薦書","index":6,"n_rows":39,"n_cols":30,"rows_kept":39,"cut":false,"hidden":false,"merged":[[14,26,17,26],[14,27,17,27],[14,28,17,28],[12,28,13,28],[14,15,17,19],[3,1,3,5],[4,1,4,7],[5,21,5,28],[14,1,17,3],[6,23,6,27],[6,21,6,22],[7,4,7,25],[12,1,13,3],[10,1,10,3],[12,23,13,24],[14,21,17,22],[12,25,13,27],[14,23,17,23],[14,24,17,24],[14,25,17,25],[20,11,20,22],[9,11,9,21],[12,4,13,12],[12,20,13,20],[12,21,13,22],[14,20,17,20],[19,15,19,26],[20,23,20,24],[20,26,20,28],[14,4,17,12],[12,13,13,14],[14,13,17,14],[12,16,13,18],[10,4,10,17],[10,18,10,21],[10,22,10,28],[44,27,45,27],[45,8,45,21],[45,22,45,26],[19,1,21,3],[21,13,21,14],[32,1,35,2],[34,4,34,6],[40,3,41,20],[43,6,43,7],[43,9,43,10],[21,17,21,24],[28,1,30,2],[28,3,30,28],[32,23,32,28],[33,4,33,6],[33,7,33,17],[33,18,33,20],[25,5,25,6],[25,7,25,8],[27,5,27,6],[27,7,27,8],[32,7,32,17],[32,18,32,20],[27,16,27,19],[26,5,26,6],[26,7,26,8],[26,9,26,10],[26,12,26,15],[26,16,26,19],[2,29,4,30],[1,1,1,28],[2,21,2,22],[23,9,23,10],[23,20,25,20],[23,21,25,21],[23,22,27,28],[24,13,24,14],[24,17,24,18],[25,9,25,10],[27,9,27,10],[27,12,27,15],[23,1,27,1],[23,2,25,2],[23,5,23,6],[23,7,23,8],[38,24,38,27],[38,21,38,23],[32,4,32,6],[34,7,34,17],[34,18,34,20],[34,21,34,22],[32,21,32,22],[34,23,34,28],[35,4,35,6],[33,23,33,28],[35,7,35,17],[35,18,35,20],[35,21,35,22],[35,23,35,28],[38,1,38,20],[33,21,33,22]]}
[null,"平成30年度　鹿児島高等学校推薦入試"]
[null,"推　　薦　　書"]
[null,null,null,null,null,null,null,null,null,null,null,null,null,null,null,null,null,null,null,null,null,"平成",null,{"$f":"IF(ISBLANK(共通入力!G16),\"\",共通入力!G16)","v":30},"年",{"$f":"IF(ISBLANK(共通入力!I16),\"\",共通入力!I16)","v":1},"月",{"$f":"IF(ISBLANK(共通入力!K16),\"\",共通入力!K16)","v":6},"日","一人ひとり印刷\nのみです。\n印刷したい生徒の\n番号を入力して\n印刷してください。"]
[null,"鹿児島高等学校"]
[null,"　　校長　德丸　喜代志　殿"]
[null,null,null,null,null,null,null,null,null,null,null,null,null,null,null,null,null,null,null,null,null,{"$f":"IF(ISBLANK(共通入力!F6),\"\",共通入力!F6)","v":"鹿児島市立　○○中学校"}]
[null,null,null,null,null,null,null,null,null,null,null,null,null,null,null,null,null,null,null,null,null,"校長",null,{"$f":"IF(ISBLANK(共通入力!F12),\"\",共通入力!F12)","v":"○○　○○○"},null,null,null,null,"職印"]
[]
[null,"    下記記載に相違ないので、貴校への入学適格者として推薦します。"]
[null,null,null,null,null,null,null,null,null,null,null,"記",null,null,null,null,null,null,null,null,null,null,null,null,null,null,null,null,"※の欄は記入しないでください。"]
[null,"試験区分",null,null,{"$f":"利用方法!G90","v":""},null,null,null,null,null,null,null,null,null,null,null,null,null,"受験学科",null,null,null,{"$f":"利用方法!G88","v":""}]
[]
[null,"ふりがな",null,null,{"$f":"利用方法!E88","v":""},null,null,null,null,null,null,null,null,"組",null,null,"番号",null,null,null,"性別","受験番号",null,"※",null,null,null,null,"番"]
[]
[null,"氏　　　　名",null,null,{"$f":"利用方法!D88","v":""},null,null,null,null,null,null,null,null,{"$f":"IF(ISBLANK(共通入力!F8),\"\",共通入力!F8)","v":"○"},null,null,null,null,null,null,{"$f":"利用方法!F88","v":""},"平　成",null,{"$f":"利用方法!H88","v":""},"年",{"$f":"利用方法!I88","v":""},"月",{"$f":"利用方法!J88","v":""},"日生"]
[]
[]
[]
[null,null,null,null,null,null,null,null,null,null,null,null,null,null,null,10]
[null,"経　歴",null,null,"平成",{"$f":"利用方法!K88","v":""},"年",{"$f":"利用方法!L88","v":""},"月",{"$f":"利用方法!M88","v":""},"日",null,null,null,null,{"$f":"利用方法!N88","v":""},null,null,null,null,null,null,null,null,null,null,null,"入学"]
[null,null,null,null,"平成",{"$f":"利用方法!O88","v":""},"年",{"$f":"利用方法!P88","v":""},"月",{"$f":"利用方法!Q88","v":""},"日",{"$f":"利用方法!R88","v":""},null,null,null,null,null,null,null,null,null,null,null,"へ転入学",null,"理由",{"$f":"利用方法!S88","v":""}]
[null,null,null,null,"平成",{"$f":"利用方法!T88","v":""},"年",{"$f":"利用方法!U88","v":""},"月",{"$f":"利用方法!V88","v":""},"日",null,"日",null,null,null,null,"卒 業 見 込 み "]
[]
[null,"学習の記録","教科","国","社","数",null,"理",null,"音",null,"美",null,"保","体",null,null,"技","家",null,"外国語","評定\n平均値\n（5教科）"," ・評定は２学期末現在で記入\n\n ・英数科受験の場合は評定平均値（5教科）\n 　も記入"]
[null,null,null,null,null,null,null,null,null,null,null,null,null,null,null,null,null,"・"]
[null,null,null,"語","会","学",null,"科",null,"楽",null,"術",null,"健","育",null,null,"術","庭"]
[null,null,"必修",{"$f":"利用方法!BN93","v":""},{"$f":"利用方法!BO93","v":""},{"$f":"利用方法!BP93","v":""},null,{"$f":"利用方法!BQ93","v":""},null,{"$f":"利用方法!BS93","v":""},null,{"$f":"利用方法!BT93","v":""},{"$f":"利用方法!BU93","v":""},null,null,null,{"$f":"利用方法!BV93","v":""},null,null,null,{"$f":"利用方法!BR93","v":""},{"$f":"IF(ISNUMBER(D27),(D27+E27+F27+H27+U27)/5,\"\")","v":""}]
[null,null,"選択",{"$f":"利用方法!BY93","v":""},{"$f":"利用方法!CB93","v":""},{"$f":"利用方法!CE93","v":""},null,{"$f":"利用方法!CH93","v":""},null,{"$f":"利用方法!CK93","v":""},null,{"$f":"利用方法!CN93","v":""},{"$f":"利用方法!CQ93","v":""},null,null,null,{"$f":"利用方法!CT93","v":""},null,null,null,{"$f":"利用方法!CW93","v":""}]
[null,"　参考となる諸事項\n　総合所見及び指導上",null,{"$f":"利用方法!C90","v":""}]
[]
[]
[]
[null,"欠席等の記録",null,"学年","欠席日数",null,null,"欠　席　の　主　な　理　由",null,null,null,null,null,null,null,null,null,null,"遅刻の\n回  数",null,null,"早退の\n回  数",null,"遅刻  ・ 早退の主な理由"]
[null,null,null,1,{"$f":"利用方法!W88","v":""},null,null,{"$f":"利用方法!AC88","v":""},null,null,null,null,null,null,null,null,null,null,{"$f":"利用方法!AF88","v":""},null,null,{"$f":"利用方法!AI88","v":""},null,{"$f":"利用方法!AL88","v":""}]
[null,null,null,2,{"$f":"利用方法!X88","v":""},null,null,{"$f":"利用方法!AD88","v":""},null,null,null,null,null,null,null,null,null,null,{"$f":"利用方法!AG88","v":""},null,null,{"$f":"利用方法!AJ88","v":""},null,{"$f":"利用方法!AM88","v":""}]
[null,null,null,3,{"$f":"利用方法!Y88","v":""},null,null,{"$f":"利用方法!AE88","v":""},null,null,null,null,null,null,null,null,null,null,{"$f":"利用方法!AH88","v":""},null,null,{"$f":"利用方法!AK88","v":""},null,{"$f":"利用方法!AN88","v":""}]
[]
[]
[null,"　　　　　　　　　　　　　　　　　　　　　　　　　　記　載　責　任　者",null,null,null,null,null,null,null,null,null,null,null,null,null,null,null,null,null,null,null,"担任氏名",null,null,{"$f":"IF(ISBLANK(共通入力!$F$10),\"\",共通入力!$F$10)","v":"○○　○○"},null,null,null,"印"]

{"sheet":"公立調査書","index":7,"n_rows":35,"n_cols":40,"rows_kept":35,"cut":false,"hidden":false,"merged":[[1,15,1,32],[2,15,2,30],[3,27,4,31],[3,32,4,39],[4,7,5,24],[5,35,6,35],[5,33,6,34],[6,12,6,14],[6,18,6,19],[7,0,7,1],[7,4,7,5],[7,6,7,7],[7,21,7,24],[7,11,7,20],[5,36,6,37],[5,38,6,38],[4,25,6,26],[3,0,6,0],[3,1,3,6],[3,7,3,24],[3,25,3,26],[4,1,5,6],[6,1,6,6],[6,7,6,10],[5,27,6,29],[6,22,6,23],[7,25,7,39],[9,8,9,9],[9,10,9,12],[9,13,9,15],[11,28,11,38],[12,28,12,38],[13,21,13,22],[13,23,13,24],[13,25,13,26],[13,28,13,38],[10,1,10,3],[10,4,10,7],[10,8,10,9],[10,10,10,12],[10,13,10,15],[8,1,9,3],[10,21,10,22],[10,25,10,26],[10,28,10,38],[8,25,9,26],[8,28,8,39],[9,16,9,17],[9,18,9,20],[9,21,9,22],[9,23,9,24],[9,27,18,27],[9,28,9,38],[10,16,10,17],[10,18,10,20],[8,4,8,17],[8,18,8,24],[10,23,10,24],[11,23,11,24],[9,4,9,7],[11,1,11,3],[11,4,11,7],[11,8,11,9],[11,10,11,12],[11,13,11,15],[11,16,18,17],[11,18,11,20],[11,21,11,22],[11,25,11,26],[12,1,12,3],[12,4,12,7],[12,8,12,9],[12,10,12,12],[12,13,12,15],[12,18,12,20],[12,21,12,22],[12,23,12,24],[12,25,12,26],[13,1,13,3],[13,4,13,7],[13,8,13,9],[13,10,13,12],[13,13,13,15],[13,18,13,20],[14,28,14,38],[15,1,15,3],[15,4,15,7],[15,8,15,9],[15,10,15,12],[15,13,15,15],[15,18,15,20],[15,21,15,22],[15,23,15,24],[15,25,15,26],[15,28,15,38],[14,1,14,3],[14,4,14,7],[14,8,14,9],[14,10,14,12],[14,13,14,15],[14,18,14,20],[14,21,14,22],[14,23,14,24],[14,25,14,26],[18,18,18,20],[18,21,18,22],[20,29,20,33],[20,34,20,36],[16,28,16,38],[17,1,17,3],[17,4,17,7],[17,8,17,9],[17,10,17,12],[17,13,17,15],[17,18,17,20],[17,21,17,22],[17,23,17,24],[17,25,17,26],[17,28,17,38],[16,1,16,3],[16,4,16,7],[16,8,16,9],[16,10,16,12],[16,13,16,15],[16,18,16,20],[16,21,16,22],[16,23,16,24],[16,25,16,26],[18,23,18,24],[18,25,18,26],[18,28,18,38],[19,1,20,20],[19,21,20,22],[19,23,20,26],[19,27,22,27],[19,29,19,33],[19,34,19,36],[19,37,19,39],[22,2,22,4],[22,5,23,8],[22,9,23,10],[22,11,23,13],[22,29,22,33],[22,34,22,36],[22,37,22,39],[23,1,23,2],[23,27,28,27],[18,1,18,3],[18,4,18,7],[18,8,18,9],[18,10,18,12],[18,13,18,15],[25,14,25,16],[25,17,25,18],[25,19,25,21],[25,22,25,23],[20,37,20,39],[21,1,21,26],[21,29,21,33],[21,34,21,36],[21,37,21,39],[26,17,26,18],[26,19,26,21],[26,22,26,23],[26,24,26,25],[23,28,28,39],[24,1,24,4],[24,5,24,8],[24,9,24,10],[24,11,24,13],[22,14,23,16],[22,17,23,18],[22,19,23,21],[22,22,23,23],[22,24,23,25],[22,26,23,26],[24,14,24,16],[24,17,24,18],[24,19,24,21],[24,22,24,23],[24,24,24,25],[25,1,25,4],[25,5,25,8],[25,9,25,10],[25,11,25,13],[32,27,32,29],[29,27,29,39],[30,27,30,29],[30,30,30,31],[31,27,31,29],[31,30,31,38],[32,30,32,38],[8,0,31,0],[27,1,31,2],[27,3,27,4],[27,5,27,26],[28,3,28,4],[28,5,28,26],[29,3,31,4],[29,5,31,26],[32,0,33,9],[32,10,33,24],[32,25,33,26],[25,24,25,25],[26,1,26,4],[26,5,26,8],[26,9,26,10],[26,11,26,13],[26,14,26,16]]}
[]
["(様式４)",null,null,null,null,null,null,null,null,null,null,null,null,null,null,"    調　      　　 査　     　 　 書"]
[]
["志願者","ふりがな",null,null,null,null,null,{"$f":"利用方法!E79","v":""},null,null,null,null,null,null,null,null,null,null,null,null,null,null,null,null,null,"性別",null,"※ 受 検 番 号"]
[null,"氏　 　名",null,null,null,null,null,{"$f":"利用方法!D79","v":0},null,null,null,null,null,null,null,null,null,null,null,null,null,null,null,null,null,{"$f":"利用方法!F79","v":""}]
[null,null,null,null,null,null,null,null,null,null,null,null,null,null,null,null,null,null,null,null,null,null,null,null,null,null,null,"学 級 成 績\n一覧表番号",null,null,null,null,null,{"$f":"IF(ISBLANK(共通入力!F8),\"\",共通入力!F8)","v":"○"},null,"組",1,null,"番"]
[null,"生年月日",null,null,null,null,null,"平成",null,null,null,{"$f":"利用方法!H79","v":0},"年",null,null,null,null,{"$f":"利用方法!I79","v":0},"月",null,null,null,{"$f":"利用方法!J79","v":0},null,"日"]
["平成",null,{"$f":"利用方法!T79","v":0},"年",{"$f":"利用方法!U79","v":0},null,"月",null,null,{"$f":"利用方法!V79","v":0},null,"日卒業見込・卒業",null,null,null,null,null,null,null,null,null,"現住所",null,null,null,{"$f":"利用方法!AO79","v":0}]
["  　 　学     習　　　  の     記     録 ","教科",null,null,"観点別学習状況",null,null,null,null,null,null,null,null,null,null,null,null,null,"評     　  定",null,null,null,null,null,null,"※換算点",null,null,"行　動　の　状　況"]
[null,null,null,null,"(1)",null,null,null,"(2)",null,"(3)",null,null,"(4)",null,null,"(5)",null,"第１学年",null,null,"第2学年",null,"第３学年",null,null,null,"　　行動の記録","基本的な生活習慣",null,null,null,null,null,null,null,null,null,null,{"$f":"IF((利用方法!CX84)=1,\"○\",\"\")","v":""}]
[null,"国   語",null,null,{"$f":"利用方法!C84","v":0},null,null,null,{"$f":"利用方法!D84","v":0},null,{"$f":"利用方法!E84","v":0},null,null,{"$f":"利用方法!F84","v":0},null,null,{"$f":"利用方法!G84","v":0},null,{"$f":"利用方法!AV84","v":0},null,null,{"$f":"利用方法!BE84","v":0},null,{"$f":"利用方法!BN84","v":0},null,null,null,null,"健康・体力の向上",null,null,null,null,null,null,null,null,null,null,{"$f":"IF((利用方法!CY84)=1,\"○\",\"\")","v":""}]
[null,"社   会",null,null,{"$f":"利用方法!H84","v":0},null,null,null,{"$f":"利用方法!I84","v":0},null,{"$f":"利用方法!J84","v":0},null,{"$f":"利用方法!P84","v":0},{"$f":"利用方法!K84","v":0},null,null,null,null,{"$f":"利用方法!AW84","v":0},null,null,{"$f":"利用方法!BF84","v":0},null,{"$f":"利用方法!BO84","v":0},null,null,null,null,"自主・自律",null,null,null,null,null,null,null,null,null,null,{"$f":"IF((利用方法!CZ84)=1,\"○\",\"\")","v":""}]
[null,"数   学",null,null,{"$f":"利用方法!M84","v":0},null,null,null,{"$f":"利用方法!N84","v":0},null,{"$f":"利用方法!O84","v":0},null,null,{"$f":"利用方法!P84","v":0},null,null,null,null,{"$f":"利用方法!AX84","v":0},null,null,{"$f":"利用方法!BG84","v":0},null,{"$f":"利用方法!BP84","v":0},null,null,null,null,"責任感",null,null,null,null,null,null,null,null,null,null,{"$f":"IF((利用方法!DA84)=1,\"○\",\"\")","v":""}]
[null,"理   科",null,null,{"$f":"利用方法!R84","v":0},null,null,null,{"$f":"利用方法!S84","v":0},null,{"$f":"利用方法!T84","v":0},null,null,{"$f":"利用方法!U84","v":0},null,null,null,null,{"$f":"利用方法!AY84","v":0},null,null,{"$f":"利用方法!BH84","v":0},null,{"$f":"利用方法!BQ84","v":0},null,null,null,null,"創意工夫",null,null,null,null,null,null,null,null,null,null,{"$f":"IF((利用方法!DB84)=1,\"○\",\"\")","v":""}]
[null,"外国語",null,null,{"$f":"利用方法!W84","v":0},null,null,null,{"$f":"利用方法!X84","v":0},null,{"$f":"利用方法!Y84","v":0},null,null,{"$f":"利用方法!Z84","v":0},null,null,null,null,{"$f":"利用方法!AZ84","v":0},null,null,{"$f":"利用方法!BI84","v":0},null,{"$f":"利用方法!BR84","v":0},null,null,null,null,"思いやり・協力",null,null,null,null,null,null,null,null,null,null,{"$f":"IF((利用方法!DC84)=1,\"○\",\"\")","v":""}]
[null,"音   楽",null,null,{"$f":"利用方法!AB84","v":0},null,null,null,{"$f":"利用方法!AC84","v":0},null,{"$f":"利用方法!AD84","v":0},null,null,{"$f":"利用方法!AE84","v":0},null,null,null,null,{"$f":"利用方法!BA84","v":0},null,null,{"$f":"利用方法!BJ84","v":0},null,{"$f":"利用方法!BS84","v":0},null,null,null,null,"生命尊重・自然愛護",null,null,null,null,null,null,null,null,null,null,{"$f":"IF((利用方法!DD84)=1,\"○\",\"\")","v":""}]
[null,"美   術",null,null,{"$f":"利用方法!AG84","v":0},null,null,null,{"$f":"利用方法!AH84","v":0},null,{"$f":"利用方法!AI84","v":0},null,null,{"$f":"利用方法!AJ84","v":0},null,null,null,null,{"$f":"利用方法!BB84","v":0},null,null,{"$f":"利用方法!BK84","v":0},null,{"$f":"利用方法!BT84","v":0},null,null,null,null,"勤労・奉仕",null,null,null,null,null,null,null,null,null,null,{"$f":"IF((利用方法!DE84)=1,\"○\",\"\")","v":""}]
[null,"保健体育",null,null,{"$f":"利用方法!AL84","v":0},null,null,null,{"$f":"利用方法!AM84","v":0},null,{"$f":"利用方法!AN84","v":0},null,null,{"$f":"利用方法!AO84","v":0},null,null,null,null,{"$f":"利用方法!BC84","v":0},null,null,{"$f":"利用方法!BL84","v":0},null,{"$f":"利用方法!BU84","v":0},null,null,null,null,"公正・公平",null,null,null,null,null,null,null,null,null,null,{"$f":"IF((利用方法!DF84)=1,\"○\",\"\")","v":""}]
[null,"技術・家庭",null,null,{"$f":"利用方法!AQ84","v":0},null,null,null,{"$f":"利用方法!AR84","v":0},null,{"$f":"利用方法!AS84","v":0},null,null,{"$f":"利用方法!AT84","v":0},null,null,null,null,{"$f":"利用方法!BD84","v":0},null,null,{"$f":"利用方法!BM84","v":0},null,{"$f":"利用方法!BV84","v":0},null,null,null,null,"公共心・公徳心",null,null,null,null,null,null,null,null,null,null,{"$f":"IF((利用方法!DG84)=1,\"○\",\"\")","v":""}]
[null,null,null,null,null,null,null,null,null,null,null,null,null,null,null,null,null,null,null,null,null,"※合計",null,null,null,null,null," 出欠の記録","学年","欠席日数",null,null,null,null,"出席日数",null,null,"備　　考"]
[null,null,null,null,null,null,null,null,null,null,null,null,null,null,null,null,null,null,null,null,null,null,null,null,null,null,null,null,1,{"$f":"利用方法!W79","v":0},null,null,null,null,{"$f":"利用方法!Z79","v":0},null,null,{"$f":"利用方法!AC79","v":0}]
[null,"選　択　教　科　",null,null,null,null,null,null,null,null,null,null,null,null,null,null,null,null,null,null,null,null,null,null,null,null,null,null,2,{"$f":"利用方法!X79","v":0},null,null,null,null,{"$f":"利用方法!AA79","v":0},null,null,{"$f":"利用方法!AD79","v":0}]
[null,null,"   教科",null,null,"国　語",null,null,null,"社　会",null,"数　学",null,null,"理　科",null,null,"音　楽",null,"美　術",null,null,"保健体育",null,"技術・家庭",null,"外国語",null,3,{"$f":"利用方法!Y79","v":0},null,null,null,null,{"$f":"利用方法!AB79","v":0},null,null,{"$f":"利用方法!AE79","v":0}]
[null,"学年",null,null,null,null,null,null,null,null,null,null,null,null,null,null,null,null,null,null,null,null,null,null,null,null,null,"  総合所見及び指導上参考となる諸事項",{"$f":"利用方法!C81","v":0}]
[null,"第１学年",null,null,null,{"$f":"利用方法!BW84","v":0},null,null,null,{"$f":"利用方法!BZ84","v":0},null,{"$f":"利用方法!CC84","v":0},null,null,{"$f":"利用方法!CF84","v":0},null,null,{"$f":"利用方法!CI84","v":0},null,{"$f":"利用方法!CL84","v":0},null,null,{"$f":"利用方法!CO84","v":0},null,{"$f":"利用方法!CR84","v":0},null,{"$f":"利用方法!CU84","v":0}]
[null,"第２学年",null,null,null,{"$f":"利用方法!BX84","v":0},null,null,null,{"$f":"利用方法!CA84","v":0},null,{"$f":"利用方法!CD84","v":0},null,null,{"$f":"利用方法!CG84","v":0},null,null,{"$f":"利用方法!CJ84","v":0},null,{"$f":"利用方法!CM84","v":0},null,null,{"$f":"利用方法!CP84","v":0},null,{"$f":"利用方法!CS84","v":0},null,{"$f":"利用方法!CV84","v":0}]
[null,"第３学年",null,null,null,{"$f":"利用方法!BY84","v":0},null,null,null,{"$f":"利用方法!CB84","v":0},null,{"$f":"利用方法!CE84","v":0},null,null,{"$f":"利用方法!CH84","v":0},null,null,{"$f":"利用方法!CK84","v":0},null,{"$f":"利用方法!CN84","v":0},null,null,{"$f":"利用方法!CQ84","v":0},null,{"$f":"利用方法!CT84","v":0},null,{"$f":"利用方法!CW84","v":0}]
[null,"総合的な学習の時間の記録",null,"第１学年",null,{"$f":"利用方法!D81","v":0}]
[null,null,null,"第２学年",null,{"$f":"利用方法!E81","v":0}]
[null,null,null,"第３学年",null,{"$f":"利用方法!F81","v":0},null,null,null,null,null,null,null,null,null,null,null,null,null,null,null,null,null,null,null,null,null," この調査書は､事実に相違ないことを証明する。"]
[null,null,null,null,null,null,null,null,null,null,null,null,null,null,null,null,null,null,null,null,null,null,null,null,null,null,null,"平成",null,null,{"$f":"IF(ISBLANK(共通入力!G14),\"\",共通入力!G14)","v":30},null,"年",{"$f":"IF(ISBLANK(共通入力!I14),\"\",共通入力!I14)","v":1},"月",{"$f":"IF(ISBLANK(共通入力!K14),\"\",共通入力!K14)","v":6},"日"]
[null,null,null,null,null,null,null,null,null,null,null,null,null,null,null,null,null,null,null,null,null,null,null,null,null,null,null,"中学校名",null,null,{"$f":"IF(ISBLANK(共通入力!F6),\"\",共通入力!F6)","v":"鹿児島市立　○○中学校"}]
["　調査書記載者氏名",null,null,null,null,null,null,null,null,null,{"$f":"IF(ISBLANK(共通入力!F10),\"\",共通入力!F10)","v":"○○　○○"},null,null,null,null,null,null,null,null,null,null,null,null,null,null,"印",null,"校長氏名",null,null,{"$f":"IF(ISBLANK(共通入力!F12),\"\",共通入力!F12)","v":"○○　○○○"},null,null,null,null,null,null,null,null," 印"]
[]
["（備考）　※印欄は高等学校で記入する。　　　　　　　　　　　　　　　　"]

{"sheet":"印刷","index":8,"n_rows":32,"n_cols":24,"rows_kept":32,"cut":false,"hidden":false,"merged":[[9,1,9,3],[10,1,10,3],[11,1,11,23],[20,2,20,23]]}
[]
[]
[]
[]
[]
[]
[]
[]
[]
[null,"印　刷"]
[null,"（お願い）　"]
[null,"　　　　　　※　「鹿高調査書」「鹿高推薦書」を 印刷する場合は「生徒募集要項」に綴じ込んである「調査書」「推薦書」の裏側にお願いします。\n　　　　　　※　印刷結果はプリンターで異なります。必ず、プレビューで確認し、必要があればポイント、改行等を調整してください。"]
[]
[null,null,null,null,null,null,null,"推薦書は‘一人ひとり印刷’(利用方法【２】の１））で、推薦書の裏に印刷をお願いします。"]
[null,null,null,"シート”鹿高調査書”、”推薦書”の「番号」またはシート”公立調査書”の「在籍番号（学級成績一覧表番号）」に印刷したい"]
[null,null,null,"生徒番号を打ち込むと、その生徒の調査書データが表示されます。　　",null,null,null,null,null,null,null,null,null,null,null,"ファイル　→　印刷　で印刷して下さい。"]
[]
[]
[null,null,"      次の「鹿高調査書 印刷」、「公立調査書 印刷」 をクリックすると表に在籍番号のある生徒全員の調査書を"]
[null,null,"   　一斉に印刷します。 印刷前に‘確認メッセージ’が表示されます。"]
[null,null,"※ 印刷しない生徒番号は消して下さい。※ 印刷する番号の場所は変えないで下さい。 変えると印刷されません。　"]
[]
[null,null,1,null,null,null,5,null,null,null,null,10,null,null,null,null,15,null,null,null,null,20]
[null,null,1,2,3,4,5,6,7,8,9,10,11,12,13,14,15,16,17,18,19,20]
[null,null,21,22,23,24,25,26,27,28,29,30,31,32,33,34,35,36,37,38,39,40,41,42]
[null,null,21,null,null,null,25,null,null,null,null,30,null,null,null,null,35,null,null,null,null,40]
[]
[]
[null,null,1,null,null,null,5,null,null,null,null,10,null,null,null,null,15,null,null,null,null,20]
[null,null,1,2,3,4,5,6,7,8,9,10,11,12,13,14,15,16,17,18,19,20]
[null,null,21,22,23,24,25,26,27,28,29,30,31,32,33,34,35,36,37,38,39,40,41,42]
[null,null,21,null,null,null,25,null,null,null,null,30,null,null,null,null,35,null,null,null,null,40]